BEGIN:VCALENDAR
VERSION:2.0
PRODID:-//Impronta Etica - ECPv6.15.20//NONSGML v1.0//EN
CALSCALE:GREGORIAN
METHOD:PUBLISH
X-ORIGINAL-URL:https://www.improntaetica.org
X-WR-CALDESC:Eventi per Impronta Etica
REFRESH-INTERVAL;VALUE=DURATION:PT1H
X-Robots-Tag:noindex
X-PUBLISHED-TTL:PT1H
BEGIN:VTIMEZONE
TZID:Europe/Rome
BEGIN:DAYLIGHT
TZOFFSETFROM:+0100
TZOFFSETTO:+0200
TZNAME:CEST
DTSTART:20250330T010000
END:DAYLIGHT
BEGIN:STANDARD
TZOFFSETFROM:+0200
TZOFFSETTO:+0100
TZNAME:CET
DTSTART:20251026T010000
END:STANDARD
BEGIN:DAYLIGHT
TZOFFSETFROM:+0100
TZOFFSETTO:+0200
TZNAME:CEST
DTSTART:20260329T010000
END:DAYLIGHT
BEGIN:STANDARD
TZOFFSETFROM:+0200
TZOFFSETTO:+0100
TZNAME:CET
DTSTART:20261025T010000
END:STANDARD
BEGIN:DAYLIGHT
TZOFFSETFROM:+0100
TZOFFSETTO:+0200
TZNAME:CEST
DTSTART:20270328T010000
END:DAYLIGHT
BEGIN:STANDARD
TZOFFSETFROM:+0200
TZOFFSETTO:+0100
TZNAME:CET
DTSTART:20271031T010000
END:STANDARD
END:VTIMEZONE
BEGIN:VEVENT
DTSTART;VALUE=DATE:20260506
DTEND;VALUE=DATE:20260523
DTSTAMP:20260420T185222
CREATED:20260410T143426Z
LAST-MODIFIED:20260410T143426Z
UID:42784-1778025600-1779494399@www.improntaetica.org
SUMMARY:Festival dello Sviluppo Sostenibile 2026
DESCRIPTION:La decima edizione del Festival a cura di ASviS.\nDal 6 al 22 maggio 2026 si terrà la nuova edizione del Festival dello Sviluppo Sostenibile\, organizzato dall’ASviS con i suoi aderenti\, tra cui Impronta Etica\, e sostenitori. La manifestazione giunge alla sua decima edizione e si caratterizzerà ancora una volta come festival itinerante\, coinvolgendo tutta la penisola con l’obiettivo di rendere l’edizione 2026 uno spazio di discussione e relazione tra scienza\, politica\, cultura e comunità. \nIl programma del Festival\, ancora non definitivo\, viene costruito grazie al al contributo diretto dei territori e della società civile: cittadini\, enti locali\, associazioni\, aziende\, scuole e università organizzano eventi e iniziative locali in forme molto diverse\, dalle conferenze ai laboratori\, dalle tavole rotonde alle mostre artistiche.  \nL’evento di chiusura si svolgerà nella Sala della Regina di Palazzo Montecitorio e vedrà la restituzione pubblica dei risultati della mobilitazione della società italiana\, con proposte rivolte al governo\, al Parlamento e agli altri decisori politici. È possibile candidare il proprio evento sul sito dedicato del Festival al seguente link. \nMaggiori informazioni sono disponibili al seguente link.
URL:https://www.improntaetica.org/evento/festival-dello-sviluppo-sostenibile-2026/
ATTACH;FMTTYPE=image/png:https://www.improntaetica.org/wp-content/uploads/2026/04/download-14.png
END:VEVENT
BEGIN:VEVENT
DTSTART;TZID=Europe/Rome:20260511T093000
DTEND;TZID=Europe/Rome:20260511T123000
DTSTAMP:20260420T185222
CREATED:20260327T094120Z
LAST-MODIFIED:20260413T095017Z
UID:42706-1778491800-1778502600@www.improntaetica.org
SUMMARY:11/05 | Seminario UNIBO “Sostenibilità e innovazione in azienda: i driver della crescita responsabile.”
DESCRIPTION:Come sostenibilità e innovazione generano valore in azienda.\nAnche quest’anno si terrà il seminario pubblico che Impronta Etica organizza con il Corso di Laurea Magistrale “Management dell’Economia Sociale” dell’Università di Bologna\, dal titolo “Sostenibilità e innovazione in azienda: i driver della crescita responsabile”. \nIl seminario si terrà l’11 Maggio 2026 dalle ore 09:15 alle ore 12:30 presso l’AULA 10 del Teaching Hub – Campus di Forlì in Viale Filippo Corridoni\, 20 e online\, rappresentando un’importante occasione per esplorare il tema del rapporto tra sostenibilità e innovazione in azienda\, due elementi sempre più cruciali nelle organizzazioni che fungono l’uno da abilitatore dell’altro. Oggi\, infatti\, un’impresa per essere competitiva e resiliente nel mercato\, è chiamata ad integrare la sostenibilità in modo strategico e sistemico al suo interno. Allo stesso tempo\, l’innovazione consente all’impresa di rimanere efficiente\, dinamica e attrattiva. Questi due mondi si incontrano\, in un binomio sinergico\, che consente l’una di abilitare l’effetto virtuoso dell’altra\, costruendo organizzazioni solide e lungimiranti. \nPartendo da un inquadramento teorico del tema sviluppato da Impronta Etica e il Professor Matteo Mura dell’Università di Bologna\, che affronterà la dimensione aziendale e strategica di questi due mondi; il seminario vuole dare spazio alla voce di chi agisce l’innovazione sostenibile nelle organizzazioni. A questo proposito la mattinata vedrà poi una tavola rotonda composta da Camst ed Emil Banca\, imprese socie di Impronta Etica. \nPer partecipare è necessario iscriversi al seguente link. \nSCARICA IL PROGRAMMA
URL:https://www.improntaetica.org/evento/come-sostenibilita-e-innovazione-generano-valore-in-azienda/
CATEGORIES:Eventi 2026,Eventi 2026
ATTACH;FMTTYPE=image/png:https://www.improntaetica.org/wp-content/uploads/2026/03/ie-unibo.png
END:VEVENT
BEGIN:VEVENT
DTSTART;VALUE=DATE:20260512
DTEND;VALUE=DATE:20260513
DTSTAMP:20260420T185222
CREATED:20260417T153034Z
LAST-MODIFIED:20260417T153034Z
UID:42840-1778544000-1778630399@www.improntaetica.org
SUMMARY:12/05 | Festival ASviS Bologna: AI per il futuro
DESCRIPTION:L’intelligenza artificiale che serve: valore\, lavoro e competitività nei territori.\nSi terrà il 12 maggio dalle ore 10.00 a Bologna presso l’Oratorio San Filippo Neri\, la seconda giornata del Festival dello Sviluppo Sostenibile che esplorerà le conseguenze e le nuove necessità della grande trasformazione portata dall’intelligenza artificiale sulla nostra società. \nCon la consapevolezza degli impatti organizzativi generati nell’immediato dall’intellienza artificiale\, l’evento esplorerà attraverso il confronto tra istituzioni\, esperti ed imprese quali siano gli approcci migliori per garantire un’integrazione dell’AI che sia di supporto a obiettivi di competitività\, inclusione\, qualità del lavoro e sostenibilità. \nLa presenza di un ecosistema dell’innovazione come quello emiliano-romagnolo\, intende dare all’evento la capacità attraverso il dialogo a più voci di fornire una guida operativa per rispondere alle sfide e alle opportunità dell’intelligenza artificiale nel presente e nel futuro. \nAl giorno d’oggi è quindi fondamentale comprendere il ruolo dell’intelligenza artificiale\, analizzandone gli elementi distintivi e cercando di orientarne l’utilizzo per una transizione sostenibile del nostro sistema. \nMaggiori informazioni sul programma saranno disponibili a breve. \nMaggiori informazioni sono disponibili al seguente link.
URL:https://www.improntaetica.org/evento/12-05-festival-asvis-bologna-ai-per-il-futuro/
CATEGORIES:Eventi 2026,Eventi 2026
ATTACH;FMTTYPE=image/png:https://www.improntaetica.org/wp-content/uploads/2026/04/download-14.png
END:VEVENT
BEGIN:VEVENT
DTSTART;VALUE=DATE:20260514
DTEND;VALUE=DATE:20260517
DTSTAMP:20260420T185222
CREATED:20250318T133407Z
LAST-MODIFIED:20260320T104912Z
UID:41858-1778716800-1778975999@www.improntaetica.org
SUMMARY:14/05 - 16/05 | 3ª edizione di Renaissance Economics
DESCRIPTION:Ripensare l’economia civile tra crisi globali\, innovazione e partecipazione.\nLa Renaissance in Economics torna per la sua terza edizione\, in programma dal 14 al 16 maggio 2026 a Roma\, all’interno del Festival Nazionale dell’Economia Civile. L’iniziativa si conferma come uno dei principali appuntamenti internazionali dedicati a chi immagina un’economia in grado di affrontare con responsabilità e visione le sfide del nostro tempo\, partendo dalle comunità e dalla cittadinanza attiva. Infatti\, ogni sessione sarà progettata per favorire il dialogo e la co-progettazione con l’obiettivo di tracciare un percorso comune capace di tradurre i valori dell’economia civile in proposte concrete. \nSi tratta quindi di un’occasione per ascoltare le voci più innovative del mondo accademico e istituzionale\, partecipare attivamente al dibattito condividendo la propria esperienza e raccogliere idee e strumenti utili da applicare nei territori\, nelle imprese e nelle politiche pubbliche. In particolare\, verranno approfonditi i grandi temi della transizione ecologica\, della giustizia sociale e della finanza etica\, oltre a esplorare nuovi modelli di governance partecipata e di economia relazionale. \nLa conferenza invita ricercatori e studiosi a inviare contributi sui nuovi paradigmi economici – entro il 27 febbraio 2026. \nMentre la scadenza per proporre sessioni interattive è prevista per il 28 gennaio 2026. \nMaggiori informazioni sono disponibili al seguente link. \nSCARICA QUI IL CALL FOR PAPERS \n 
URL:https://www.improntaetica.org/evento/3a-edizione-di-renaissance-economics/
CATEGORIES:Eventi 2026,Eventi 2026
ATTACH;FMTTYPE=image/jpeg:https://www.improntaetica.org/wp-content/uploads/2025/11/COPERTINE-ARTICOLI-12-980x551-1-e1762361441861.jpg
END:VEVENT
BEGIN:VEVENT
DTSTART;TZID=Europe/Rome:20260514T100000
DTEND;TZID=Europe/Rome:20260514T160000
DTSTAMP:20260420T185222
CREATED:20260417T131423Z
LAST-MODIFIED:20260417T131423Z
UID:42835-1778752800-1778774400@www.improntaetica.org
SUMMARY:14/05 | Conferenza Nazionale sull’Economia Circolare 2026
DESCRIPTION:Per una panoramica italiana ed europea sull’economia circolare.\nSi terrà dalle 10.00 alle 16 del 14 maggio a Roma\, presso Biblioteca Nazionale Centrale in viale Castro Pretorio 105\, la Conferenza Nazionale sull’Economia Circolare 2026 che vedrà la partecipazione di figure istituzionali\, esperti e ricercatori sul tema dell’economia circolare\, per analizzare lo stato dell’arte e le prospettive future. \nL’evento\, a cura del Circular Economy Network su iniziativa della Fondazione per lo Sviluppo Sostenibile in collaborazione con ENEA\, si suddividerà in due momenti diversi della giornata. Nella prima sessione della mattina verrà presentato il Rapporto sull’economia circolare in Italia 2026\, che verrà discusso alla presenza delle istituzioni\, degli esperti e delle associazioni di categoria per toccarne i punti salienti. \nNella seconda parte della giornata ampio spazio sarà dedicato alle novità normative e alle buone pratiche per una governance dell’economia circolare\, dai territori alle imprese. \nMaggiori informazioni sul programma sono disponibili al seguente link. \nMaggiori informazioni su come iscriversi sono disponibili al seguente link. \nSCARICA IL PROGRAMMA
URL:https://www.improntaetica.org/evento/14-05-conferenza-nazionale-sulleconomia-circolare-2026/
CATEGORIES:Eventi 2026
ATTACH;FMTTYPE=image/png:https://www.improntaetica.org/wp-content/uploads/2022/02/CIRCULAR-ECO.png
END:VEVENT
BEGIN:VEVENT
DTSTART;VALUE=DATE:20260519
DTEND;VALUE=DATE:20260522
DTSTAMP:20260420T185222
CREATED:20260317T174647Z
LAST-MODIFIED:20260320T104949Z
UID:42179-1779148800-1779407999@www.improntaetica.org
SUMMARY:19/05 - 21/05 | Waste Management Europe
DESCRIPTION:Una tre giorni dedicata all’economia circolare.\nSi terrà dal 19 al 21 maggio presso la Fiera di Bologna\, la Waste Management Europe\, un appuntamento di livello europeo dedicato all’approfondimento\, al confronto e allo scambio sul tema dell’economia circolare. \nLa conferenza di tre giorni offrirà la possibilità per le imprese di esplorare a trecentosessanta gradi i diversi aspetti che caratterizzano la gestione degli scarti delle operazioni aziendali e dei processi per non consumare le risorse. Durante l’evento sarà infatti possibile approfondire come è possibile oggi garantire la sostenibilità e l’implementazione di modelli di economia circolare nei business aziendale. \nIl programma\, che sarà disponibile nelle prossime settimane\, esplorerà dalla gestione sostenibile della risorsa idrica sino alla come costruire nuove partnership per città più verdi e resilienti. \nMaggiori informazioni sono disponibili al seguente link.
URL:https://www.improntaetica.org/evento/19-05-21-05-waste-management-europe/
CATEGORIES:Eventi 2026,Eventi 2026
ATTACH;FMTTYPE=image/png:https://www.improntaetica.org/wp-content/uploads/2025/12/Screenshot-2025-12-14-184603.png
END:VEVENT
END:VCALENDAR