BEGIN:VCALENDAR
VERSION:2.0
PRODID:-//Impronta Etica - ECPv6.15.20//NONSGML v1.0//EN
CALSCALE:GREGORIAN
METHOD:PUBLISH
X-ORIGINAL-URL:https://www.improntaetica.org
X-WR-CALDESC:Eventi per Impronta Etica
REFRESH-INTERVAL;VALUE=DURATION:PT1H
X-Robots-Tag:noindex
X-PUBLISHED-TTL:PT1H
BEGIN:VTIMEZONE
TZID:Europe/Rome
BEGIN:DAYLIGHT
TZOFFSETFROM:+0100
TZOFFSETTO:+0200
TZNAME:CEST
DTSTART:20240331T010000
END:DAYLIGHT
BEGIN:STANDARD
TZOFFSETFROM:+0200
TZOFFSETTO:+0100
TZNAME:CET
DTSTART:20241027T010000
END:STANDARD
BEGIN:DAYLIGHT
TZOFFSETFROM:+0100
TZOFFSETTO:+0200
TZNAME:CEST
DTSTART:20250330T010000
END:DAYLIGHT
BEGIN:STANDARD
TZOFFSETFROM:+0200
TZOFFSETTO:+0100
TZNAME:CET
DTSTART:20251026T010000
END:STANDARD
BEGIN:DAYLIGHT
TZOFFSETFROM:+0100
TZOFFSETTO:+0200
TZNAME:CEST
DTSTART:20260329T010000
END:DAYLIGHT
BEGIN:STANDARD
TZOFFSETFROM:+0200
TZOFFSETTO:+0100
TZNAME:CET
DTSTART:20261025T010000
END:STANDARD
END:VTIMEZONE
BEGIN:VEVENT
DTSTART;TZID=Europe/Rome:20251205T090000
DTEND;TZID=Europe/Rome:20251205T160000
DTSTAMP:20260421T043721
CREATED:20251205T132207Z
LAST-MODIFIED:20251205T132207Z
UID:42128-1764925200-1764950400@www.improntaetica.org
SUMMARY:05/12 | evento di clubPro su modelli collaborativi per l'abitare
DESCRIPTION:Il 5 dicembre\, dalle 9 alle 16 all’Opificio Golinelli di Bologna\, si terrà l’evento “Una casa per le lavoratrici e i lavoratori. Modelli collaborativi tra pubblico e privato”\, promosso da Comune e Città metropolitana nell’ambito di clubPRO. L’appuntamento rappresenta una tappa chiave del percorso che riunisce istituzioni e imprese del territorio per sviluppare soluzioni condivise sul tema dell’abitare. \nLa mattinata sarà dedicata al confronto tra amministratori\, aziende e sindacati\, moderato dalla giornalista del Corriere della Sera Rita Querzè\, per discutere il ruolo della casa come leva di attrattività territoriale. Interverranno\, tra gli altri\, il sindaco Matteo Lepore\, la delegata Rosa Grimaldi\, la professoressa Francesca Cognetti e rappresentanti di Fondazione Abitare Bologna e delle principali associazioni di categoria. \nSeguirà la tavola rotonda “Le imprese: una casa per chi lavora”\, con interventi di Emil Banca\, Edison Energia\, Green Soul e Consorzio Colibrì. La sessione mattutina si chiuderà con le conclusioni della vicesindaca Emily Clancy. \nNel pomeriggio invece verrà dato spazio alla fase operativa della sperimentazione clubPRO\, con tavoli di lavoro su alloggi pubblici per il sistema produttivo e su soluzioni abitative temporanee come la riconversione di edifici dismessi. \nL’evento è aperto alla partecipazione; è richiesta la registrazione tramite il form. \nSCARICA QUI IL PROGRAMMA
URL:https://www.improntaetica.org/evento/05-12-evento-di-clubpro-su-modelli-collaborativi-per-labitare/
CATEGORIES:Eventi 2025
ATTACH;FMTTYPE=image/png:https://www.improntaetica.org/wp-content/uploads/2025/12/Screenshot-2025-12-03-175330-e1764780910304.png
END:VEVENT
END:VCALENDAR