BEGIN:VCALENDAR
VERSION:2.0
PRODID:-//Impronta Etica - ECPv6.15.20//NONSGML v1.0//EN
CALSCALE:GREGORIAN
METHOD:PUBLISH
X-WR-CALNAME:Impronta Etica
X-ORIGINAL-URL:https://www.improntaetica.org
X-WR-CALDESC:Eventi per Impronta Etica
REFRESH-INTERVAL;VALUE=DURATION:PT1H
X-Robots-Tag:noindex
X-PUBLISHED-TTL:PT1H
BEGIN:VTIMEZONE
TZID:Europe/Rome
BEGIN:DAYLIGHT
TZOFFSETFROM:+0100
TZOFFSETTO:+0200
TZNAME:CEST
DTSTART:20240331T010000
END:DAYLIGHT
BEGIN:STANDARD
TZOFFSETFROM:+0200
TZOFFSETTO:+0100
TZNAME:CET
DTSTART:20241027T010000
END:STANDARD
BEGIN:DAYLIGHT
TZOFFSETFROM:+0100
TZOFFSETTO:+0200
TZNAME:CEST
DTSTART:20250330T010000
END:DAYLIGHT
BEGIN:STANDARD
TZOFFSETFROM:+0200
TZOFFSETTO:+0100
TZNAME:CET
DTSTART:20251026T010000
END:STANDARD
BEGIN:DAYLIGHT
TZOFFSETFROM:+0100
TZOFFSETTO:+0200
TZNAME:CEST
DTSTART:20260329T010000
END:DAYLIGHT
BEGIN:STANDARD
TZOFFSETFROM:+0200
TZOFFSETTO:+0100
TZNAME:CET
DTSTART:20261025T010000
END:STANDARD
END:VTIMEZONE
BEGIN:VEVENT
DTSTART;TZID=Europe/Rome:20251103T140000
DTEND;TZID=Europe/Rome:20251103T170000
DTSTAMP:20260423T130258
CREATED:20251031T141529Z
LAST-MODIFIED:20251031T141628Z
UID:41836-1762178400-1762189200@www.improntaetica.org
SUMMARY:03/11 | Sostenibilità Sociale: un’agenda condivisa per il futuro
DESCRIPTION:Un evento per i 30 anni di Sodalitas.\nSi terrà il 3 novembre dalle 14.00 alle 17.00 presso l’Auditorium Assolombarda di Via Pantano 9 a Milano l’evento per festeggiare i 30 anni di Fondazione Sodalitas\, associazione di imprese da sempre impegnata nel promuovere la sosteniibilità sociale nelle strategie aziendali e nei territori. \nDurante l’evento si metteranno a fuoco le sfide centrali per promuovere la sostenibilità sociale come leva di crescita economica\, sviluppo e inclusione. Quando mancano solo cinque anni alla conclusione del percorso segnato dall’Agenda ONU 2030\, gli obiettivi di Sostenibilità sociale rimangono infatti lontani dall’essere raggiunti ed è necessario agire per invertire la rotta. \nObiettivo dell’incontro sarà quindi quello di approfondire lo stato attuale e le prospettive della sostenibilità sociale con il contributo del mondo d’impresa\, delle istituzioni e del Terzo Settore\, stakeholder chiave per realizzare una società più equa\, inclusiva e coesa. \nMaggiori informazioni sul programma e su come iscriversi sono disponibili al seguente link. \nSCARICA IL PROGRAMMA
URL:https://www.improntaetica.org/evento/03-11-sostenibilita-sociale-unagenda-condivisa-per-il-futuro/
CATEGORIES:Eventi 2025
ATTACH;FMTTYPE=image/png:https://www.improntaetica.org/wp-content/uploads/2025/10/logo30anni.png
END:VEVENT
END:VCALENDAR