BEGIN:VCALENDAR
VERSION:2.0
PRODID:-//Impronta Etica - ECPv6.15.20//NONSGML v1.0//EN
CALSCALE:GREGORIAN
METHOD:PUBLISH
X-ORIGINAL-URL:https://www.improntaetica.org
X-WR-CALDESC:Eventi per Impronta Etica
REFRESH-INTERVAL;VALUE=DURATION:PT1H
X-Robots-Tag:noindex
X-PUBLISHED-TTL:PT1H
BEGIN:VTIMEZONE
TZID:Europe/Rome
BEGIN:DAYLIGHT
TZOFFSETFROM:+0100
TZOFFSETTO:+0200
TZNAME:CEST
DTSTART:20200329T010000
END:DAYLIGHT
BEGIN:STANDARD
TZOFFSETFROM:+0200
TZOFFSETTO:+0100
TZNAME:CET
DTSTART:20201025T010000
END:STANDARD
BEGIN:DAYLIGHT
TZOFFSETFROM:+0100
TZOFFSETTO:+0200
TZNAME:CEST
DTSTART:20210328T010000
END:DAYLIGHT
BEGIN:STANDARD
TZOFFSETFROM:+0200
TZOFFSETTO:+0100
TZNAME:CET
DTSTART:20211031T010000
END:STANDARD
BEGIN:DAYLIGHT
TZOFFSETFROM:+0100
TZOFFSETTO:+0200
TZNAME:CEST
DTSTART:20220327T010000
END:DAYLIGHT
BEGIN:STANDARD
TZOFFSETFROM:+0200
TZOFFSETTO:+0100
TZNAME:CET
DTSTART:20221030T010000
END:STANDARD
END:VTIMEZONE
BEGIN:VEVENT
DTSTART;VALUE=DATE:20211125
DTEND;VALUE=DATE:20211126
DTSTAMP:20260421T072631
CREATED:20211123T140546Z
LAST-MODIFIED:20211123T140546Z
UID:34136-1637798400-1637884799@www.improntaetica.org
SUMMARY:25/11 | Forum Agroecologia Circolare 
DESCRIPTION:Ambiente\, innovazione e ricerca\, con l’agroecologia al centro.\nIl 25 novembre alle ore 9:30 si terrà il Forum Agroecologia Circolare. Tra gli speaker anche l’impresa socia di Impronta Etica Italia Zuccheri. \nPer partecipare è necessario confermare la propria presenza a questo link . \nLe sessioni saranno trasmesse in diretta su agricoltura.legambiente.it e lanuovaecologia.it
URL:https://www.improntaetica.org/evento/25-11-forum-agroecologia-circolare/
ATTACH;FMTTYPE=image/png:https://www.improntaetica.org/wp-content/uploads/2021/11/std.png
END:VEVENT
END:VCALENDAR