BEGIN:VCALENDAR
VERSION:2.0
PRODID:-//Impronta Etica - ECPv6.15.20//NONSGML v1.0//EN
CALSCALE:GREGORIAN
METHOD:PUBLISH
X-ORIGINAL-URL:https://www.improntaetica.org
X-WR-CALDESC:Eventi per Impronta Etica
REFRESH-INTERVAL;VALUE=DURATION:PT1H
X-Robots-Tag:noindex
X-PUBLISHED-TTL:PT1H
BEGIN:VTIMEZONE
TZID:Europe/Rome
BEGIN:DAYLIGHT
TZOFFSETFROM:+0100
TZOFFSETTO:+0200
TZNAME:CEST
DTSTART:20190331T010000
END:DAYLIGHT
BEGIN:STANDARD
TZOFFSETFROM:+0200
TZOFFSETTO:+0100
TZNAME:CET
DTSTART:20191027T010000
END:STANDARD
BEGIN:DAYLIGHT
TZOFFSETFROM:+0100
TZOFFSETTO:+0200
TZNAME:CEST
DTSTART:20200329T010000
END:DAYLIGHT
BEGIN:STANDARD
TZOFFSETFROM:+0200
TZOFFSETTO:+0100
TZNAME:CET
DTSTART:20201025T010000
END:STANDARD
BEGIN:DAYLIGHT
TZOFFSETFROM:+0100
TZOFFSETTO:+0200
TZNAME:CEST
DTSTART:20210328T010000
END:DAYLIGHT
BEGIN:STANDARD
TZOFFSETFROM:+0200
TZOFFSETTO:+0100
TZNAME:CET
DTSTART:20211031T010000
END:STANDARD
BEGIN:DAYLIGHT
TZOFFSETFROM:+0100
TZOFFSETTO:+0200
TZNAME:CEST
DTSTART:20220327T010000
END:DAYLIGHT
BEGIN:STANDARD
TZOFFSETFROM:+0200
TZOFFSETTO:+0100
TZNAME:CET
DTSTART:20221030T010000
END:STANDARD
BEGIN:DAYLIGHT
TZOFFSETFROM:+0100
TZOFFSETTO:+0200
TZNAME:CEST
DTSTART:20230326T010000
END:DAYLIGHT
BEGIN:STANDARD
TZOFFSETFROM:+0200
TZOFFSETTO:+0100
TZNAME:CET
DTSTART:20231029T010000
END:STANDARD
BEGIN:DAYLIGHT
TZOFFSETFROM:+0100
TZOFFSETTO:+0200
TZNAME:CEST
DTSTART:20240331T010000
END:DAYLIGHT
BEGIN:STANDARD
TZOFFSETFROM:+0200
TZOFFSETTO:+0100
TZNAME:CET
DTSTART:20241027T010000
END:STANDARD
BEGIN:DAYLIGHT
TZOFFSETFROM:+0100
TZOFFSETTO:+0200
TZNAME:CEST
DTSTART:20250330T010000
END:DAYLIGHT
BEGIN:STANDARD
TZOFFSETFROM:+0200
TZOFFSETTO:+0100
TZNAME:CET
DTSTART:20251026T010000
END:STANDARD
BEGIN:DAYLIGHT
TZOFFSETFROM:+0100
TZOFFSETTO:+0200
TZNAME:CEST
DTSTART:20260329T010000
END:DAYLIGHT
BEGIN:STANDARD
TZOFFSETFROM:+0200
TZOFFSETTO:+0100
TZNAME:CET
DTSTART:20261025T010000
END:STANDARD
END:VTIMEZONE
BEGIN:VEVENT
DTSTART;VALUE=DATE:20251010
DTEND;VALUE=DATE:20251012
DTSTAMP:20260421T061045
CREATED:20250908T113301Z
LAST-MODIFIED:20250912T115715Z
UID:41490-1760054400-1760227199@www.improntaetica.org
SUMMARY:10/10 - 11/10 | Le Giornate di Bertinoro 2025
DESCRIPTION:Liberi per…\nSi terrà il 10 e l’11 ottobre presso la Rocca di Bertinoro la venticinquesima edizione delle Giornate di Bertinoro per l’Economia Civile organizzate da AICCON\, un momento di approfondimento e dialogo sul ruolo e le attività del Terzo Settore\, nonché un’occasione di confronto significativo per diverse tipologie di soggetti che\, con differenti approcci\, trattano queste tematiche. \nL’edizione del 2025 si concentrerà sul tema “Liberi per…” volto ad esplorare come in un contesto complesso e incerto come quello odierno sia possibile ancora ripensare alla libertà del desiderare un futuro migliore attraverso un agire civile e collettivo. \nMaggiori informazioni sul programma saranno disponibili nelle prossime settimane. \nMaggiori informazioni sull’evento sono disponibili al seguente link. \nSCARICA IL CONCEPT NOTE
URL:https://www.improntaetica.org/evento/10-10-11-10-le-giornate-di-bertinoro-2025/
CATEGORIES:Eventi 2025
ATTACH;FMTTYPE=image/png:https://www.improntaetica.org/wp-content/uploads/2025/07/Screenshot-2025-07-11-104456-e1752223549292.png
END:VEVENT
BEGIN:VEVENT
DTSTART;TZID=Europe/Rome:20240530T150000
DTEND;TZID=Europe/Rome:20240530T170000
DTSTAMP:20260421T061045
CREATED:20240528T074424Z
LAST-MODIFIED:20240528T074424Z
UID:39175-1717081200-1717088400@www.improntaetica.org
SUMMARY:30/05 | Innovazione trasformativa e sfide territoriali
DESCRIPTION:La Cooperazione protagonista di azioni sistemiche.\nGiovedì 30 maggio 2024 alle ore 15.00 a Bologna c/o il Palazzo della Cooperazione (Via Calzoni 1/3) si terrà l’evento conclusivo del percorso “Innovazione trasformativa e sfide territoriali: la cooperazione protagonista di azioni sistemiche” a cura di Confcooperative Emilia-Romagna in collaborazione con AICCON e Social Seed. \nSarà presentato il percorso di ricerca-azione e collaborazione con le organizzazioni territoriali\, che a partire dal 2016 ha coinvolto Confcooperative Emilia-Romagna con riferimento a quattro tematiche di rilevanza strategica: \n\nmutualismo\ninnovazione aperta\ngiovani talenti\ninnovazione trasformativa\n\nIn particolare\, quest’ultima ha rappresentato l’oggetto di lavoro dell’ultimo biennio e visto il coinvolgimento di tutte le Confcooperative territoriali. \nIl percorso ha  una duplice finalità: da un lato stimolare e far emergere esperienze di sviluppo endogeno esemplari e replicabili\, dall’altro capacitare tutto l’ecosistema che ruota intorno al sistema di Confcooperative ER sul valore che rivestono le strategie sistemiche\, nel legare le comunità e rispondere ai bisogni del territorio. \nIl programma e maggiori informazioni sono disponibili al seguente link. \n 
URL:https://www.improntaetica.org/evento/30-05-innovazione-trasformativa-e-sfide-territoriali/
ATTACH;FMTTYPE=image/png:https://www.improntaetica.org/wp-content/uploads/2024/05/Screenshot-2024-05-28-094402.png
END:VEVENT
BEGIN:VEVENT
DTSTART;TZID=Europe/Rome:20230706T110000
DTEND;TZID=Europe/Rome:20230706T130000
DTSTAMP:20260421T061045
CREATED:20230623T121125Z
LAST-MODIFIED:20230623T121125Z
UID:37137-1688641200-1688648400@www.improntaetica.org
SUMMARY:06/07 | La prospettiva civile dell’impatto sociale
DESCRIPTION:Come non cedere a tecnocrazia e strumentalità.\nSi terrà il 6 luglio dalle ore 11.00 alle ore 13.00 l’ evento promosso da AICCON in collaborazione con il Corso di Laurea Magistrale in Management dell’Economia Sociale dal titolo “La prospettiva civile dell’impatto sociale” presso la Scuola di Economia e Management (Aula Mattarelli) in Piazzale della Vittoria 15 a Forlì. \nLa crescente rilevanza per il Terzo settore e l’economia sociale dell’impatto sociale ha stimolato in AICCON il desiderio di promuovere una riflessione sulle sperimentazioni\, le culture e le pratiche di valutazione. \nL’iniziativa non vuole promuovere un dibattito sugli strumenti e le metriche oggi in uso\, ma si propone di condividere una proposta ed una «postura» che riteniamo oggi indispensabile per non cadere nelle trappole della tecnocrazia e della strumentalità. \nSarà possibile partecipare in presenza (posti limitati) o seguire i lavori in diretta streaming. \nA breve online il programma. \nMaggiori informazioni sono disponibili al seguente link. \nE’ possibile iscriversi in presenza al seguente link. \nE’ possibile iscriversi online al seguente link.
URL:https://www.improntaetica.org/evento/06-07-la-prospettiva-civile-dellimpatto-sociale/
ATTACH;FMTTYPE=image/jpeg:https://www.improntaetica.org/wp-content/uploads/2019/06/aiccon-e1499700644168.jpg
END:VEVENT
BEGIN:VEVENT
DTSTART;VALUE=DATE:20221014
DTEND;VALUE=DATE:20221016
DTSTAMP:20260421T061045
CREATED:20220714T065216Z
LAST-MODIFIED:20220922T091814Z
UID:35183-1665705600-1665878399@www.improntaetica.org
SUMMARY:14/10-15/10 | Le Giornate di Bertinoro per l’Economia Civile
DESCRIPTION:Riconoscersi\, il tema della nuova edizione delle Giornate di Bertinoro per l’Economia Civile.\nDal 2001 AICCON organizza Le Giornate di Bertinoro per l’Economia Civile\, un momento di approfondimento e dialogo sul ruolo e le attività del Terzo Settore\, nonché un’occasione di confronto significativo per diverse tipologie di soggetti che\, con differenti approcci\, trattano le tematiche in questione: Organizzazioni della Società Civile (associazioni\, fondazioni\, cooperative sociali\, roecc.)\, Università\, Istituzioni e Imprese. \nL’edizione 2022 in programma il 14 e 15 ottobre 2022  si svolgerà in presenza presso il Centro Universitario di Bertinoro. \nLa Rocca di Bertinoro torna ad essere un luogo di pensiero e di relazioni – sempre più desiderate e quanto mai opportune – con il l’intento di rincontrare la comunità attiva sui temi dell’evento e di questa XXII edizione. \nMaggiori informazioni al seguente link.
URL:https://www.improntaetica.org/evento/14-15-10-le-giornate-di-bertinoro-per-leconomia-civile/
ATTACH;FMTTYPE=image/png:https://www.improntaetica.org/wp-content/uploads/2020/09/aiccon.png
END:VEVENT
BEGIN:VEVENT
DTSTART;VALUE=DATE:20211015
DTEND;VALUE=DATE:20211017
DTSTAMP:20260421T061045
CREATED:20210816T160423Z
LAST-MODIFIED:20210816T160423Z
UID:33489-1634256000-1634428799@www.improntaetica.org
SUMMARY:15/10 - 16/10 | Le Giornate di Bertinoro per l’Economia Civile
DESCRIPTION:Generazioni. Le sfide di una sostenibilità integrale.\nOgni anno\, all’inizio di ottobre\, sul colle di Bertinoro si incontrano i protagonisti del mondo accademico\, dell’Economia Sociale e del Volontariato e delle istituzioni insieme ad una community di studenti e giovani imprenditori sociali\, per riflettere e conversare sui temi dell’Economia Civile. \nIl tema della XXI edizione è “Generazioni. Le sfide di una sostenibilità integrale“. Tendere ad una Sostenibilità Integrale implica allargare lo spettro della sostenibilità fino ad includere integralmente il fattore umano e comunitario. Una prospettiva che necessita\, inevitabilmente\, di una nuova generazione di istituzioni (aperte)\, politiche (inclusive)\, governance (sperimentali) e alleanze (di scopo) capaci di ridisegnare “il campo da gioco” ed i criteri assunti nelle decisioni economiche e sociali. Una sfida fattibile e reale nella misura in cui saremo in grado rendere l’Economia Civile sguardo e metodo per costruire nel presente\, una prospettiva di futuro buono e desiderato. \nMaggiori informazioni sono disponibili al seguente link.
URL:https://www.improntaetica.org/evento/15-10-16-10-le-giornate-di-bertinoro-per-leconomia-civile/
LOCATION:Bertinoro
ATTACH;FMTTYPE=image/png:https://www.improntaetica.org/wp-content/uploads/2021/08/mega-df-gdb20211-e1629129849840.png
END:VEVENT
BEGIN:VEVENT
DTSTART;VALUE=DATE:20201009
DTEND;VALUE=DATE:20201011
DTSTAMP:20260421T061045
CREATED:20200902T081507Z
LAST-MODIFIED:20200902T081507Z
UID:31926-1602201600-1602374399@www.improntaetica.org
SUMMARY:9/10 – 10/10 | Le Giornate di Bertinoro
DESCRIPTION:World-making. Per un nuovo protagonismo del terzo pilastro.\nOgni anno\, all’inizio di ottobre\, sul colle di Bertinoro si incontrano i protagonisti del mondo accademico\, dell’Economia Sociale e del Volontariato e delle istituzioni insieme ad una community di studenti e giovani imprenditori sociali\, per riflettere e conversare sui temi dell’Economia Civile. \nDa 20 anni Le Giornate di Bertinoro per l’Economia Civile – evento organizzato da AICCON – rappresentano il laboratorio di analisi e confronto che anticipa le sfide future del Terzo settore con l’obiettivo di elaborare un pensiero in grado di innovare paradigmi dello Sviluppo e della Socialità. \nL’edizione del 2020 sarà un’edizione speciale che potrà essere seguita interamente online. Il tema di quest’anno “WORLD-MAKING. Per un nuovo protagonismo del TERZO PILASTRO” si propone di riflettere sulla necessità di un diverso ordine sociale capace di immaginare e generare futuro. \nMaggiori informazioni sono disponibili al seguente link. \nGDB2020 Concept Note
URL:https://www.improntaetica.org/evento/9-10-10-10-le-giornate-di-bertinoro/
ATTACH;FMTTYPE=image/png:https://www.improntaetica.org/wp-content/uploads/2020/09/aiccon.png
END:VEVENT
BEGIN:VEVENT
DTSTART;TZID=Europe/Rome:20200521T100000
DTEND;TZID=Europe/Rome:20200521T130000
DTSTAMP:20260421T061045
CREATED:20200422T121155Z
LAST-MODIFIED:20200422T121155Z
UID:31446-1590055200-1590066000@www.improntaetica.org
SUMMARY:21/05 | La valutazione d’impatto tra teoria e pratica
DESCRIPTION:La valutazione d’impatto: scenari\, opportunità e sfide raccontate dalle imprese.\nImpronta Etica\, Alma Mater Studiorum Università degli Studi di Bologna\, area di campus Cesena e Forlì e AICCON hanno organizzato un seminario\, che si terrà in modalità da remoto\, dal titolo “La valutazione d’impatto tra teoria e pratica. Scenari\, opportunità e sfide raccontate dalle imprese”. \nL’iniziativa si inserisce nella rassegna “I Workshop dell’Economia Sociale” promossa dal Corso di Laurea Magistrale in Management dell’Economia Sociale\, Scuola di Economia e Management di Forlì – Università di Bologna. \nIl seminario intende fornire un approfondimento sulla valutazione e misurazione dell’impatto sociale per le imprese. Partendo da un inquadramento teorico del tema\, si darà poi spazio alla voce di imprese per approfondire come questo si traduce nella pratica. Il seminario si rivolge\, in primo luogo\, agli studenti per favorire un confronto tra il mondo imprenditoriale di oggi e quello di domani. \nPer partecipare e ricevere i riferimenti per il collegamento\, è necessario iscriversi compilando il seguente modulo online. \nProgramma seminario valutazione d’impatto
URL:https://www.improntaetica.org/evento/21-05-la-valutazione-dimpatto-tra-teoria-e-pratica/
ATTACH;FMTTYPE=image/png:https://www.improntaetica.org/wp-content/uploads/2020/04/logo-2-1.png
END:VEVENT
END:VCALENDAR