BEGIN:VCALENDAR
VERSION:2.0
PRODID:-//Impronta Etica - ECPv6.15.20//NONSGML v1.0//EN
CALSCALE:GREGORIAN
METHOD:PUBLISH
X-ORIGINAL-URL:https://www.improntaetica.org
X-WR-CALDESC:Eventi per Impronta Etica
REFRESH-INTERVAL;VALUE=DURATION:PT1H
X-Robots-Tag:noindex
X-PUBLISHED-TTL:PT1H
BEGIN:VTIMEZONE
TZID:Europe/Rome
BEGIN:DAYLIGHT
TZOFFSETFROM:+0100
TZOFFSETTO:+0200
TZNAME:CEST
DTSTART:20160327T010000
END:DAYLIGHT
BEGIN:STANDARD
TZOFFSETFROM:+0200
TZOFFSETTO:+0100
TZNAME:CET
DTSTART:20161030T010000
END:STANDARD
BEGIN:DAYLIGHT
TZOFFSETFROM:+0100
TZOFFSETTO:+0200
TZNAME:CEST
DTSTART:20170326T010000
END:DAYLIGHT
BEGIN:STANDARD
TZOFFSETFROM:+0200
TZOFFSETTO:+0100
TZNAME:CET
DTSTART:20171029T010000
END:STANDARD
BEGIN:DAYLIGHT
TZOFFSETFROM:+0100
TZOFFSETTO:+0200
TZNAME:CEST
DTSTART:20180325T010000
END:DAYLIGHT
BEGIN:STANDARD
TZOFFSETFROM:+0200
TZOFFSETTO:+0100
TZNAME:CET
DTSTART:20181028T010000
END:STANDARD
END:VTIMEZONE
BEGIN:VEVENT
DTSTART;TZID=Europe/Rome:20171106T080000
DTEND;TZID=Europe/Rome:20171106T170000
DTSTAMP:20260421T064410
CREATED:20171106T143109Z
LAST-MODIFIED:20171106T143109Z
UID:13912-1509955200-1509987600@www.improntaetica.org
SUMMARY:Open webinar "Apprenticeships training within SMEs - challenges and way forward"
DESCRIPTION:Le sfide per una formazione di qualità negli apprendistati.\nIl webinar\, organizzato da CSR Europe\, intende indagare le sfide per fornire una formazione di qualità nei percorsi apprendistato delle PMI attraverso la testimonianza di attori attivi sul tema.\nPorterà la sua esperienza anche SCS Consulting.\nIl webinar rientra nell’ambito di EU Talent\, il progetto europeo per la promozione dell’apprendistato\ndi qualità nelle Piccole e Medie Imprese\, coordinato in Italia da Fondazione Sodalitas e Impronta Etica.\nE’ possibile visualizzare l’agenda del webinar a questo link.\nMaggiori informazioni sul webinar e sulla registrazione sono disponibili a questo link.
URL:https://www.improntaetica.org/evento/open-webinar-apprenticeships-training-within-smes-challenges-and-way-forward/
ATTACH;FMTTYPE=:
END:VEVENT
END:VCALENDAR