BEGIN:VCALENDAR
VERSION:2.0
PRODID:-//Impronta Etica - ECPv6.15.20//NONSGML v1.0//EN
CALSCALE:GREGORIAN
METHOD:PUBLISH
X-ORIGINAL-URL:https://www.improntaetica.org
X-WR-CALDESC:Eventi per Impronta Etica
REFRESH-INTERVAL;VALUE=DURATION:PT1H
X-Robots-Tag:noindex
X-PUBLISHED-TTL:PT1H
BEGIN:VTIMEZONE
TZID:Europe/Rome
BEGIN:DAYLIGHT
TZOFFSETFROM:+0100
TZOFFSETTO:+0200
TZNAME:CEST
DTSTART:20210328T010000
END:DAYLIGHT
BEGIN:STANDARD
TZOFFSETFROM:+0200
TZOFFSETTO:+0100
TZNAME:CET
DTSTART:20211031T010000
END:STANDARD
BEGIN:DAYLIGHT
TZOFFSETFROM:+0100
TZOFFSETTO:+0200
TZNAME:CEST
DTSTART:20220327T010000
END:DAYLIGHT
BEGIN:STANDARD
TZOFFSETFROM:+0200
TZOFFSETTO:+0100
TZNAME:CET
DTSTART:20221030T010000
END:STANDARD
BEGIN:DAYLIGHT
TZOFFSETFROM:+0100
TZOFFSETTO:+0200
TZNAME:CEST
DTSTART:20230326T010000
END:DAYLIGHT
BEGIN:STANDARD
TZOFFSETFROM:+0200
TZOFFSETTO:+0100
TZNAME:CET
DTSTART:20231029T010000
END:STANDARD
END:VTIMEZONE
BEGIN:VEVENT
DTSTART;TZID=Europe/Rome:20221010T093000
DTEND;TZID=Europe/Rome:20221010T173000
DTSTAMP:20260421T084621
CREATED:20220801T134528Z
LAST-MODIFIED:20220801T134528Z
UID:35257-1665394200-1665423000@www.improntaetica.org
SUMMARY:10\10 | Conferenza Nazionale Sharing Mobility
DESCRIPTION:La grande novità del settore della mobilità urbana degli ultimi anni.\nLa sharing mobility è una delle grandi novità del settore della mobilità urbana degli ultimi anni. Ora che tanti nuovi servizi di mobilità in condivisione sono a portata di mano\, è possibile cambiare passo: maggiore offerta di tutti i tipi di servizio\, sia di vehicle che di ride sharing\, maggiore diffusione sull’intero territorio nazionale\, maggiore integrazione con gli altri servizi di mobilità e con gli obiettivi strategici di una mobilità sostenibile. \nLa 6° Conferenza nazionale sulla sharing mobility\, organizzata dall’Osservatorio Nazionale Sharing Mobility\,  che si terrà a Roma il 10 ottobre 2022  all’Acquario Romano\, oltre ad analizzare le tendenze nazionali ed europee dei servizi di sharing nel post-shock pandemico\, sarà l’occasione per avventurarsi in questi “territori di confine”\, tra nuove sfide ed opportunità. \nMaggiori informazioni sono disponibili al seguente link. \nE’ possibile iscriversi all’evento al seguente link. \nScarica il programma
URL:https://www.improntaetica.org/evento/1010-conferenza-nazionale-sharing-mobility/
ATTACH;FMTTYPE=image/png:https://www.improntaetica.org/wp-content/uploads/2022/07/sharing-1.png
END:VEVENT
END:VCALENDAR