BEGIN:VCALENDAR
VERSION:2.0
PRODID:-//Impronta Etica - ECPv6.15.20//NONSGML v1.0//EN
CALSCALE:GREGORIAN
METHOD:PUBLISH
X-ORIGINAL-URL:https://www.improntaetica.org
X-WR-CALDESC:Eventi per Impronta Etica
REFRESH-INTERVAL;VALUE=DURATION:PT1H
X-Robots-Tag:noindex
X-PUBLISHED-TTL:PT1H
BEGIN:VTIMEZONE
TZID:Europe/Rome
BEGIN:DAYLIGHT
TZOFFSETFROM:+0100
TZOFFSETTO:+0200
TZNAME:CEST
DTSTART:20210328T010000
END:DAYLIGHT
BEGIN:STANDARD
TZOFFSETFROM:+0200
TZOFFSETTO:+0100
TZNAME:CET
DTSTART:20211031T010000
END:STANDARD
BEGIN:DAYLIGHT
TZOFFSETFROM:+0100
TZOFFSETTO:+0200
TZNAME:CEST
DTSTART:20220327T010000
END:DAYLIGHT
BEGIN:STANDARD
TZOFFSETFROM:+0200
TZOFFSETTO:+0100
TZNAME:CET
DTSTART:20221030T010000
END:STANDARD
BEGIN:DAYLIGHT
TZOFFSETFROM:+0100
TZOFFSETTO:+0200
TZNAME:CEST
DTSTART:20230326T010000
END:DAYLIGHT
BEGIN:STANDARD
TZOFFSETFROM:+0200
TZOFFSETTO:+0100
TZNAME:CET
DTSTART:20231029T010000
END:STANDARD
END:VTIMEZONE
BEGIN:VEVENT
DTSTART;TZID=Europe/Rome:20220622T113000
DTEND;TZID=Europe/Rome:20220622T173000
DTSTAMP:20260421T095701
CREATED:20220622T115950Z
LAST-MODIFIED:20220622T115950Z
UID:35002-1655897400-1655919000@www.improntaetica.org
SUMMARY:22\06 | XVIII Convegno Nazionale AssoChange
DESCRIPTION:Costruire nuove organizzazioni.\nSi terrà il 22 giugno dalle ore 11.30 alle ore 17.00  al Quanta Club di Milano Convegno di giugno di Assochange dal titolo “ Ritorno dal futuro. Costruire nuove organizzazioni”.  \nCostruire sarà la parola chiave dell’evento\, simbolo del forte momento di cambiamento presente in tutti gli ambiti professionali. \nL’Agenda sarà ricca di momenti di condivisione e di scambio\, per condividere e costruire contenuti e pensieri che saranno diffusi nel corso dell’anno fino al Convegno di Assochange di dicembre per confluire nell’Osservatorio. Ai tavoli lavoreranno a stretto contatto aziende\, università e soci singoli liberi professionisti\, per dare spazio e voce alle varie prospettive e mettere a valore la ricchezza delle nostre diversità. \nMaggiori informazioni sono disponibili al seguente link. 
URL:https://www.improntaetica.org/evento/2206-xviii-convegno-nazionale-assochange/
ATTACH;FMTTYPE=image/png:https://www.improntaetica.org/wp-content/uploads/2022/06/asso-change.png
END:VEVENT
END:VCALENDAR