BEGIN:VCALENDAR
VERSION:2.0
PRODID:-//Impronta Etica - ECPv6.15.20//NONSGML v1.0//EN
CALSCALE:GREGORIAN
METHOD:PUBLISH
X-ORIGINAL-URL:https://www.improntaetica.org
X-WR-CALDESC:Eventi per Impronta Etica
REFRESH-INTERVAL;VALUE=DURATION:PT1H
X-Robots-Tag:noindex
X-PUBLISHED-TTL:PT1H
BEGIN:VTIMEZONE
TZID:Europe/Rome
BEGIN:DAYLIGHT
TZOFFSETFROM:+0100
TZOFFSETTO:+0200
TZNAME:CEST
DTSTART:20150329T010000
END:DAYLIGHT
BEGIN:STANDARD
TZOFFSETFROM:+0200
TZOFFSETTO:+0100
TZNAME:CET
DTSTART:20151025T010000
END:STANDARD
BEGIN:DAYLIGHT
TZOFFSETFROM:+0100
TZOFFSETTO:+0200
TZNAME:CEST
DTSTART:20160327T010000
END:DAYLIGHT
BEGIN:STANDARD
TZOFFSETFROM:+0200
TZOFFSETTO:+0100
TZNAME:CET
DTSTART:20161030T010000
END:STANDARD
BEGIN:DAYLIGHT
TZOFFSETFROM:+0100
TZOFFSETTO:+0200
TZNAME:CEST
DTSTART:20170326T010000
END:DAYLIGHT
BEGIN:STANDARD
TZOFFSETFROM:+0200
TZOFFSETTO:+0100
TZNAME:CET
DTSTART:20171029T010000
END:STANDARD
END:VTIMEZONE
BEGIN:VEVENT
DTSTART;VALUE=DATE:20160924
DTEND;VALUE=DATE:20161003
DTSTAMP:20260421T071727
CREATED:20160714T101759Z
LAST-MODIFIED:20160714T101759Z
UID:10878-1474675200-1475452799@www.improntaetica.org
SUMMARY:La Settimana del Buon Vivere 2016
DESCRIPTION:“Un’idea di futuro”\nLa Settimana del Buon Vivere è nata come azione di sviluppo di Comunità basata sul mettersi in relazione per dare visibilità e fare emergere le idee e le esperienze che qualificano l’esistenza e\, insieme\, crearne delle nuove.\nI temi sono l’Economia\, la Sostenibilità\, il Benessere\, la Coesione\, la Solidarietà e i Beni comuni che insieme sono cultura. Quella capace di sviluppare un’economia della relazione\, moltiplicatrice di idee.\nLa Settimana del Buon Vivere 2016 verrà inaugurata sabato 24 settembre con la Notte Verde\, il cui tema per il 2016 sarà l’acqua: una giornata dedicata alla sostenibilità\, all’innovazione responsabile e allo stare insieme.\nIl programma è ancora in via di definizione\, per aggiornamenti è possibile consultare il seguente link.
URL:https://www.improntaetica.org/evento/la-settimana-del-buon-vivere-2016/
LOCATION:Forlì e Romagna\, piazza saffi\, Forlì\, Italia
ATTACH;FMTTYPE=:
END:VEVENT
END:VCALENDAR