BEGIN:VCALENDAR
VERSION:2.0
PRODID:-//Impronta Etica - ECPv6.15.20//NONSGML v1.0//EN
CALSCALE:GREGORIAN
METHOD:PUBLISH
X-WR-CALNAME:Impronta Etica
X-ORIGINAL-URL:https://www.improntaetica.org
X-WR-CALDESC:Eventi per Impronta Etica
REFRESH-INTERVAL;VALUE=DURATION:PT1H
X-Robots-Tag:noindex
X-PUBLISHED-TTL:PT1H
BEGIN:VTIMEZONE
TZID:Europe/Rome
BEGIN:DAYLIGHT
TZOFFSETFROM:+0100
TZOFFSETTO:+0200
TZNAME:CEST
DTSTART:20230326T010000
END:DAYLIGHT
BEGIN:STANDARD
TZOFFSETFROM:+0200
TZOFFSETTO:+0100
TZNAME:CET
DTSTART:20231029T010000
END:STANDARD
BEGIN:DAYLIGHT
TZOFFSETFROM:+0100
TZOFFSETTO:+0200
TZNAME:CEST
DTSTART:20240331T010000
END:DAYLIGHT
BEGIN:STANDARD
TZOFFSETFROM:+0200
TZOFFSETTO:+0100
TZNAME:CET
DTSTART:20241027T010000
END:STANDARD
BEGIN:DAYLIGHT
TZOFFSETFROM:+0100
TZOFFSETTO:+0200
TZNAME:CEST
DTSTART:20250330T010000
END:DAYLIGHT
BEGIN:STANDARD
TZOFFSETFROM:+0200
TZOFFSETTO:+0100
TZNAME:CET
DTSTART:20251026T010000
END:STANDARD
END:VTIMEZONE
BEGIN:VEVENT
DTSTART;TZID=Europe/Rome:20241024T080000
DTEND;TZID=Europe/Rome:20241025T170000
DTSTAMP:20260421T064524
CREATED:20241016T135939Z
LAST-MODIFIED:20241016T135939Z
UID:40050-1729756800-1729875600@www.improntaetica.org
SUMMARY:24/10 - 25/10 | La Biennale dell'economia cooperativa
DESCRIPTION:Edizione 2024: Futuro Plurale\nL’edizione 2024 della Biennale dell’economia cooperativa\, organizzata da Legacoop\, si terrà il 24 e 25 ottobre 2024 a Palazzo Re Enzo e al Cinema Modernissimo a Bologna. La Biennale dell’Economia Cooperativa rappresenta il principale appuntamento italiano per il confronto sul ruolo della cooperazione nella crescita economica e sociale del Paese. \nDopo una sospensione dovuta alla pandemia di Covid-19\, questa edizione coinvolgerà diverse istituzioni\, esperti internazionali e cittadini in una serie di dibattiti\, incontri istituzionali e iniziative aperte al pubblico. L’obiettivo della due giorni è promuovere riflessioni sul contributo che la cooperazione può offrire per costruire una società più giusta\, equa e sostenibile. \nUna full immersion che permetterà di confrontarsi su diverse sfide come la trasformazione digitale\, la transizione ecologica e i cambiamenti nel mondo del lavoro. \nMaggiori informazioni sul programma sono disponibili qui.
URL:https://www.improntaetica.org/evento/24-10-25-10-la-biennale-delleconomia-cooperativa/
CATEGORIES:Eventi 2024
ATTACH;FMTTYPE=image/png:https://www.improntaetica.org/wp-content/uploads/2024/10/Legacoop_Biennale_logo-e1729076607115.png
END:VEVENT
END:VCALENDAR