BEGIN:VCALENDAR
VERSION:2.0
PRODID:-//Impronta Etica - ECPv6.15.20//NONSGML v1.0//EN
CALSCALE:GREGORIAN
METHOD:PUBLISH
X-ORIGINAL-URL:https://www.improntaetica.org
X-WR-CALDESC:Eventi per Impronta Etica
REFRESH-INTERVAL;VALUE=DURATION:PT1H
X-Robots-Tag:noindex
X-PUBLISHED-TTL:PT1H
BEGIN:VTIMEZONE
TZID:Europe/Rome
BEGIN:DAYLIGHT
TZOFFSETFROM:+0100
TZOFFSETTO:+0200
TZNAME:CEST
DTSTART:20220327T010000
END:DAYLIGHT
BEGIN:STANDARD
TZOFFSETFROM:+0200
TZOFFSETTO:+0100
TZNAME:CET
DTSTART:20221030T010000
END:STANDARD
BEGIN:DAYLIGHT
TZOFFSETFROM:+0100
TZOFFSETTO:+0200
TZNAME:CEST
DTSTART:20230326T010000
END:DAYLIGHT
BEGIN:STANDARD
TZOFFSETFROM:+0200
TZOFFSETTO:+0100
TZNAME:CET
DTSTART:20231029T010000
END:STANDARD
BEGIN:DAYLIGHT
TZOFFSETFROM:+0100
TZOFFSETTO:+0200
TZNAME:CEST
DTSTART:20240331T010000
END:DAYLIGHT
BEGIN:STANDARD
TZOFFSETFROM:+0200
TZOFFSETTO:+0100
TZNAME:CET
DTSTART:20241027T010000
END:STANDARD
BEGIN:DAYLIGHT
TZOFFSETFROM:+0100
TZOFFSETTO:+0200
TZNAME:CEST
DTSTART:20250330T010000
END:DAYLIGHT
BEGIN:STANDARD
TZOFFSETFROM:+0200
TZOFFSETTO:+0100
TZNAME:CET
DTSTART:20251026T010000
END:STANDARD
END:VTIMEZONE
BEGIN:VEVENT
DTSTART;TZID=Europe/Rome:20240918T180000
DTEND;TZID=Europe/Rome:20240918T200000
DTSTAMP:20260421T003751
CREATED:20240914T121713Z
LAST-MODIFIED:20240917T073524Z
UID:39717-1726682400-1726689600@www.improntaetica.org
SUMMARY:18/09 | BIGBO: Imprenditrici di successo
DESCRIPTION:Un’occasione per conoscere e approfondire il mondo dell’imprenditoria femminile.\nIl 18 settembre dalle 18.00 alle 20.00 presso gli spazi di BIGBO in Via delle Ferriera 4\, Bologna si terrà l’evento “Imprenditrici di successo” volto ad approfondire diversi percorsi imprenditoriali femminili innovativi e duraturi. \nL’evento si inserisce in un ampio ciclo di eventi organizzato da DonNA.BO\, un progetto di BIGBO in partnership con Intesa Sanpaolo e Fondazione Carisbo\, che mira a promuovere la cultura imprenditoriale femminile con uno sguardo specifico verso le startup innovative femminili. \nMaggiori informazioni sul programma dell’evento sono disponibili al seguente link. \nE’ possibile registrarsi al seguente link.
URL:https://www.improntaetica.org/evento/18-09-bigbo-imprenditrici-di-successo/
CATEGORIES:Eventi 2024
ATTACH;FMTTYPE=image/png:https://www.improntaetica.org/wp-content/uploads/2024/09/logo-positivo-660-e1725616379859.png
END:VEVENT
BEGIN:VEVENT
DTSTART;TZID=Europe/Rome:20231110T000000
DTEND;TZID=Europe/Rome:20231111T000000
DTSTAMP:20260421T003751
CREATED:20230929T134043Z
LAST-MODIFIED:20230929T134043Z
UID:37600-1699574400-1699660800@www.improntaetica.org
SUMMARY:10/11-11/11 | BIG Impact Days 2023
DESCRIPTION:Giornate dedicate alla tecnologia innovativa.\nTorna il festival gratuito sull’innovazione e l’impatto Big Impact Days di BIGBO il 10 e 11 novembre 2023 presso la sede BIGBO in Via della Ferriera 4 40133 Bologna. \nGiorni ricchi di conferenze\, workshop pratici\, mostre d’arte e opportunità di networking. L’obiettivo è quello di connettere attori nazionali e internazionali nell’ambito dell’impatto\, fornendo le risorse di cui hanno bisogno per prosperare. \nAl centro dell’evento ci sono tre driver: cultura\, tecnologia e leadership. Il focus sarà posto sulla tecnologia innovativa nel confronto delle questioni sociali\, promuovendo conversazioni e strategie guidate da leader in tutti i settori e sfruttando il potere della cultura\, compresa l’arte e l’opinione pubblica\, possiamo generare un impatto positivo. \nE’ possibile iscriversi e ottenere maggiori informazioni sono disponibili al seguente link.
URL:https://www.improntaetica.org/evento/10-11-11-11-big-impact-days-2023/
ATTACH;FMTTYPE=image/jpeg:https://www.improntaetica.org/wp-content/uploads/2023/09/impact.jpg
END:VEVENT
END:VCALENDAR