BEGIN:VCALENDAR
VERSION:2.0
PRODID:-//Impronta Etica - ECPv6.15.20//NONSGML v1.0//EN
CALSCALE:GREGORIAN
METHOD:PUBLISH
X-WR-CALNAME:Impronta Etica
X-ORIGINAL-URL:https://www.improntaetica.org
X-WR-CALDESC:Eventi per Impronta Etica
REFRESH-INTERVAL;VALUE=DURATION:PT1H
X-Robots-Tag:noindex
X-PUBLISHED-TTL:PT1H
BEGIN:VTIMEZONE
TZID:Europe/Rome
BEGIN:DAYLIGHT
TZOFFSETFROM:+0100
TZOFFSETTO:+0200
TZNAME:CEST
DTSTART:20150329T010000
END:DAYLIGHT
BEGIN:STANDARD
TZOFFSETFROM:+0200
TZOFFSETTO:+0100
TZNAME:CET
DTSTART:20151025T010000
END:STANDARD
BEGIN:DAYLIGHT
TZOFFSETFROM:+0100
TZOFFSETTO:+0200
TZNAME:CEST
DTSTART:20160327T010000
END:DAYLIGHT
BEGIN:STANDARD
TZOFFSETFROM:+0200
TZOFFSETTO:+0100
TZNAME:CET
DTSTART:20161030T010000
END:STANDARD
BEGIN:DAYLIGHT
TZOFFSETFROM:+0100
TZOFFSETTO:+0200
TZNAME:CEST
DTSTART:20170326T010000
END:DAYLIGHT
BEGIN:STANDARD
TZOFFSETFROM:+0200
TZOFFSETTO:+0100
TZNAME:CET
DTSTART:20171029T010000
END:STANDARD
BEGIN:DAYLIGHT
TZOFFSETFROM:+0100
TZOFFSETTO:+0200
TZNAME:CEST
DTSTART:20180325T010000
END:DAYLIGHT
BEGIN:STANDARD
TZOFFSETFROM:+0200
TZOFFSETTO:+0100
TZNAME:CET
DTSTART:20181028T010000
END:STANDARD
BEGIN:DAYLIGHT
TZOFFSETFROM:+0100
TZOFFSETTO:+0200
TZNAME:CEST
DTSTART:20190331T010000
END:DAYLIGHT
BEGIN:STANDARD
TZOFFSETFROM:+0200
TZOFFSETTO:+0100
TZNAME:CET
DTSTART:20191027T010000
END:STANDARD
BEGIN:DAYLIGHT
TZOFFSETFROM:+0100
TZOFFSETTO:+0200
TZNAME:CEST
DTSTART:20200329T010000
END:DAYLIGHT
BEGIN:STANDARD
TZOFFSETFROM:+0200
TZOFFSETTO:+0100
TZNAME:CET
DTSTART:20201025T010000
END:STANDARD
BEGIN:DAYLIGHT
TZOFFSETFROM:+0100
TZOFFSETTO:+0200
TZNAME:CEST
DTSTART:20210328T010000
END:DAYLIGHT
BEGIN:STANDARD
TZOFFSETFROM:+0200
TZOFFSETTO:+0100
TZNAME:CET
DTSTART:20211031T010000
END:STANDARD
BEGIN:DAYLIGHT
TZOFFSETFROM:+0100
TZOFFSETTO:+0200
TZNAME:CEST
DTSTART:20220327T010000
END:DAYLIGHT
BEGIN:STANDARD
TZOFFSETFROM:+0200
TZOFFSETTO:+0100
TZNAME:CET
DTSTART:20221030T010000
END:STANDARD
END:VTIMEZONE
BEGIN:VEVENT
DTSTART;TZID=Europe/Rome:20210211T170000
DTEND;TZID=Europe/Rome:20210211T180000
DTSTAMP:20260421T051229
CREATED:20210201T115220Z
LAST-MODIFIED:20210201T160127Z
UID:32450-1613062800-1613066400@www.improntaetica.org
SUMMARY:11/02 | Rendicontazione sociale nel non profit e Riforma del Terzo Settore
DESCRIPTION:Presentazione del nuovo documento di GBS.\nAl via il ciclo di webinar promossi dal GBS – Associazione nazionale per la ricerca scientifica sul Bilancio Sociale e dal CNDCEC – Consiglio Nazionale dei Dottori Commercialisti ed Esperti Contabili per presentare il nuovo Documento di ricerca n. 17 “Rendicontazione sociale nel non profit e Riforma del Terzo Settore”. Il documento sviluppa una serie di focus tematici sulle principali novità introdotte dalla Riforma sul tema della trasparenza e dell’accountability che saranno approfonditi nel ciclo di webinar. \nInterverranno la Presidente del GBS Prof.ssa Chiara Mio e i componenti del Gruppo di ricerca che hanno curato l’elaborazione del documento: Mario Viviani\, Paolo Esposito\, Lorenzo Magrassi e Paolo Palombelli. \nL’incontro sarà moderato da Cristiana Rogate – Vice Presidente del Comitato Scientifico del GBS – e dal Prof. Lorenzo Sacconi – componente del Comitato Scientifico del GBS – coordinatori del documento di ricerca. \nMaggiori informazioni sono disponibili al seguente link.
URL:https://www.improntaetica.org/evento/11-02-rendicontazione-sociale-nel-non-profit-e-riforma-del-terzo-settore/
ATTACH;FMTTYPE=image/jpeg:https://www.improntaetica.org/wp-content/uploads/2021/02/save-the-date-e1612180312436.jpg
END:VEVENT
BEGIN:VEVENT
DTSTART;TZID=Europe/Rome:20190625T100000
DTEND;TZID=Europe/Rome:20190625T133000
DTSTAMP:20260421T051229
CREATED:20190621T094845Z
LAST-MODIFIED:20190621T094845Z
UID:16776-1561456800-1561469400@www.improntaetica.org
SUMMARY:Presentazione del Bilancio Sociale di Coopfond
DESCRIPTION:“Risorse finanziarie a sostegno della cooperazione”.\nIn occasione della presentazione del Bilancio Sociale 2017-2018\, Coopfond organizza una tavola rotonda “Risorse finanziarie a sostegno della cooperazione”. Un confronto con soggetti cooperativi e non\, un’opportunità per approfondire le modalità di finanziamento a disposizione delle imprese cooperative.\nDopo il saluto del presidente del Collegio Giuseppe Perroni\, il direttore generale Aldo Soldi e Annalisa Casino di Eticae\, la società che l’ha realizzato\, presenteranno il bilancio sociale.\nAlle 11.30 inizierà la tavola rotonda che\, dopo l’introduzione di Marcello Messori della Luiss\, vedrà la partecipazione di Camillo de Bernardinis di CFI\, Sergio Gatti di Federcasse\, Alessandro Messina di Banca Etica\, Andrea Nuzzi di Cassa Depositi e Prestiti\, Giulio Pascazio di Unicredit e Davide Vellani di BPER.\nI lavori saranno coordinati dal giornalista Alessandro Cicognani. Le conclusioni sono affidate al presidente di Legacoop nazionale e Coopfond Mauro Lusetti.\nMaggiori informazioni sono disponibili a questo link.
URL:https://www.improntaetica.org/evento/presentazione-del-bilancio-sociale-coopfond/
LOCATION:Nobile Collegio Chimico Farmaceutico\, Via in Miranda 10\, Roma
ATTACH;FMTTYPE=:
END:VEVENT
BEGIN:VEVENT
DTSTART;TZID=Europe/Rome:20161201T163000
DTEND;TZID=Europe/Rome:20161201T183000
DTSTAMP:20260421T051229
CREATED:20161130T090926Z
LAST-MODIFIED:20161130T090926Z
UID:11607-1480609800-1480617000@www.improntaetica.org
SUMMARY:Bilancio sociale e governance territoriale: esperienze a confronto
DESCRIPTION:Presentazione dei bilanci sociali: l’Unibo e gli stakeholder del territorio.\nFrutto di meccanismi istituzionali sempre più aperti e partecipati\, il Bilancio Sociale di Ateneo rendiconta annualmente le risorse\, le attività\, i risultati\, gli impatti della didattica e della ricerca\, offrendo alla comunità degli stakeholder una chiave interpretativa dell’impegno istituzionale dell’Università di Bologna.\nAll’evento\, promosso dal Campus di Forlì sarà presente anche Tonino Bernabè Presidente di Romagna Acque.\nPer maggiori informazioni è possibile consultare il seguente link.\nProgramma
URL:https://www.improntaetica.org/evento/bilancio-sociale-e-governance-territoriale-esperienze-a-confronto/
LOCATION:Teaching Hub\, Aula 9 (Piano 1\, Blocco C)\, Viale Corridoni\, 20\, Forlì\, Italia
ATTACH;FMTTYPE=:
END:VEVENT
END:VCALENDAR