BEGIN:VCALENDAR
VERSION:2.0
PRODID:-//Impronta Etica - ECPv6.15.20//NONSGML v1.0//EN
CALSCALE:GREGORIAN
METHOD:PUBLISH
X-ORIGINAL-URL:https://www.improntaetica.org
X-WR-CALDESC:Eventi per Impronta Etica
REFRESH-INTERVAL;VALUE=DURATION:PT1H
X-Robots-Tag:noindex
X-PUBLISHED-TTL:PT1H
BEGIN:VTIMEZONE
TZID:Europe/Rome
BEGIN:DAYLIGHT
TZOFFSETFROM:+0100
TZOFFSETTO:+0200
TZNAME:CEST
DTSTART:20230326T010000
END:DAYLIGHT
BEGIN:STANDARD
TZOFFSETFROM:+0200
TZOFFSETTO:+0100
TZNAME:CET
DTSTART:20231029T010000
END:STANDARD
BEGIN:DAYLIGHT
TZOFFSETFROM:+0100
TZOFFSETTO:+0200
TZNAME:CEST
DTSTART:20240331T010000
END:DAYLIGHT
BEGIN:STANDARD
TZOFFSETFROM:+0200
TZOFFSETTO:+0100
TZNAME:CET
DTSTART:20241027T010000
END:STANDARD
BEGIN:DAYLIGHT
TZOFFSETFROM:+0100
TZOFFSETTO:+0200
TZNAME:CEST
DTSTART:20250330T010000
END:DAYLIGHT
BEGIN:STANDARD
TZOFFSETFROM:+0200
TZOFFSETTO:+0100
TZNAME:CET
DTSTART:20251026T010000
END:STANDARD
BEGIN:DAYLIGHT
TZOFFSETFROM:+0100
TZOFFSETTO:+0200
TZNAME:CEST
DTSTART:20260329T010000
END:DAYLIGHT
BEGIN:STANDARD
TZOFFSETFROM:+0200
TZOFFSETTO:+0100
TZNAME:CET
DTSTART:20261025T010000
END:STANDARD
END:VTIMEZONE
BEGIN:VEVENT
DTSTART;TZID=Europe/Rome:20250917T100000
DTEND;TZID=Europe/Rome:20250917T130000
DTSTAMP:20260421T072428
CREATED:20250911T113730Z
LAST-MODIFIED:20250912T085008Z
UID:41483-1758103200-1758114000@www.improntaetica.org
SUMMARY:17/09 | Restoration economy: le imprese protagoniste della riqualificazione dei territori
DESCRIPTION:Il nuovo evento per conoscere il Nature Positive Network.\nSi terrà il 17 settembre 2025 dalle 10.00 alle 13.00 a Roma presso l’Associazione Civita in Piazza Venezia 11 il nuovo evento a cura del Nature Positive Network promosso dalla Fondazione per lo Sviluppo Sostenibile e dall’Autorità di Bacino Distrettuale del Fiume Po\, volto ad approfondire il ruolo chiave dell’impresa per la tutela e il ripristino degli ecosistemi. \nL’evento sarà l’occasione per scoprire le attività del Nature Positive Network e del Ministero dell’Ambiente e della Sicurezza Energetica nel promuovere un’economia nature positive\, fondamentale per il futuro del nostro Paese e del globo. \nIn particolare ci si concentrerà su analizzare le funzionalità degli ecosistemi e il loro impatto sulle filiere produttive\, dei benefici che le imprese possono ricavare da investimenti finalizzati al ripristino degli ecosistemi e della transizione ad una nature positive economy. \nMaggiori informazioni sono disponibili al seguente link. \nE’ possibile iscriversi al seguente link.
URL:https://www.improntaetica.org/evento/17-09-restoration-economy-le-imprese-protagoniste-della-riqualificazione-dei-territori/
CATEGORIES:Eventi 2025
ATTACH;FMTTYPE=image/png:https://www.improntaetica.org/wp-content/uploads/2025/07/nature-positive-network.png
END:VEVENT
BEGIN:VEVENT
DTSTART;TZID=Europe/Rome:20250520T090000
DTEND;TZID=Europe/Rome:20250520T163000
DTSTAMP:20260421T072428
CREATED:20250513T110306Z
LAST-MODIFIED:20250514T123808Z
UID:41144-1747731600-1747758600@www.improntaetica.org
SUMMARY:20/05 | Finanza\, imprese e istituzioni: all’ambizione all’azione\, le prime nature strategy
DESCRIPTION:Buone pratiche e azioni concrete per la biodiversità.\nSi terrà il 20 maggio 2025 dalle 9.00 alle 16.30 a Milano\, Palazzo Lombardia\, Piazza Città Lombardia 1\, Ingresso N4\, il nuovo evento del Business for Biodiversity Italy dal titolo “Finanza\, imprese e istituzioni: dall’ambizione all’azione\, le prime nature strategy”\, una giornata dedicata ad approfondire il ruolo centrale della finanza sostenibile\, delle imprese e delle istituzioni nella tutela e nel ripristino della biodiversità. \nDopo il successo l’evento svoltosi nel 2024 le organizzazioni che hanno dato vita al gruppo Business for Biodiversity Italy\, Regione Lombardia\, Etifor e il Forum Finanza Sostenibile\, di cui Impronta Etica è socia\, rilanciano proponendo un ricco programma con casi studio concreti e strumenti operativi per integrare la biodiversità nelle strategie economiche. \nDurante l’evento vi saranno sia workshop tematici che momenti di networking per facilitare lo scambio e la condivisione tra diversi attori verso un’economia nature positive. \nMaggiori informazioni sono disponibili al seguente link. \nE’ possibile iscriversi al seguente link. \nSCARICA IL PROGRAMMA
URL:https://www.improntaetica.org/evento/20-05-finanza-imprese-e-istituzioni-allambizione-allazione-le-prime-nature-strategy/
CATEGORIES:Eventi 2025
ATTACH;FMTTYPE=image/png:https://www.improntaetica.org/wp-content/uploads/2025/04/B4B-Italy_logo-menu.png
END:VEVENT
BEGIN:VEVENT
DTSTART;VALUE=DATE:20250225
DTEND;VALUE=DATE:20250228
DTSTAMP:20260421T072428
CREATED:20250121T083245Z
LAST-MODIFIED:20250121T083245Z
UID:40712-1740441600-1740700799@www.improntaetica.org
SUMMARY:25/02 - 27/02 | COP 16 sulla Biodiversità
DESCRIPTION:A Roma l’ultima fase della COP16 sulla Biodiversità.\nLa COP 16 sulla Diversità Biologica\, interrotta a Cali\, Colombia\, lo scorso novembre a causa della perdita del quorum\, riprenderà dal 25 al 27 febbraio 2025 presso la sede della Food and Agriculture Organization (FAO) a Roma. \nDurante i lavori\, i partecipanti si confronteranno sulla definizione di una strategia per finanziare la tutela della biodiversità con l’obiettivo di mobilitare 200 miliardi di dollari all’anno entro il 2030. Sarà inoltre valutata la creazione di uno strumento globale per finanziare e distribuire risorse in modo efficace\, utilizzando fondi privati e fondi dedicati come il Global Environment Facility e il Kunming Biodiversity Fund. \nUn’altra priorità sarà il rafforzamento del quadro di monitoraggio per misurare i progressi dei 23 obiettivi del Kunming- Montreal Global Biodiversity Framework. Si discuterà\, inoltre\, del sistema di pianificazione\, monitoraggio\, rendicontazione e revisione\, con l’intenzione di includere gli impegni di attori non istituzionali come giovani\, donne\, comunità indigene\, società civile e imprese. \nMaggiori informazioni sono disponibili al seguente link.
URL:https://www.improntaetica.org/evento/25-02-27-02-cop-16-sulla-biodiversita/
CATEGORIES:Eventi 2025
ATTACH;FMTTYPE=image/png:https://www.improntaetica.org/wp-content/uploads/2025/01/cbd-e1741621478985.png
END:VEVENT
BEGIN:VEVENT
DTSTART;TZID=Europe/Rome:20241118T080000
DTEND;TZID=Europe/Rome:20241118T130000
DTSTAMP:20260421T072428
CREATED:20241114T083404Z
LAST-MODIFIED:20241114T134039Z
UID:40190-1731916800-1731934800@www.improntaetica.org
SUMMARY:18/11 | Un Albero per il Futuro
DESCRIPTION:Un evento per sensibilizzare e valorizzare il ruolo della natura nel nostro contesto.\nL’evento\, organizzato da Natù\, si terrà il 18 novembre dalle 8.00 alle 13.00 a Roma presso Cinecittà. Un’occasione in cui unire imprese\, scuole e pubblica amministrazione per dare sempre maggior valore all’importanza della tutela della natura e del nostro pianeta. \nDurante la mattinata verranno coinvolte figure istituzionali\, del mondo dell’associazionismo e della ricerca che parleranno di fronte a i bambini delle scuole primarie di Roma coinvolti in un progetto di educazione ambientale che porterà alla piantumazione di  20.000 alberi poi essere affidati alle cure della AIPD (Asociazione Italiana Persone Down). \nPer maggiori informazioni contattare luca.cicci@progettonatu.it. \nSCARICA IL PROGRAMMA
URL:https://www.improntaetica.org/evento/18-11-un-albero-per-il-futuro/
CATEGORIES:Eventi 2024
ATTACH;FMTTYPE=image/png:https://www.improntaetica.org/wp-content/uploads/2024/10/images.png
END:VEVENT
BEGIN:VEVENT
DTSTART;VALUE=DATE:20241021
DTEND;VALUE=DATE:20241102
DTSTAMP:20260421T072428
CREATED:20241022T072556Z
LAST-MODIFIED:20241022T072556Z
UID:40086-1729468800-1730505599@www.improntaetica.org
SUMMARY:21/10 - 01/11 | COP 16
DESCRIPTION:La Conferenza delle Parti sulla biodiversità.\nLa COP16 della Convenzione sulla Diversità Biologica (CBD) si terrà per la prima volta in Colombia\, a Cali\, dal 21 ottobre al 1 novembre 2024. \nL’evento con cadenza biennale\, istituito nel 1992 al Vertice della Terra di Rio de Janeiro\, mira a promuovere la conservazione della biodiversità\, l’uso sostenibile delle risorse naturali e la condivisione equa dei benefici derivanti dall’uso delle risorse genetiche. \nCon lo slogan “Peace with Nature“\, la COP16 invita a riflettere su un modello economico che riduca l’impatto sull’ambiente e favorisca un rapporto più sostenibile con la natura. \nMaggiori informazioni sono disponibili qui.
URL:https://www.improntaetica.org/evento/21-10-01-11-cop-16/
CATEGORIES:Eventi 2024
ATTACH;FMTTYPE=image/jpeg:https://www.improntaetica.org/wp-content/uploads/2024/10/cop_16_logo-e1729526585398.jpg
END:VEVENT
BEGIN:VEVENT
DTSTART;TZID=Europe/Rome:20240605T143000
DTEND;TZID=Europe/Rome:20240605T170000
DTSTAMP:20260421T072428
CREATED:20240604T090148Z
LAST-MODIFIED:20240604T090148Z
UID:39207-1717597800-1717606800@www.improntaetica.org
SUMMARY:05/06 | Evoluzione delle politiche per la tutela della biodiversità e innovazione nelle strategie di impresa
DESCRIPTION:Osservatorio Green Economy\, GREEN – Università Bocconi.\nIl 5 giugno alle ore 14.30 si svolgerà il workshop online organizzato da Osservatorio Green Economy\, GREEN – Università Bocconi che mette a confronto ricercatori\, aziende e istituzioni per discutere le strategie di tutela della biodiversità. \nNegli ultimi anni\, la ricerca ha evidenziato l’importanza della biodiversità per il benessere degli ecosistemi e delle persone. Il World Economic Forum  stima che quasi il 50% dell’economia globale sia minacciata dalla perdita di biodiversità\, con il 79% delle specie a rischio a causa delle attività economiche. Il Global Biodiversity Framework e la Strategia europea per la biodiversità richiedono azioni da governi e imprese per invertire questa tendenza e promuovere un’economia “nature positive”. \nE’ possibile registrarsi al seguente link. \nSCARICA IL PROGRAMMA
URL:https://www.improntaetica.org/evento/05-06-evoluzione-delle-politiche-per-la-tutela-della-biodiversita-e-innovazione-nelle-strategie-di-impresa/
ATTACH;FMTTYPE=image/png:https://www.improntaetica.org/wp-content/uploads/2023/01/Universita-bocconi_logo-e1749569448330.png
END:VEVENT
END:VCALENDAR