BEGIN:VCALENDAR
VERSION:2.0
PRODID:-//Impronta Etica - ECPv6.15.20//NONSGML v1.0//EN
CALSCALE:GREGORIAN
METHOD:PUBLISH
X-WR-CALNAME:Impronta Etica
X-ORIGINAL-URL:https://www.improntaetica.org
X-WR-CALDESC:Eventi per Impronta Etica
REFRESH-INTERVAL;VALUE=DURATION:PT1H
X-Robots-Tag:noindex
X-PUBLISHED-TTL:PT1H
BEGIN:VTIMEZONE
TZID:Europe/Rome
BEGIN:DAYLIGHT
TZOFFSETFROM:+0100
TZOFFSETTO:+0200
TZNAME:CEST
DTSTART:20230326T010000
END:DAYLIGHT
BEGIN:STANDARD
TZOFFSETFROM:+0200
TZOFFSETTO:+0100
TZNAME:CET
DTSTART:20231029T010000
END:STANDARD
BEGIN:DAYLIGHT
TZOFFSETFROM:+0100
TZOFFSETTO:+0200
TZNAME:CEST
DTSTART:20240331T010000
END:DAYLIGHT
BEGIN:STANDARD
TZOFFSETFROM:+0200
TZOFFSETTO:+0100
TZNAME:CET
DTSTART:20241027T010000
END:STANDARD
BEGIN:DAYLIGHT
TZOFFSETFROM:+0100
TZOFFSETTO:+0200
TZNAME:CEST
DTSTART:20250330T010000
END:DAYLIGHT
BEGIN:STANDARD
TZOFFSETFROM:+0200
TZOFFSETTO:+0100
TZNAME:CET
DTSTART:20251026T010000
END:STANDARD
END:VTIMEZONE
BEGIN:VEVENT
DTSTART;TZID=Europe/Rome:20241021T180000
DTEND;TZID=Europe/Rome:20241021T190000
DTSTAMP:20260421T060300
CREATED:20241016T135746Z
LAST-MODIFIED:20241016T135746Z
UID:40047-1729533600-1729537200@www.improntaetica.org
SUMMARY:21/10 | Transizione Sostenibile nelle Catene del Valore
DESCRIPTION:Corporate Sustainability Due Diligence Directive e sue implicazioni.\nLunedì 21 ottobre dalle 18.00 alle 19.00 si terrà l’evento\, in forma di webinar su Microsoft Teams\, organizzato dalla Bologna Business School volto ad esplorare le implicazioni della Corporate Sustainability Due Diligence Directive per le aziende e le loro catene di fornitura. \nDurante l’incontro verranno esplorate le implicazioni della direttiva sulle imprese e la necessità di costruire nuovi canali di dialogo tra imprese e stakeholders. Obiettivo finale è quello di riuscire a fornire possibili linee d’azione rispetto al tema della due diligence e sull’applicazione della normativa. \nMaggiori informazioni sul programma e sulla registrazione all’evento sono disponibili qui.
URL:https://www.improntaetica.org/evento/21-10-transizione-sostenibile-nelle-catene-del-valore/
CATEGORIES:Eventi 2024
ATTACH;FMTTYPE=image/png:https://www.improntaetica.org/wp-content/uploads/2021/12/bbs.png
END:VEVENT
END:VCALENDAR