BEGIN:VCALENDAR
VERSION:2.0
PRODID:-//Impronta Etica - ECPv6.15.20//NONSGML v1.0//EN
CALSCALE:GREGORIAN
METHOD:PUBLISH
X-ORIGINAL-URL:https://www.improntaetica.org
X-WR-CALDESC:Eventi per Impronta Etica
REFRESH-INTERVAL;VALUE=DURATION:PT1H
X-Robots-Tag:noindex
X-PUBLISHED-TTL:PT1H
BEGIN:VTIMEZONE
TZID:Europe/Rome
BEGIN:DAYLIGHT
TZOFFSETFROM:+0100
TZOFFSETTO:+0200
TZNAME:CEST
DTSTART:20200329T010000
END:DAYLIGHT
BEGIN:STANDARD
TZOFFSETFROM:+0200
TZOFFSETTO:+0100
TZNAME:CET
DTSTART:20201025T010000
END:STANDARD
BEGIN:DAYLIGHT
TZOFFSETFROM:+0100
TZOFFSETTO:+0200
TZNAME:CEST
DTSTART:20210328T010000
END:DAYLIGHT
BEGIN:STANDARD
TZOFFSETFROM:+0200
TZOFFSETTO:+0100
TZNAME:CET
DTSTART:20211031T010000
END:STANDARD
BEGIN:DAYLIGHT
TZOFFSETFROM:+0100
TZOFFSETTO:+0200
TZNAME:CEST
DTSTART:20220327T010000
END:DAYLIGHT
BEGIN:STANDARD
TZOFFSETFROM:+0200
TZOFFSETTO:+0100
TZNAME:CET
DTSTART:20221030T010000
END:STANDARD
BEGIN:DAYLIGHT
TZOFFSETFROM:+0100
TZOFFSETTO:+0200
TZNAME:CEST
DTSTART:20230326T010000
END:DAYLIGHT
BEGIN:STANDARD
TZOFFSETFROM:+0200
TZOFFSETTO:+0100
TZNAME:CET
DTSTART:20231029T010000
END:STANDARD
BEGIN:DAYLIGHT
TZOFFSETFROM:+0100
TZOFFSETTO:+0200
TZNAME:CEST
DTSTART:20240331T010000
END:DAYLIGHT
BEGIN:STANDARD
TZOFFSETFROM:+0200
TZOFFSETTO:+0100
TZNAME:CET
DTSTART:20241027T010000
END:STANDARD
BEGIN:DAYLIGHT
TZOFFSETFROM:+0100
TZOFFSETTO:+0200
TZNAME:CEST
DTSTART:20250330T010000
END:DAYLIGHT
BEGIN:STANDARD
TZOFFSETFROM:+0200
TZOFFSETTO:+0100
TZNAME:CET
DTSTART:20251026T010000
END:STANDARD
END:VTIMEZONE
BEGIN:VEVENT
DTSTART;TZID=Europe/Rome:20240619T090000
DTEND;TZID=Europe/Rome:20240619T163000
DTSTAMP:20260421T003047
CREATED:20240528T073448Z
LAST-MODIFIED:20240528T073448Z
UID:39173-1718787600-1718814600@www.improntaetica.org
SUMMARY:19/06 | ESG Business Conference 2024
DESCRIPTION:Manager per la Polis.\nArrivata alla sua IX edizione\, la ESG Business Conference  di EticaNews rappresenta l’evento di approfondimento e presentazione dei risultati dell’ESG.Identity Corporate Index – ESG.ICI (ex Integrated Governance Index – IGI)\, l’unico progetto di ricerca sull’integrazione Esg nei modelli di governance e management aziendale. \nQuest’anno\, l’ambizione è di sviluppare il Concept dell’edizione 2023: “L’azienda politica (πολιτικός)”. Se l’integrazione della sostenibilità nella strategia non implica solo la gestione degli impatti negativi\, ma anche un’azione proattiva con riflessi utili alla “polis”\, allora l’azienda assume un ruolo politico: l’azienda politica è intesa come “il soggetto-impresa consapevole del peso competitivo e strategico del proprio ruolo nella polis”. \nIn questo contesto\, quale ruolo\, competenze e sfide per i suoi manager? \nMaggiori informazioni sono disponibili al seguente link. \nE’ possibile registrarsi al seguente link.
URL:https://www.improntaetica.org/evento/19-06-esg-business-conference-2024/
ATTACH;FMTTYPE=image/png:https://www.improntaetica.org/wp-content/uploads/2020/06/esg-business-conference.png
END:VEVENT
BEGIN:VEVENT
DTSTART;TZID=Europe/Rome:20240416T000000
DTEND;TZID=Europe/Rome:20240417T000000
DTSTAMP:20260421T003047
CREATED:20240416T072528Z
LAST-MODIFIED:20240416T072528Z
UID:38878-1713225600-1713312000@www.improntaetica.org
SUMMARY:16-18/04 | Gli Stati Generali dell'Intelligenza Artificiale 2024
DESCRIPTION:Le applicazioni pratiche sull’utilizzo degli strumenti di AI nel mondo business.\nDopo il successo delle edizioni 2022 e 2023\, anche quest’anno Class Editori e Class Cnbc chiamano a raccolta i più importanti esponenti sull’Intelligenza Artificiale\, per un confronto sulle prospettive di sviluppo di un motore di progresso che ormai si è imposto all’attenzione del mondo. \nAttraverso speaker di eccezione nazionali e internazionali\, gli Stati Generali dell’Intelligenza Artificiale 2024 daranno spazio agli aspetti più attuali e scottanti della “rivoluzione generativa e multimodale”\, tra cui governance\, fake news\, copyright\, etica\, privacy e nuove competenze. \nGrande rilevanza avranno quest’anno soprattutto le applicazioni pratiche sull’utilizzo degli strumenti di Intelligenza Artificiale nel mondo del business\, grazie alle testimonianze delle migliori aziende dei settori più dinamici che hanno saputo costruire già oggi i modelli e le soluzioni vincenti del futuro. \nE’ possibile iscriversi e ottenere informazioni sono disponibili al seguente link.
URL:https://www.improntaetica.org/evento/16-18-04-gli-stati-generali-dellintelligenza-artificiale-2024/
ATTACH;FMTTYPE=image/jpeg:https://www.improntaetica.org/wp-content/uploads/2024/04/ai.jpg
END:VEVENT
BEGIN:VEVENT
DTSTART;TZID=Europe/Rome:20231011T000000
DTEND;TZID=Europe/Rome:20231012T000000
DTSTAMP:20260421T003047
CREATED:20230824T154416Z
LAST-MODIFIED:20230824T154416Z
UID:37360-1696982400-1697068800@www.improntaetica.org
SUMMARY:11/10-12/10 | European Business & Nature Summit 2023
DESCRIPTION:È ora di trasformare il business per una società positiva per la natura. \nLo European Business and Nature Summit (EBNS) 2023 della Commissione Europea\, è la più grande conferenza dedicata alla creazione di modelli di business sostenibili che abbiano al centro la biodiversità. L’edizione di quest’anno arriva un anno prima della COP16 e porrà particolare attenzione nel dare alle imprese la possibilità di intraprendere azioni trasformative decisive per attuare gli obiettivi di biodiversità e aprire la strada verso una società positiva per la natura. \nSessioni di gruppo dedicate\, progettate per monitorare\, valutare e divulgare la biodiversità; ridurre gli impatti e rigenerare gli ecosistemi; sbloccare risorse finanziarie attraverso meccanismi innovativi; e promuovere partenariati inclusivi per accelerare l’azione. Attraverso queste sessioni sarà possibile acquisire informazioni\, creare collaborazioni  e imparerare dai successi di aziende leader\, istituzioni finanziarie\, imprenditori\, ONG e responsabili politici. Quest’anno l’EBNS presterà particolare attenzione alla regione del Mediterraneo\, un hotspot di biodiversità in cui le industrie si trovano ad affrontare rischi significativi legati alla natura. \nMaggiori informazioni sono disponibili al seguente link.
URL:https://www.improntaetica.org/evento/11-10-12-10-european-business-nature-summit-2023/
ATTACH;FMTTYPE=image/jpeg:https://www.improntaetica.org/wp-content/uploads/2020/01/commissione-europea-impronta-etica-e1741190441692.jpg
END:VEVENT
BEGIN:VEVENT
DTSTART;TZID=Europe/Rome:20211215T100000
DTEND;TZID=Europe/Rome:20211215T110000
DTSTAMP:20260421T003047
CREATED:20211213T134414Z
LAST-MODIFIED:20211213T134414Z
UID:34192-1639562400-1639566000@www.improntaetica.org
SUMMARY:15/12 | Adotta una buona pratica
DESCRIPTION:Per una valutazione di impatto dell’esperienza realizzata.\nIl webinar ha l’obiettivo di presentare i risultati della valutazione dell’iniziativa Adotta una buona pratica\, promossa da Social Value Italia insieme a Fondazione KPMG e Amapola\, e discutere alcune implicazioni per il post-pandemia insieme ai principali testimoni delle innovazioni promosse. Quali ‘reazioni all’emergenza’ hanno cambiato definitivamente il modo di operare del mondo non profit? Quali aspetti del cambiamento devono essere ancora compresi meglio\, in termini di caratteristiche ed impatti? Quali risorse\, competenze e modalità dovrebbero essere diffuse a tutto il settore\, per consolidare l’innovazione? \nPresentazione della ricerca a cura di Erica Melloni – Università Bicocca\nPartecipano: Maria Serena Porcari – Dynamo Academy\, e Alessandro Mele – Cometa\nModera Maria Elena Vivaldi – Social Value Italia \nMaggiori informazioni sono disponibili al seguente link.
URL:https://www.improntaetica.org/evento/15-12-adotta-una-buona-pratica/
ATTACH;FMTTYPE=image/jpeg:https://www.improntaetica.org/wp-content/uploads/2021/12/webinar_15-12-1024x535-1-e1639403037105.jpg
END:VEVENT
END:VCALENDAR