BEGIN:VCALENDAR
VERSION:2.0
PRODID:-//Impronta Etica - ECPv6.15.20//NONSGML v1.0//EN
CALSCALE:GREGORIAN
METHOD:PUBLISH
X-ORIGINAL-URL:https://www.improntaetica.org
X-WR-CALDESC:Eventi per Impronta Etica
REFRESH-INTERVAL;VALUE=DURATION:PT1H
X-Robots-Tag:noindex
X-PUBLISHED-TTL:PT1H
BEGIN:VTIMEZONE
TZID:Europe/Rome
BEGIN:DAYLIGHT
TZOFFSETFROM:+0100
TZOFFSETTO:+0200
TZNAME:CEST
DTSTART:20150329T010000
END:DAYLIGHT
BEGIN:STANDARD
TZOFFSETFROM:+0200
TZOFFSETTO:+0100
TZNAME:CET
DTSTART:20151025T010000
END:STANDARD
BEGIN:DAYLIGHT
TZOFFSETFROM:+0100
TZOFFSETTO:+0200
TZNAME:CEST
DTSTART:20160327T010000
END:DAYLIGHT
BEGIN:STANDARD
TZOFFSETFROM:+0200
TZOFFSETTO:+0100
TZNAME:CET
DTSTART:20161030T010000
END:STANDARD
BEGIN:DAYLIGHT
TZOFFSETFROM:+0100
TZOFFSETTO:+0200
TZNAME:CEST
DTSTART:20170326T010000
END:DAYLIGHT
BEGIN:STANDARD
TZOFFSETFROM:+0200
TZOFFSETTO:+0100
TZNAME:CET
DTSTART:20171029T010000
END:STANDARD
BEGIN:DAYLIGHT
TZOFFSETFROM:+0100
TZOFFSETTO:+0200
TZNAME:CEST
DTSTART:20180325T010000
END:DAYLIGHT
BEGIN:STANDARD
TZOFFSETFROM:+0200
TZOFFSETTO:+0100
TZNAME:CET
DTSTART:20181028T010000
END:STANDARD
BEGIN:DAYLIGHT
TZOFFSETFROM:+0100
TZOFFSETTO:+0200
TZNAME:CEST
DTSTART:20190331T010000
END:DAYLIGHT
BEGIN:STANDARD
TZOFFSETFROM:+0200
TZOFFSETTO:+0100
TZNAME:CET
DTSTART:20191027T010000
END:STANDARD
BEGIN:DAYLIGHT
TZOFFSETFROM:+0100
TZOFFSETTO:+0200
TZNAME:CEST
DTSTART:20200329T010000
END:DAYLIGHT
BEGIN:STANDARD
TZOFFSETFROM:+0200
TZOFFSETTO:+0100
TZNAME:CET
DTSTART:20201025T010000
END:STANDARD
BEGIN:DAYLIGHT
TZOFFSETFROM:+0100
TZOFFSETTO:+0200
TZNAME:CEST
DTSTART:20210328T010000
END:DAYLIGHT
BEGIN:STANDARD
TZOFFSETFROM:+0200
TZOFFSETTO:+0100
TZNAME:CET
DTSTART:20211031T010000
END:STANDARD
BEGIN:DAYLIGHT
TZOFFSETFROM:+0100
TZOFFSETTO:+0200
TZNAME:CEST
DTSTART:20220327T010000
END:DAYLIGHT
BEGIN:STANDARD
TZOFFSETFROM:+0200
TZOFFSETTO:+0100
TZNAME:CET
DTSTART:20221030T010000
END:STANDARD
BEGIN:DAYLIGHT
TZOFFSETFROM:+0100
TZOFFSETTO:+0200
TZNAME:CEST
DTSTART:20230326T010000
END:DAYLIGHT
BEGIN:STANDARD
TZOFFSETFROM:+0200
TZOFFSETTO:+0100
TZNAME:CET
DTSTART:20231029T010000
END:STANDARD
BEGIN:DAYLIGHT
TZOFFSETFROM:+0100
TZOFFSETTO:+0200
TZNAME:CEST
DTSTART:20240331T010000
END:DAYLIGHT
BEGIN:STANDARD
TZOFFSETFROM:+0200
TZOFFSETTO:+0100
TZNAME:CET
DTSTART:20241027T010000
END:STANDARD
BEGIN:DAYLIGHT
TZOFFSETFROM:+0100
TZOFFSETTO:+0200
TZNAME:CEST
DTSTART:20250330T010000
END:DAYLIGHT
BEGIN:STANDARD
TZOFFSETFROM:+0200
TZOFFSETTO:+0100
TZNAME:CET
DTSTART:20251026T010000
END:STANDARD
END:VTIMEZONE
BEGIN:VEVENT
DTSTART;TZID=Europe/Rome:20240528T160000
DTEND;TZID=Europe/Rome:20240528T180000
DTSTAMP:20260421T102546
CREATED:20240506T155625Z
LAST-MODIFIED:20240506T155625Z
UID:39000-1716912000-1716919200@www.improntaetica.org
SUMMARY:28/05 | "Normative e pratiche del terzo settore"
DESCRIPTION:Fondazione Unipolis presenta il Terzjus Report 2023\nSi terrà il 28 maggio 2024 dalle 16.00 alle 18.00 a Palazzo Malvezzi\, Via Zamboni 13 Bologna\, l’evento di presentazione del Terzjus Report 2023 a cura di Fondazione Unipolis che andrà ad analizzare nello specifico i percorsi e le prospettive date dai nuovi sviluppi del terzo settore. \nIl rapporto\, a cura della Fondazione Terzjus ETS – Osservatorio di diritto del Terzo settore della filantropia e dell’impresa sociale\, esplora le evoluzioni normative e pratiche del terzo settore dopo la riforma del 2017. A partire dalla presentazione del rapporto si svolgerà un dibattito con l’obiettivo di esplorare le prospettive future per il terzo settore e approfondire il potenziale della cultura dell’amministrazione condivisa nel promuovere il benessere collettivo. \nParteciperanno in qualità di relatori diverse realtà del territorio operanti nel terzo settore tra cui CADIAI\, impresa socia di Impronta Etica\, l’Università di Bologna e il Forum del Terzo Settore dell’Emilia Romagna. \n\nE’ possibile ottenere maggiori informazioni e iscriversi al seguente link.
URL:https://www.improntaetica.org/evento/28-05-normative-e-pratiche-del-terzo-settore/
ATTACH;FMTTYPE=image/jpeg:https://www.improntaetica.org/wp-content/uploads/2020/04/unipolis-e1587126214638.jpg
END:VEVENT
BEGIN:VEVENT
DTSTART;TZID=Europe/Rome:20230208T090000
DTEND;TZID=Europe/Rome:20230208T170000
DTSTAMP:20260421T102546
CREATED:20230130T153714Z
LAST-MODIFIED:20230130T153714Z
UID:36276-1675846800-1675875600@www.improntaetica.org
SUMMARY:8/02 | 25° Congresso di Legacoop Bologna
DESCRIPTION:Innovazione\, coesione e sviluppo sostenibile: l’impresa del futuro è cooperativa.\nSi terrà l’8 febbraio\, presso FICO Eataly World (Via Paolo Canali 8\, Bologna)\, dalle ore 9 alle ore 17\, il venticinquesimo Congresso di Legacoop Bologna. \nOltre ad adempiere agli obblighi congressuali\, durante l’evento si terranno due tavole rotonde: \n\n“Per un nuovo patto associativo tra Legacoop e le imprese cooperative bolognesi” alla quale si segnala parteciperanno anche Granarolo\, Coop Alleanza 3.0\, Cadiai e Camst group.\n“Innovazione\, coesione e sviluppo sostenibile. Le visioni cooperative per il futuro di Bologna” alla quale si segnala parteciperanno anche il Sindaco della città Metropolitana di Bologna Matteo Lepore e Fondazione Unipolis.\n\nInoltre\, verrà presentata la ricerca  “Bologna Tech\, Smart e Green. Una città in movimento: strategie\, problemi\, prospettive” prodotta dalla RUR – Rete Urbana delle Rappresentanze. \nPer partecipare all’evento è necessario iscriversi al seguente link. \nMaggiori informazioni sono disponibili al seguente link. \nSCARICA IL PROGRAMMA
URL:https://www.improntaetica.org/evento/8-02-25-congresso-di-legacoop-bologna/
ATTACH;FMTTYPE=image/png:https://www.improntaetica.org/wp-content/uploads/2021/04/legacoop-e1618575610113.png
END:VEVENT
BEGIN:VEVENT
DTSTART;VALUE=DATE:20161125
DTEND;VALUE=DATE:20161127
DTSTAMP:20260421T102546
CREATED:20161123T090218Z
LAST-MODIFIED:20161123T090218Z
UID:11570-1480032000-1480204799@www.improntaetica.org
SUMMARY:Verso le città della fiducia: Opengroup\, Cadiai e Coop Alleanza 3.0 tra i relatori
DESCRIPTION:Incontri e azioni per la cooperazione e la responsabilità.\nA Bologna si terrà la prima edizione del progetto nazionale Le Città della Fiducia prodotto e promosso da Cadiai\, Camelot\, Coop Alleanza 3.0\, First Social Life\, l’Arcolaio\, Opengroup\, Seacoop e Società Dolce.\nSi vuole riflettere sul tema legato ai “beni comuni” e alla loro valorizzazione e fruizione. Partire dalla fiducia\, dall’accoglienza e dal dialogo vuole essere un modo per coinvolgere diversi mondi e diverse comunità attive nelle nostre città.\nLa prima edizione di Le Città della Fiducia vuole dare voce\, attraverso diversi incontri\, ai protagonisti sociali più sensibili a queste tematiche\, che potranno stimolare prossime azioni di economia della conoscenza\, di cooperazione\, di dialogo per il Mediterraneo e per l’Europa.\nPer maggiori informazioni è possibile visitare il sito del progetto.\nProgramma
URL:https://www.improntaetica.org/evento/verso-le-citta-della-fiducia-opengroup-cadiai-coop-alleanza-3-0-relatori/
LOCATION:Open Group\, Mura di Porta Galliera 1/2 A\, Bologna\, Italia
ATTACH;FMTTYPE=:
END:VEVENT
END:VCALENDAR