BEGIN:VCALENDAR
VERSION:2.0
PRODID:-//Impronta Etica - ECPv6.15.20//NONSGML v1.0//EN
CALSCALE:GREGORIAN
METHOD:PUBLISH
X-WR-CALNAME:Impronta Etica
X-ORIGINAL-URL:https://www.improntaetica.org
X-WR-CALDESC:Eventi per Impronta Etica
REFRESH-INTERVAL;VALUE=DURATION:PT1H
X-Robots-Tag:noindex
X-PUBLISHED-TTL:PT1H
BEGIN:VTIMEZONE
TZID:Europe/Rome
BEGIN:DAYLIGHT
TZOFFSETFROM:+0100
TZOFFSETTO:+0200
TZNAME:CEST
DTSTART:20220327T010000
END:DAYLIGHT
BEGIN:STANDARD
TZOFFSETFROM:+0200
TZOFFSETTO:+0100
TZNAME:CET
DTSTART:20221030T010000
END:STANDARD
BEGIN:DAYLIGHT
TZOFFSETFROM:+0100
TZOFFSETTO:+0200
TZNAME:CEST
DTSTART:20230326T010000
END:DAYLIGHT
BEGIN:STANDARD
TZOFFSETFROM:+0200
TZOFFSETTO:+0100
TZNAME:CET
DTSTART:20231029T010000
END:STANDARD
BEGIN:DAYLIGHT
TZOFFSETFROM:+0100
TZOFFSETTO:+0200
TZNAME:CEST
DTSTART:20240331T010000
END:DAYLIGHT
BEGIN:STANDARD
TZOFFSETFROM:+0200
TZOFFSETTO:+0100
TZNAME:CET
DTSTART:20241027T010000
END:STANDARD
END:VTIMEZONE
BEGIN:VEVENT
DTSTART;TZID=Europe/Rome:20231007T000000
DTEND;TZID=Europe/Rome:20231008T000000
DTSTAMP:20260421T060114
CREATED:20230824T144113Z
LAST-MODIFIED:20230926T085707Z
UID:37334-1696636800-1696723200@www.improntaetica.org
SUMMARY:7/10-8/10 | CambiaMenti - Pensa Sostenibile\, Vivi Circolare
DESCRIPTION:Il primo festival dedicato all’economia circolare a Bologna.\nL’Associazione di Promozione Sociale BackBo Hub è lieta di annunciare: “CambiaMenti – Pensa Sostenibile\, Vivi Circolare“: il primo festival dedicato all’economia circolare a Bologna. \nIl festival\, che si terrà il 7 e l’8 ottobre presso il DUMBO a Bologna\, ha l’obiettivo di fornire a cittadini e cittadine soluzioni concrete per affrontare le sfide legate ai cambiamenti climatici. \nL’interno dello Spazio Bianco sarà suddiviso in aree tematiche dove i visitatori potranno gratuitamente informarsi a 360° su temi di economia circolare e sostenibilità\, e scoprire come queste idee vengono messe in pratica dalle realtà locali. \nIl festival includerà tavole rotonde informative\, installazioni interattive e laboratori adatti a tutte le età. \nMaggiori informazioni sono disponibili al seguente link. \nSCARICA IL PROGRAMMA
URL:https://www.improntaetica.org/evento/7-10-8-10-cambiamenti-pensa-sostenibile-vivi-circolare/
ATTACH;FMTTYPE=image/png:https://www.improntaetica.org/wp-content/uploads/2023/08/nero.png
END:VEVENT
BEGIN:VEVENT
DTSTART;TZID=Europe/Rome:20230405T000000
DTEND;TZID=Europe/Rome:20230405T000000
DTSTAMP:20260421T060114
CREATED:20230313T083226Z
LAST-MODIFIED:20230313T083347Z
UID:36602-1680652800-1680652800@www.improntaetica.org
SUMMARY:05/04 | ASviS Live: Come la giusta transizione dovrebbe cambiare la politica italiana
DESCRIPTION:L’evento ASviS-Club di Roma sulla giusta transizione.\nSi terrà il 5 aprile l’evento\, organizzato dall’Alleanza per lo Sviluppo Sostenibile e dal Club di Roma dal titolo “Come la giusta transizione dovrebbe cambiare la politica italiana“. \nL’evento sarà l’occasione per far dialogare tra di loro rappresentanti dei partiti italiani e importanti figure scientifiche internazionali\, riflettendo sul necessario cambiamento sistemico per garantire un futuro più sostenibile. \nDurante l’iniziativa\, in italiano e in inglese\, verrà presentato il Rapporto International system change compass. \nMaggiori informazioni saranno disponibili al seguente link.
URL:https://www.improntaetica.org/evento/asvis-live-come-la-giusta-transizione-dovrebbe-cambiare-la-politica-italiana/
ATTACH;FMTTYPE=image/png:https://www.improntaetica.org/wp-content/uploads/2019/08/Logo-ASviS-e1736929301112.png
END:VEVENT
END:VCALENDAR