BEGIN:VCALENDAR
VERSION:2.0
PRODID:-//Impronta Etica - ECPv6.15.20//NONSGML v1.0//EN
CALSCALE:GREGORIAN
METHOD:PUBLISH
X-WR-CALNAME:Impronta Etica
X-ORIGINAL-URL:https://www.improntaetica.org
X-WR-CALDESC:Eventi per Impronta Etica
REFRESH-INTERVAL;VALUE=DURATION:PT1H
X-Robots-Tag:noindex
X-PUBLISHED-TTL:PT1H
BEGIN:VTIMEZONE
TZID:Europe/Rome
BEGIN:DAYLIGHT
TZOFFSETFROM:+0100
TZOFFSETTO:+0200
TZNAME:CEST
DTSTART:20210328T010000
END:DAYLIGHT
BEGIN:STANDARD
TZOFFSETFROM:+0200
TZOFFSETTO:+0100
TZNAME:CET
DTSTART:20211031T010000
END:STANDARD
BEGIN:DAYLIGHT
TZOFFSETFROM:+0100
TZOFFSETTO:+0200
TZNAME:CEST
DTSTART:20220327T010000
END:DAYLIGHT
BEGIN:STANDARD
TZOFFSETFROM:+0200
TZOFFSETTO:+0100
TZNAME:CET
DTSTART:20221030T010000
END:STANDARD
BEGIN:DAYLIGHT
TZOFFSETFROM:+0100
TZOFFSETTO:+0200
TZNAME:CEST
DTSTART:20230326T010000
END:DAYLIGHT
BEGIN:STANDARD
TZOFFSETFROM:+0200
TZOFFSETTO:+0100
TZNAME:CET
DTSTART:20231029T010000
END:STANDARD
END:VTIMEZONE
BEGIN:VEVENT
DTSTART;TZID=Europe/Rome:20220511T110000
DTEND;TZID=Europe/Rome:20220511T121500
DTSTAMP:20260421T052835
CREATED:20220429T153016Z
LAST-MODIFIED:20220429T153016Z
UID:34748-1652266800-1652271300@www.improntaetica.org
SUMMARY:11\05 | Etica News: i driver del net-zero
DESCRIPTION:Cosa porta le aziende in Italia e nel mondo a impegnarsi nella decarbonizzazione verso il net zero?\nLa spinta del mondo finanziario\, gli sviluppi normativi e la pressione del mercato sono i temi che verranno affrontati in questo webinar da Carbonsink\, società di consulenza italiana del gruppo South Pole. Il dibattito riunisce un panel di esperti e di aziende di differenti settori e dedicherà un particolare focus agli impegni per il clima delle aziende italiane. \nDi questo si discuterà al webinar organizzato da Etica News in collaborazione con numerosi partner (SRI\, ESGBusiness\, ESGAcademy\, Lindex\, SRIAwards\, ESGLab) che si terrà in forma ibrida l’11 maggio dalle ore 11.00 alle ore 12.15. \nMaggiori informazioni sono disponibili al seguente link. 
URL:https://www.improntaetica.org/evento/1105-etica-news-i-driver-del-net-zero/
ATTACH;FMTTYPE=image/png:https://www.improntaetica.org/wp-content/uploads/2022/04/etica.png
END:VEVENT
END:VCALENDAR