BEGIN:VCALENDAR
VERSION:2.0
PRODID:-//Impronta Etica - ECPv6.15.20//NONSGML v1.0//EN
CALSCALE:GREGORIAN
METHOD:PUBLISH
X-WR-CALNAME:Impronta Etica
X-ORIGINAL-URL:https://www.improntaetica.org
X-WR-CALDESC:Eventi per Impronta Etica
REFRESH-INTERVAL;VALUE=DURATION:PT1H
X-Robots-Tag:noindex
X-PUBLISHED-TTL:PT1H
BEGIN:VTIMEZONE
TZID:Europe/Rome
BEGIN:DAYLIGHT
TZOFFSETFROM:+0100
TZOFFSETTO:+0200
TZNAME:CEST
DTSTART:20210328T010000
END:DAYLIGHT
BEGIN:STANDARD
TZOFFSETFROM:+0200
TZOFFSETTO:+0100
TZNAME:CET
DTSTART:20211031T010000
END:STANDARD
BEGIN:DAYLIGHT
TZOFFSETFROM:+0100
TZOFFSETTO:+0200
TZNAME:CEST
DTSTART:20220327T010000
END:DAYLIGHT
BEGIN:STANDARD
TZOFFSETFROM:+0200
TZOFFSETTO:+0100
TZNAME:CET
DTSTART:20221030T010000
END:STANDARD
BEGIN:DAYLIGHT
TZOFFSETFROM:+0100
TZOFFSETTO:+0200
TZNAME:CEST
DTSTART:20230326T010000
END:DAYLIGHT
BEGIN:STANDARD
TZOFFSETFROM:+0200
TZOFFSETTO:+0100
TZNAME:CET
DTSTART:20231029T010000
END:STANDARD
END:VTIMEZONE
BEGIN:VEVENT
DTSTART;TZID=Europe/Rome:20220310T110000
DTEND;TZID=Europe/Rome:20220310T123000
DTSTAMP:20260421T072605
CREATED:20220208T083624Z
LAST-MODIFIED:20220208T083729Z
UID:34376-1646910000-1646915400@www.improntaetica.org
SUMMARY:10\03 | EU Update on the Due Diligence Law
DESCRIPTION:Un webinar organizzato da CSR Europe.\nLa pandemia di Covid-19 ha portato alla luce le grandi fragilità presenti nella catena di approvvigionamento in merito a diritti del lavoratori e agli impatti ambientali. \nUscire da questa crisi richiede importanti cambiamenti strutturali\, accelerando così il processo di imposizione di obblighi per le imprese in merito ai diritti umani e al rispetto dell’ambiente da parte dei Governi e della Commissione Europea.  \nCSR Europe propone un webinar aperto a tutti per approfondire la nuova proposta di legge rivolta alle imprese in merito alla Due Diligence della Commissione Europea in programma per il 2022. \nMaggiori informazioni sono disponibili al seguente link. 
URL:https://www.improntaetica.org/evento/1003-eu-update-on-the-due-diligence-law/
ATTACH;FMTTYPE=image/png:https://www.improntaetica.org/wp-content/uploads/2022/02/CSR.png
END:VEVENT
END:VCALENDAR