BEGIN:VCALENDAR
VERSION:2.0
PRODID:-//Impronta Etica - ECPv6.15.20//NONSGML v1.0//EN
CALSCALE:GREGORIAN
METHOD:PUBLISH
X-ORIGINAL-URL:https://www.improntaetica.org
X-WR-CALDESC:Eventi per Impronta Etica
REFRESH-INTERVAL;VALUE=DURATION:PT1H
X-Robots-Tag:noindex
X-PUBLISHED-TTL:PT1H
BEGIN:VTIMEZONE
TZID:Europe/Rome
BEGIN:DAYLIGHT
TZOFFSETFROM:+0100
TZOFFSETTO:+0200
TZNAME:CEST
DTSTART:20150329T010000
END:DAYLIGHT
BEGIN:STANDARD
TZOFFSETFROM:+0200
TZOFFSETTO:+0100
TZNAME:CET
DTSTART:20151025T010000
END:STANDARD
BEGIN:DAYLIGHT
TZOFFSETFROM:+0100
TZOFFSETTO:+0200
TZNAME:CEST
DTSTART:20160327T010000
END:DAYLIGHT
BEGIN:STANDARD
TZOFFSETFROM:+0200
TZOFFSETTO:+0100
TZNAME:CET
DTSTART:20161030T010000
END:STANDARD
BEGIN:DAYLIGHT
TZOFFSETFROM:+0100
TZOFFSETTO:+0200
TZNAME:CEST
DTSTART:20170326T010000
END:DAYLIGHT
BEGIN:STANDARD
TZOFFSETFROM:+0200
TZOFFSETTO:+0100
TZNAME:CET
DTSTART:20171029T010000
END:STANDARD
END:VTIMEZONE
BEGIN:VEVENT
DTSTART;TZID=Europe/Rome:20161013T140000
DTEND;TZID=Europe/Rome:20161013T180000
DTSTAMP:20260421T062635
CREATED:20160919T141310Z
LAST-MODIFIED:20160919T141310Z
UID:11137-1476367200-1476381600@www.improntaetica.org
SUMMARY:Responsabilità sociale d'impresa e Società Benefit
DESCRIPTION:Un convegno per comprendere cosa sono le Società Benefit e i vantaggi relativi alla certificazione.\nUnioncamere del Veneto e CSQA Certiﬁcazioni\, d’intesa con la Regione Veneto\, organizzano un convegno sulla Responsabilità Sociale d’Impresa all’interno del quale verranno presentate le Società Beneﬁt\, riconosciute come nuova forma giuridica di impresa dalla legge 208 del 2015 (legge di stabilità 2016) entrata in vigore dal primo gennaio 2016\, e la certiﬁcazione B-corp.\nL’evento permette di comprendere cosa si intende con Responsabilità Sociale d’Impresa\, cosa sono le B-Corp e come ottenere la certificazioni. Verranno inoltre messi in risalto i vantaggi di un’azienda socialmente responsabile.\nL’evento è co-organizzato con l’Ordine dei Consulenti del Lavoro della Provincia di Venezia e l’Ordine dei Dottori Commercialisti e degli Esperti Contabili di Venezia.\nE’ possibile iscriversi all’evento e avere maggiori informazioni al seguente link.\nProgramma
URL:https://www.improntaetica.org/evento/responsabilita-sociale-dimpresa-societa-benefit/
ATTACH;FMTTYPE=:
END:VEVENT
END:VCALENDAR