BEGIN:VCALENDAR
VERSION:2.0
PRODID:-//Impronta Etica - ECPv6.15.20//NONSGML v1.0//EN
CALSCALE:GREGORIAN
METHOD:PUBLISH
X-WR-CALNAME:Impronta Etica
X-ORIGINAL-URL:https://www.improntaetica.org
X-WR-CALDESC:Eventi per Impronta Etica
REFRESH-INTERVAL;VALUE=DURATION:PT1H
X-Robots-Tag:noindex
X-PUBLISHED-TTL:PT1H
BEGIN:VTIMEZONE
TZID:Europe/Rome
BEGIN:DAYLIGHT
TZOFFSETFROM:+0100
TZOFFSETTO:+0200
TZNAME:CEST
DTSTART:20210328T010000
END:DAYLIGHT
BEGIN:STANDARD
TZOFFSETFROM:+0200
TZOFFSETTO:+0100
TZNAME:CET
DTSTART:20211031T010000
END:STANDARD
BEGIN:DAYLIGHT
TZOFFSETFROM:+0100
TZOFFSETTO:+0200
TZNAME:CEST
DTSTART:20220327T010000
END:DAYLIGHT
BEGIN:STANDARD
TZOFFSETFROM:+0200
TZOFFSETTO:+0100
TZNAME:CET
DTSTART:20221030T010000
END:STANDARD
BEGIN:DAYLIGHT
TZOFFSETFROM:+0100
TZOFFSETTO:+0200
TZNAME:CEST
DTSTART:20230326T010000
END:DAYLIGHT
BEGIN:STANDARD
TZOFFSETFROM:+0200
TZOFFSETTO:+0100
TZNAME:CET
DTSTART:20231029T010000
END:STANDARD
BEGIN:DAYLIGHT
TZOFFSETFROM:+0100
TZOFFSETTO:+0200
TZNAME:CEST
DTSTART:20240331T010000
END:DAYLIGHT
BEGIN:STANDARD
TZOFFSETFROM:+0200
TZOFFSETTO:+0100
TZNAME:CET
DTSTART:20241027T010000
END:STANDARD
BEGIN:DAYLIGHT
TZOFFSETFROM:+0100
TZOFFSETTO:+0200
TZNAME:CEST
DTSTART:20250330T010000
END:DAYLIGHT
BEGIN:STANDARD
TZOFFSETFROM:+0200
TZOFFSETTO:+0100
TZNAME:CET
DTSTART:20251026T010000
END:STANDARD
END:VTIMEZONE
BEGIN:VEVENT
DTSTART;TZID=Europe/Rome:20241029T180000
DTEND;TZID=Europe/Rome:20241029T200000
DTSTAMP:20260421T062452
CREATED:20241024T091737Z
LAST-MODIFIED:20241025T095504Z
UID:40102-1730224800-1730232000@www.improntaetica.org
SUMMARY:29/10 | TRY4: Ecoansia
DESCRIPTION:Un nuovo momento di condivisione e scambio dei Change Makers Lab.\nSi terrà il 29 ottobre dalle 18.00 alle 20.00 presso Fondazione Barberini\, via Mentana 2\, Bologna. TRY4\, il format di eventi dove l’occasione diventa azione. La ricerca di cambiamento dei Change Makers questa volta affronta il tema dell’ecoansia. \nSi tratterà di un confronto strutturato e facilitato che mette insieme HR/Datori di lavoro e persone sotto i 40 anni. Partendo dalla condivisione dei propri background ed esempi di situazioni vissute\, chi partecipa avrà modo di confrontarsi su possibili strategie e strumenti rispetto al tema per trasformare le proprie esperienze e quelle delle persone con cui le si vive\, per generare un cambiamento concreto. \nSCARICA IL SAVE THE DATE
URL:https://www.improntaetica.org/evento/29-10-try4-ecoansia/
CATEGORIES:Eventi 2024
ATTACH;FMTTYPE=image/png:https://www.improntaetica.org/wp-content/uploads/2024/10/Immagine-2024-10-25-115429.png
END:VEVENT
BEGIN:VEVENT
DTSTART;TZID=Europe/Rome:20240416T180000
DTEND;TZID=Europe/Rome:20240416T200000
DTSTAMP:20260421T062452
CREATED:20240411T130729Z
LAST-MODIFIED:20240411T130729Z
UID:38852-1713290400-1713297600@www.improntaetica.org
SUMMARY:16/04 | TRY4 - Bisogni
DESCRIPTION: Dove l’occasione diventa azione.\nTRY4\, il format di eventi dove l’occasione diventa azione. La ricerca di cambiamento dei Change Makers questa volta si occupa di ambienti di azione/lavoro in cui esprimere e vedere accolti i propri bisogni. \nPartendo dalla condivisione dei propri background ed esempi di situazioni vissute\, chi partecipa avrà modo di trovare strategie\, metodi e strumenti per trasformare le proprie esperienze e quelle delle persone con cui le si vive\, per generare un cambiamento concreto. \nSpecial Guest del terzo incontro che si terrà il 16 aprile dalle 18.00 alle 20.00 di TRY4 sarà Gabriele Puzzo – titolare di un assegno di ricerca presso il Dipartimento delle Arti dell’Università di Bologna. Titolo della ricerca: EQUITÀ\, INCLUSIONE\, DIVERSITÀ nella comunicazione istituzionale dell’Università di Bologna: la costruzione di una strategia integrata. Cristina è anche Coordinatrice del Progetto Noi.NO\, un programma di laboratori educativi\, attività di formazione ed eventi contro la violenza di genere e è Presidente della rete di associazioni Attraverso lo Specchio. \nE’ possibile iscriversi e ottenere maggiori informazioni al seguente link.
URL:https://www.improntaetica.org/evento/16-04-try4-bisogni/
ATTACH;FMTTYPE=image/png:https://www.improntaetica.org/wp-content/uploads/2024/04/cm.png
END:VEVENT
BEGIN:VEVENT
DTSTART;TZID=Europe/Rome:20221018T183000
DTEND;TZID=Europe/Rome:20221018T213000
DTSTAMP:20260421T062452
CREATED:20221006T113806Z
LAST-MODIFIED:20221007T113451Z
UID:35580-1666117800-1666128600@www.improntaetica.org
SUMMARY:18/10| Change Makers Night
DESCRIPTION:La serata dedicata al cambiamento\, alla cooperazione e all’impatto.\nTorna la Change Makers Night\, martedì 18 ottobre al DAS\, via del Porto 11/2 (BO) dalle ore 18.30\, una serata che vuole raccontare il cambiamento e favorire la contaminazione e il confronto per promuovere un nuovo modello di sviluppo. Testimonianze di startupper e change makers\, i classici speed date filosofici e un aperitivo per la community. \nDurante l’evento potrai incontrare e conoscere i nostri supporter: organizzazioni\, associazioni e communities impegnate nell’innovazione e nella sostenibilità. \nE’ possibile registrarsi e ottenere maggiori informazioni al seguente link.
URL:https://www.improntaetica.org/evento/08-10-change-makers-night/
ATTACH;FMTTYPE=image/png:https://www.improntaetica.org/wp-content/uploads/2022/05/change.png
END:VEVENT
BEGIN:VEVENT
DTSTART;TZID=Europe/Rome:20220606T180000
DTEND;TZID=Europe/Rome:20220606T220000
DTSTAMP:20260421T062452
CREATED:20220531T152705Z
LAST-MODIFIED:20220531T152705Z
UID:34925-1654538400-1654552800@www.improntaetica.org
SUMMARY:06\06 | Change Makers Night
DESCRIPTION:Una serata dedicata al cambiamento\, alla cooperazione e all’impatto.\nSi terrà il 6 giugno alla Baia di DumBO dalle ore 18.00 Change Makers Night\, una serata per raccontare il cambiamento e favorire la contaminazione e il confronto. \nIn occasione della serata verrà presentato il bando Coopstartup Change Makers\, promosso da Legacoop Bologna\, Legacoop Imola e Coopfond con l’obiettivo di accompagnare lo sviluppo di idee imprenditoriali da realizzare in forma di startup cooperativa e capaci di promuovere un cambiamento in ambito economico\, sociale\, ambientale e culturale e generare un impatto positivo per le persone\, le comunità e il pianeta. \nE’ possibile visionare il programma dell’evento ed iscriversi al seguente link.  \n  \n 
URL:https://www.improntaetica.org/evento/0606-change-makers-night/
ATTACH;FMTTYPE=image/png:https://www.improntaetica.org/wp-content/uploads/2022/05/change.png
END:VEVENT
END:VCALENDAR