BEGIN:VCALENDAR
VERSION:2.0
PRODID:-//Impronta Etica - ECPv6.15.20//NONSGML v1.0//EN
CALSCALE:GREGORIAN
METHOD:PUBLISH
X-ORIGINAL-URL:https://www.improntaetica.org
X-WR-CALDESC:Eventi per Impronta Etica
REFRESH-INTERVAL;VALUE=DURATION:PT1H
X-Robots-Tag:noindex
X-PUBLISHED-TTL:PT1H
BEGIN:VTIMEZONE
TZID:Europe/Rome
BEGIN:DAYLIGHT
TZOFFSETFROM:+0100
TZOFFSETTO:+0200
TZNAME:CEST
DTSTART:20220327T010000
END:DAYLIGHT
BEGIN:STANDARD
TZOFFSETFROM:+0200
TZOFFSETTO:+0100
TZNAME:CET
DTSTART:20221030T010000
END:STANDARD
BEGIN:DAYLIGHT
TZOFFSETFROM:+0100
TZOFFSETTO:+0200
TZNAME:CEST
DTSTART:20230326T010000
END:DAYLIGHT
BEGIN:STANDARD
TZOFFSETFROM:+0200
TZOFFSETTO:+0100
TZNAME:CET
DTSTART:20231029T010000
END:STANDARD
BEGIN:DAYLIGHT
TZOFFSETFROM:+0100
TZOFFSETTO:+0200
TZNAME:CEST
DTSTART:20240331T010000
END:DAYLIGHT
BEGIN:STANDARD
TZOFFSETFROM:+0200
TZOFFSETTO:+0100
TZNAME:CET
DTSTART:20241027T010000
END:STANDARD
END:VTIMEZONE
BEGIN:VEVENT
DTSTART;TZID=Europe/Rome:20231129T093000
DTEND;TZID=Europe/Rome:20231129T130000
DTSTAMP:20260421T084426
CREATED:20231127T112454Z
LAST-MODIFIED:20231127T112454Z
UID:38084-1701250200-1701262800@www.improntaetica.org
SUMMARY:29/11 | Presentazione del Circular Economy Report 2023
DESCRIPTION:Il Rapporto del Politecnico di Milano.\nQual è il giusto mix tra strategie\, innovazioni tecnologiche e policy per rendere le filiere produttive più circolari e resilienti? In Italia siamo al penultimo posto per investimenti privati in Economia circolare: a una Strategia Nazionale che arranca\, si affiancano le difficoltose procedure autorizzative necessarie per connettere settori diversi e avviare al riuso le materie prime “seconde”. \nI risultati del Circular Economy Report 2023\, che è stato redatto dall’Energy&Strategy della School of Management del Politecnico di Miano e verrà presentato mercoledì 29 novembre dalle 9.30 alle 13 al Politecnico di Milano (Aula Magna Carassa e Dadda\, via Lamburschini 4) insieme alle imprese partner della ricerca\, sottolineano come l’impegno delle aziende sia orientato alla valorizzazione del fine vita dei prodotti a scapito di pratiche incentrate su design ed estensione dell’utilizzo. \nMaggiori informazioni sono disponibili al seguente link. \nE’ possibile iscriversi al seguente link.
URL:https://www.improntaetica.org/evento/29-11-presentazione-del-circular-economy-report-2023/
ATTACH;FMTTYPE=image/png:https://www.improntaetica.org/wp-content/uploads/2023/03/Logo_Politecnico_Milano.png
END:VEVENT
END:VCALENDAR