BEGIN:VCALENDAR
VERSION:2.0
PRODID:-//Impronta Etica - ECPv6.15.20//NONSGML v1.0//EN
CALSCALE:GREGORIAN
METHOD:PUBLISH
X-ORIGINAL-URL:https://www.improntaetica.org
X-WR-CALDESC:Eventi per Impronta Etica
REFRESH-INTERVAL;VALUE=DURATION:PT1H
X-Robots-Tag:noindex
X-PUBLISHED-TTL:PT1H
BEGIN:VTIMEZONE
TZID:Europe/Rome
BEGIN:DAYLIGHT
TZOFFSETFROM:+0100
TZOFFSETTO:+0200
TZNAME:CEST
DTSTART:20210328T010000
END:DAYLIGHT
BEGIN:STANDARD
TZOFFSETFROM:+0200
TZOFFSETTO:+0100
TZNAME:CET
DTSTART:20211031T010000
END:STANDARD
BEGIN:DAYLIGHT
TZOFFSETFROM:+0100
TZOFFSETTO:+0200
TZNAME:CEST
DTSTART:20220327T010000
END:DAYLIGHT
BEGIN:STANDARD
TZOFFSETFROM:+0200
TZOFFSETTO:+0100
TZNAME:CET
DTSTART:20221030T010000
END:STANDARD
BEGIN:DAYLIGHT
TZOFFSETFROM:+0100
TZOFFSETTO:+0200
TZNAME:CEST
DTSTART:20230326T010000
END:DAYLIGHT
BEGIN:STANDARD
TZOFFSETFROM:+0200
TZOFFSETTO:+0100
TZNAME:CET
DTSTART:20231029T010000
END:STANDARD
BEGIN:DAYLIGHT
TZOFFSETFROM:+0100
TZOFFSETTO:+0200
TZNAME:CEST
DTSTART:20240331T010000
END:DAYLIGHT
BEGIN:STANDARD
TZOFFSETFROM:+0200
TZOFFSETTO:+0100
TZNAME:CET
DTSTART:20241027T010000
END:STANDARD
BEGIN:DAYLIGHT
TZOFFSETFROM:+0100
TZOFFSETTO:+0200
TZNAME:CEST
DTSTART:20250330T010000
END:DAYLIGHT
BEGIN:STANDARD
TZOFFSETFROM:+0200
TZOFFSETTO:+0100
TZNAME:CET
DTSTART:20251026T010000
END:STANDARD
BEGIN:DAYLIGHT
TZOFFSETFROM:+0100
TZOFFSETTO:+0200
TZNAME:CEST
DTSTART:20260329T010000
END:DAYLIGHT
BEGIN:STANDARD
TZOFFSETFROM:+0200
TZOFFSETTO:+0100
TZNAME:CET
DTSTART:20261025T010000
END:STANDARD
BEGIN:DAYLIGHT
TZOFFSETFROM:+0100
TZOFFSETTO:+0200
TZNAME:CEST
DTSTART:20270328T010000
END:DAYLIGHT
BEGIN:STANDARD
TZOFFSETFROM:+0200
TZOFFSETTO:+0100
TZNAME:CET
DTSTART:20271031T010000
END:STANDARD
END:VTIMEZONE
BEGIN:VEVENT
DTSTART;TZID=Europe/Rome:20260226T093000
DTEND;TZID=Europe/Rome:20260226T133000
DTSTAMP:20260421T073144
CREATED:20260220T140122Z
LAST-MODIFIED:20260220T140122Z
UID:42495-1772098200-1772112600@www.improntaetica.org
SUMMARY:26/02 | Città Metropolitana: Prevenire e contrastare la violenza di genere
DESCRIPTION:Aziende e Istituzioni insieme per prevenire la violenza di genere.\nGiovedì 26 febbraio 2026\, dalle 9.30 alle 13.30\, all’Opificio Golinelli\, in Via Paolo Nanni Costa\, 14\, 40133 Bologna BO\, si terrà l’incontro dal titolo “Impresa Comune. Prevenire e contrastare la violenza di genere: un’alleanza tra Aziende\, Istituzioni e Centri Antiviolenza”.  \nLa mattina si aprirà con interventi di alcuni esperti del settore\, con il coinvolgimento diretto di imprese del territorio – tra cui alcune aziende socie di Impronta Etica quali NCV\, Aeroporto Marconi\, TPER\, Gruppo HERA ed Emilbanca – insieme ai Centri Antiviolenza e a Insieme per il Lavoro\, in un confronto orientato alla costruzione di strumenti e collaborazioni concrete. \nL’iniziativa è realizzata nell’ambito del Protocollo tra Città metropolitana di Bologna e Rete Capo D e rientra nel percorso Parità di genere: dialoghi tra istituzioni\, imprese e mondo delle associazioni\, nella cornice del Piano per l’Uguaglianza della Città metropolitana di Bologna. L’obiettivo è infatti quello di condividere esperienze per l’attivazione di percorsi efficaci di prevenzione e formazione nei contesti aziendali\, rafforzare le modalità di collaborazione con i Centri Antiviolenza e promuovere percorsi di inserimento lavorativo per donne vittime di violenza\, rendendo coerenti policy aziendali e pratiche organizzative quotidiane. \nL’evento è gratuito e le iscrizioni saranno aperte fino ad esaurimento posti al seguente link. \nSCARICA IL PROGRAMMA
URL:https://www.improntaetica.org/evento/26-02-citta-metropolitana-prevenire-e-contrastare-la-violenza-di-genere/
CATEGORIES:Eventi 2026,Eventi 2026
ATTACH;FMTTYPE=image/png:https://www.improntaetica.org/wp-content/uploads/2026/02/Screenshot-2026-02-17-171647-e1771345068988.png
END:VEVENT
BEGIN:VEVENT
DTSTART;TZID=Europe/Rome:20230508T143000
DTEND;TZID=Europe/Rome:20230508T143000
DTSTAMP:20260421T073144
CREATED:20230505T112110Z
LAST-MODIFIED:20230505T112143Z
UID:36876-1683556200-1683556200@www.improntaetica.org
SUMMARY:08/05 | Il welfare collaborativo alla prova dei fatti
DESCRIPTION:Il seminario della Città Metropolitana di Bologna.\nPartendo dal Manifesto “L’economia al servizio delle persone” e attraverso il confronto con diverse realtà del territorio\, che porterà alla costruzione del Piano metropolitano per l’Economia Sociale\, Bologna si pone al centro del dibattito attuale sui temi dell’economia sociale per contribuire alla costruzione di un nuovo modello di sviluppo che abbia l’economia sociale come uno dei sui pilastri principali\, in grado di generare crescita economica\, buona occupazione e inclusione sociale. \nL’8 maggio 2023 alle ore 14.30 nella Sala Anziani di Palazzo d’Accursio (Piazza Maggiore 6) si terrà il primo seminario “Il welfare collaborativo alla prova dei fatti” organizzato dalla Città Metropolitana di Bologna: per il consolidamento e sviluppo dell’economia sociale il rapporto tra questa e la pubblica amministrazione è di fondamentale importanza. La relazione tra soggetti pubblici e privati può assumere diverse forme. Tra queste l’amministrazione condivisa si presenta come alternativa agli appalti e all’interno di una rosa di differenti modalità di interazione possibili. Sulla base delle esperienze di welfare collaborativo ad oggi maturate è vitale comprenderne punti di forza e di debolezza per mirare ad una sua estesa ed efficace applicazione. \nIl seminario sarà presentato da Daniela Freddi\, Responsabile del Piano per l’Economia Sociale di Città metropolitana di Bologna e i lavori saranno aperti dal Sindaco metropolitano di Bologna Matteo Lepore. Cuore di questo primo seminario sarà la presentazione\, affidata al professor Luca Fazzi dell’Università di Trento\, della ricerca di Euricse “Il nuovo welfare collaborativo in Italia: coprogrammazione e coprogettazione come strumento di innovazione del welfare locale”. Sui temi della ricerca si confronteranno poi Luciano Gallo (ANCI Emilia-Romagna); Erika Capasso (delegata alle politiche per il Terzo settore del Comune di Bologna); Federico Amico (consigliere regionale Emilia-Romagna Coraggiosa); Rossella Vigneri (portavoce Forum Terzo Settore Bologna); Alberto Alberani (portavoce Forum Terzo Settore Emilia-Romagna); Massimo Mota (presidente di ACI Bologna). \nIl Seminario sarà ad ingresso libero fino ad esaurimento posti. \nMaggiori informazioni sono disponibili al seguente link. \nSCARICA IL PROGRAMMA
URL:https://www.improntaetica.org/evento/il-welfare-collaborativo-alla-prova-dei-fatti/
ATTACH;FMTTYPE=image/jpeg:https://www.improntaetica.org/wp-content/uploads/2020/10/città-metropolitana.jpg
END:VEVENT
BEGIN:VEVENT
DTSTART;TZID=Europe/Rome:20230208T150000
DTEND;TZID=Europe/Rome:20230208T170000
DTSTAMP:20260421T073144
CREATED:20230130T104856Z
LAST-MODIFIED:20230130T104953Z
UID:36244-1675868400-1675875600@www.improntaetica.org
SUMMARY:8/02 | Autoconsumo e Comunità Energetiche Rinnovabili: quali opportunità per le imprese?
DESCRIPTION:Un webinar sulle comunità energetiche e i vantaggi per le aziende.\nOrganizzato da Confindustria Emilia e la Città Metropolitana di Bologna\, il webinar si terrà in modalità online l’8 febbraio alle ore 15. Approfondirà come lo sviluppo delle comunità energetiche possa essere per le aziende un’occasione per aumentare la propria competitività e il proprio impegno per l’ambiente. \nNella prima parte dell’incontro\, si affronterà il quadro normativo\, gli obiettivi\, le strategie e le opportunità di finanziamento. In seguito\, ci sarà una tavola rotonda\, a cui parteciperà anche Gruppo Hera\,  incentrata su come realizzare una Comunità Energetica e sugli strumenti a disposizione ed alcuni case study. \nPer partecipare è necessario iscriversi. \nMaggiori informazioni sull’evento e sulle modalità di iscrizione sono disponibili al seguente link. \nSCARICA IL PROGRAMMA  
URL:https://www.improntaetica.org/evento/8-02-autoconsumo-e-comunita-energetiche-rinnovabili-quali-opportunita-per-le-imprese/
ATTACH;FMTTYPE=image/png:https://www.improntaetica.org/wp-content/uploads/2023/01/Immagine-senza-nome-3.png
END:VEVENT
BEGIN:VEVENT
DTSTART;TZID=Europe/Rome:20221219T103000
DTEND;TZID=Europe/Rome:20221219T123000
DTSTAMP:20260421T073144
CREATED:20221215T091037Z
LAST-MODIFIED:20221215T091037Z
UID:36080-1671445800-1671453000@www.improntaetica.org
SUMMARY:19/12 | Bologna Missione Clima
DESCRIPTION:Lancio del Climate City Contract.\nSi terrà il 19 dicembre dalle ore 10.30 alle 12.30 presso l’Auditorium Biagi\, presso la Biblioteca Salaborsa (Piazza del Nettuno\, 3\, Bologna)\, l’evento che presenterà l’impegno della città di Bologna nell’ambito della missione europea “100 Climate Neutral Cities by 2030”. \nDurante l’incontro\, saranno presentati più dettagliatamente la Missione\, i cui obiettivi sono la promozione e innovazione della mobilità pulita\, dell’efficienza energetica e dell’urbanistica verde\, e il Climate City Contract\, il Contratto Cittadino che sarà fondamento e guida per la città di Bologna nella transizione verso la neutralità climatica. \nMaggiori informazioni sono disponibili al seguente link. \nSCARICA IL PROGRAMMA
URL:https://www.improntaetica.org/evento/19-12-bologna-missione-clima/
ATTACH;FMTTYPE=image/jpeg:https://www.improntaetica.org/wp-content/uploads/2021/11/comune-bologna-e1766502094228.jpg
END:VEVENT
BEGIN:VEVENT
DTSTART;TZID=Europe/Rome:20221018T000000
DTEND;TZID=Europe/Rome:20221021T000000
DTSTAMP:20260421T073144
CREATED:20221018T092614Z
LAST-MODIFIED:20221018T092614Z
UID:35698-1666051200-1666310400@www.improntaetica.org
SUMMARY:18/10-21/10 | L'economia sociale: il futuro di Bologna
DESCRIPTION:Quattro giorni di confronti e dibattiti.\nBologna si pone al centro del dibattito attuale sui temi dell’economia sociale e lo fa con ES/BO – L’Economia Sociale: il futuro di Bologna\, il futuro dell’Europa\, quattro giornate di confronto tra diversi protagonisti di livello nazionale ed europeo\, promosse da Città metropolitana\, Comune di Bologna e Ministero del Lavoro e delle Politiche sociali. Un programma ricco di appuntamenti\, che animerà la città tra il 18 e il 21 ottobre\, per contribuire alla costruzione di un nuovo modello di sviluppo che abbia l’economia sociale come uno dei sui pilastri principali\, in grado di generare crescita economica\, buona occupazione e inclusione sociale. \nLe giornate del 18 e 19 daranno apriranno programma e segneranno l’inizio di un percorso partecipato che\, partendo dalla presentazione del Manifesto “L’economia al servizio delle persone” e dal confronto con diverse realtà del territorio\, porterà alla costruzione del Piano metropolitano per l’Economia Sociale. \nMaggiori informazioni sono disponibili al seguente link. \nSCARICA IL PROGRAMMA
URL:https://www.improntaetica.org/evento/18-10-21-10-leconomia-sociale-il-futuro-di-bologna/
ATTACH;FMTTYPE=image/jpeg:https://www.improntaetica.org/wp-content/uploads/2020/10/città-metropolitana.jpg
END:VEVENT
END:VCALENDAR