BEGIN:VCALENDAR
VERSION:2.0
PRODID:-//Impronta Etica - ECPv6.15.20//NONSGML v1.0//EN
CALSCALE:GREGORIAN
METHOD:PUBLISH
X-ORIGINAL-URL:https://www.improntaetica.org
X-WR-CALDESC:Eventi per Impronta Etica
REFRESH-INTERVAL;VALUE=DURATION:PT1H
X-Robots-Tag:noindex
X-PUBLISHED-TTL:PT1H
BEGIN:VTIMEZONE
TZID:Europe/Rome
BEGIN:DAYLIGHT
TZOFFSETFROM:+0100
TZOFFSETTO:+0200
TZNAME:CEST
DTSTART:20220327T010000
END:DAYLIGHT
BEGIN:STANDARD
TZOFFSETFROM:+0200
TZOFFSETTO:+0100
TZNAME:CET
DTSTART:20221030T010000
END:STANDARD
BEGIN:DAYLIGHT
TZOFFSETFROM:+0100
TZOFFSETTO:+0200
TZNAME:CEST
DTSTART:20230326T010000
END:DAYLIGHT
BEGIN:STANDARD
TZOFFSETFROM:+0200
TZOFFSETTO:+0100
TZNAME:CET
DTSTART:20231029T010000
END:STANDARD
BEGIN:DAYLIGHT
TZOFFSETFROM:+0100
TZOFFSETTO:+0200
TZNAME:CEST
DTSTART:20240331T010000
END:DAYLIGHT
BEGIN:STANDARD
TZOFFSETFROM:+0200
TZOFFSETTO:+0100
TZNAME:CET
DTSTART:20241027T010000
END:STANDARD
BEGIN:DAYLIGHT
TZOFFSETFROM:+0100
TZOFFSETTO:+0200
TZNAME:CEST
DTSTART:20250330T010000
END:DAYLIGHT
BEGIN:STANDARD
TZOFFSETFROM:+0200
TZOFFSETTO:+0100
TZNAME:CET
DTSTART:20251026T010000
END:STANDARD
END:VTIMEZONE
BEGIN:VEVENT
DTSTART;TZID=Europe/Rome:20240130T143000
DTEND;TZID=Europe/Rome:20240130T160000
DTSTAMP:20260421T052114
CREATED:20240126T164328Z
LAST-MODIFIED:20240126T164328Z
UID:38337-1706625000-1706630400@www.improntaetica.org
SUMMARY:30/01 | Finale Open Innovation Challenge
DESCRIPTION:Le Cities 4.0 Open Innovation Challenges si sono chiuse il 6 dicembre 2023 e hanno ricevuto molte proposte di alta qualità per la sfida Ciascuna soluzione proposta ha fornito spunti stimolanti e innovativi per rendere la neutralità climatica una realtà in Europa. Da Francia\, Finlandia\, Germania\, Italia\, Paesi Bassi\, Belgio e Romania\, tutti i candidati hanno inviato soluzioni stimolanti e innovative che potrebbero rappresentare opportunità significative per un futuro sostenibile e prospero. \nLa giuria\, supportata da un team di esperti composto da specialisti dei due diversi ambiti correlati alle sfide\, ha identificato 3 finalisti. Ora è il momento di scegliere i 2 vincitori finali\, uno per ciascuna categoria. \nLa finale si terrà online il  30 gennaio 2024 dalle 14.30 alle 16.00: durante l’evento\, ogni finalista avrà la possibilità di presentare la propria soluzione e rispondere a qualsiasi domanda della giuria. \nPer partecipare è necessario compilare  questo modulo entro il 29 gennaio 2024. Tutti i dettagli e il link per la partecipazione saranno condivisi con te a tempo debito. \nSCARICA IL PROGRAMMA
URL:https://www.improntaetica.org/evento/30-01-finale-open-innovation-challenge/
ATTACH;FMTTYPE=image/png:https://www.improntaetica.org/wp-content/uploads/2024/01/cities.png
END:VEVENT
BEGIN:VEVENT
DTSTART;TZID=Europe/Rome:20230605T170000
DTEND;TZID=Europe/Rome:20230605T183000
DTSTAMP:20260421T052114
CREATED:20230529T101907Z
LAST-MODIFIED:20230529T101907Z
UID:37018-1685984400-1685989800@www.improntaetica.org
SUMMARY:05/06 | Bologna Missione Clima. Salute\, diritti ed economia alla prova della crisi climatica
DESCRIPTION:L’evento promosso nell’ambito di Bologna Missione Clima.\nSi terrà lunedì 5 giugno alle ore 17.00 alle 18:30 presso l’Auditorium Enzo Biagi a Bologna all’incontro pubblico “Bologna Missione Clima. Salute\, diritti e economia alla prova della crisi climatica” promosso nell’ambito di Bologna Missione Clima dal Comune di Bologna in collaborazione con la Fondazione per l’Innovazione Urbana\, in occasione della Giornata mondiale dell’ambiente. \nBologna\, infatti\, è una delle 100 città selezionate dalla Commissione Europea per raggiungere la neutralità climatica entro il 2030\, cioè 20 anni prima dell’obiettivo europeo. \nL’incontro pubblico del 5 giugno sarà l’occasione per approfondire e discutere sugli impatti e i co-benefici che il percorso verso la neutralità climatica avrà in termini di salute e benessere\, lavoro\, economia e inclusione sociale per Bologna. \nMaggiori informazioni sono disponibili al seguente link. \n 
URL:https://www.improntaetica.org/evento/05-06-bologna-missione-clima-salute-diritti-ed-economia-alla-prova-della-crisi-climatica/
ATTACH;FMTTYPE=image/jpeg:https://www.improntaetica.org/wp-content/uploads/2021/11/comune-bologna-e1766502094228.jpg
END:VEVENT
BEGIN:VEVENT
DTSTART;TZID=Europe/Rome:20230223T180000
DTEND;TZID=Europe/Rome:20230223T200000
DTSTAMP:20260421T052114
CREATED:20230220T160359Z
LAST-MODIFIED:20230220T160359Z
UID:36426-1677175200-1677182400@www.improntaetica.org
SUMMARY:23/02 | Città che cambiano
DESCRIPTION:Primo appuntamento del ciclo di eventi promosso da Fondazione Unipolis.\nPrende il via il ciclo di eventi “Cose che cambiano” promosso dalla Fondazione Unipolis\, in collaborazione con il DAMSLab\, che ospita la rassegna\, e il Corso di Alta Formazione in Innovatori Culturali. A Bologna\, da febbraio a maggio\, una rassegna per raccontare e confrontarsi su una società in continua trasformazione. Ogni incontro è dedicato a un tema\, attraverso un’intervista doppia\, per approfondire scenari in mutamento\, cose da sapere che cambiano\, e noi con loro.  \nIl ciclo si apre con “Città che cambiano” il 23 febbraio alle ore 18:00 presso il DamsLab\, che sarà introdotto da Marisa Parmigiani – direttrice Fondazione Unipolis e Roberta Paltrinieri\, responsabile scientifico DAMSLab e docente dell’Università di Bologna. Un’intervista doppia condotta da Roberta Franceschinelli – project manager di Fondazione Unipolis\, a Davide Agazzi – cofondatore di FROM\, esperto di innovazione ed economie urbane e a Silvia Cafora\, architetta\, ricercatrice presso il Politecnico di Torino. ​ \nL’intervista doppia\, che durerà dalle ore 18:00 alle ore 19:00\, sarà seguita da una sessione di domande e da un aperitivo. \nIngresso libero fino ad esaurimento posti\, si consiglia di arrivare in anticipo per poter prendere posto. \nMaggiori informazioni sono disponibili al seguente link.
URL:https://www.improntaetica.org/evento/23-02-citta-che-cambiano/
ATTACH;FMTTYPE=image/jpeg:https://www.improntaetica.org/wp-content/uploads/2020/04/unipolis-e1587126214638.jpg
END:VEVENT
END:VCALENDAR