BEGIN:VCALENDAR
VERSION:2.0
PRODID:-//Impronta Etica - ECPv6.15.20//NONSGML v1.0//EN
CALSCALE:GREGORIAN
METHOD:PUBLISH
X-WR-CALNAME:Impronta Etica
X-ORIGINAL-URL:https://www.improntaetica.org
X-WR-CALDESC:Eventi per Impronta Etica
REFRESH-INTERVAL;VALUE=DURATION:PT1H
X-Robots-Tag:noindex
X-PUBLISHED-TTL:PT1H
BEGIN:VTIMEZONE
TZID:Europe/Rome
BEGIN:DAYLIGHT
TZOFFSETFROM:+0100
TZOFFSETTO:+0200
TZNAME:CEST
DTSTART:20170326T010000
END:DAYLIGHT
BEGIN:STANDARD
TZOFFSETFROM:+0200
TZOFFSETTO:+0100
TZNAME:CET
DTSTART:20171029T010000
END:STANDARD
BEGIN:DAYLIGHT
TZOFFSETFROM:+0100
TZOFFSETTO:+0200
TZNAME:CEST
DTSTART:20180325T010000
END:DAYLIGHT
BEGIN:STANDARD
TZOFFSETFROM:+0200
TZOFFSETTO:+0100
TZNAME:CET
DTSTART:20181028T010000
END:STANDARD
BEGIN:DAYLIGHT
TZOFFSETFROM:+0100
TZOFFSETTO:+0200
TZNAME:CEST
DTSTART:20190331T010000
END:DAYLIGHT
BEGIN:STANDARD
TZOFFSETFROM:+0200
TZOFFSETTO:+0100
TZNAME:CET
DTSTART:20191027T010000
END:STANDARD
BEGIN:DAYLIGHT
TZOFFSETFROM:+0100
TZOFFSETTO:+0200
TZNAME:CEST
DTSTART:20200329T010000
END:DAYLIGHT
BEGIN:STANDARD
TZOFFSETFROM:+0200
TZOFFSETTO:+0100
TZNAME:CET
DTSTART:20201025T010000
END:STANDARD
BEGIN:DAYLIGHT
TZOFFSETFROM:+0100
TZOFFSETTO:+0200
TZNAME:CEST
DTSTART:20210328T010000
END:DAYLIGHT
BEGIN:STANDARD
TZOFFSETFROM:+0200
TZOFFSETTO:+0100
TZNAME:CET
DTSTART:20211031T010000
END:STANDARD
BEGIN:DAYLIGHT
TZOFFSETFROM:+0100
TZOFFSETTO:+0200
TZNAME:CEST
DTSTART:20220327T010000
END:DAYLIGHT
BEGIN:STANDARD
TZOFFSETFROM:+0200
TZOFFSETTO:+0100
TZNAME:CET
DTSTART:20221030T010000
END:STANDARD
BEGIN:DAYLIGHT
TZOFFSETFROM:+0100
TZOFFSETTO:+0200
TZNAME:CEST
DTSTART:20230326T010000
END:DAYLIGHT
BEGIN:STANDARD
TZOFFSETFROM:+0200
TZOFFSETTO:+0100
TZNAME:CET
DTSTART:20231029T010000
END:STANDARD
BEGIN:DAYLIGHT
TZOFFSETFROM:+0100
TZOFFSETTO:+0200
TZNAME:CEST
DTSTART:20240331T010000
END:DAYLIGHT
BEGIN:STANDARD
TZOFFSETFROM:+0200
TZOFFSETTO:+0100
TZNAME:CET
DTSTART:20241027T010000
END:STANDARD
BEGIN:DAYLIGHT
TZOFFSETFROM:+0100
TZOFFSETTO:+0200
TZNAME:CEST
DTSTART:20250330T010000
END:DAYLIGHT
BEGIN:STANDARD
TZOFFSETFROM:+0200
TZOFFSETTO:+0100
TZNAME:CET
DTSTART:20251026T010000
END:STANDARD
END:VTIMEZONE
BEGIN:VEVENT
DTSTART;TZID=Europe/Rome:20241106T143000
DTEND;TZID=Europe/Rome:20241106T173000
DTSTAMP:20260421T035042
CREATED:20241028T072847Z
LAST-MODIFIED:20241028T093314Z
UID:40110-1730903400-1730914200@www.improntaetica.org
SUMMARY:06/11 | Cooperare: il valore dell'impatto
DESCRIPTION:06/11 | Cooperare: il valore dell’impatto.\nSi terrà il 6 novembre dalle ore 14.00 alle 17.30 l’evento di CNS\, Socio di Impronta Etica in collaborazione con Tiresia\, il centro di ricerca con sede nella School of Management del Politecnico di Milano. \nUn pomeriggio ricco di illustri ospiti che tratteranno il tema del valore dell’impatto\, attraverso le voci di numerosi esperti ed imprese. \nMaggiori informazioni sono disponibili al seguente link. \nSCARICA IL PROGRAMMA \n 
URL:https://www.improntaetica.org/evento/06-11-cooperare-il-valore-dellimpatto/
ATTACH;FMTTYPE=image/png:https://www.improntaetica.org/wp-content/uploads/2024/10/cns-piccolo-e1752220843436.png
END:VEVENT
BEGIN:VEVENT
DTSTART;TZID=Europe/Rome:20221013T143000
DTEND;TZID=Europe/Rome:20221013T163000
DTSTAMP:20260421T035042
CREATED:20221010T093928Z
LAST-MODIFIED:20221010T093928Z
UID:35612-1665671400-1665678600@www.improntaetica.org
SUMMARY:13/10 | CNS a Urban Promo 2022
DESCRIPTION:Transizioni urbane cooperative.\nDall’11 al 14 ottobre 2022 si tiene a Torino\, la XIX edizione di Urban Promo Progetti per il Paese. Nella cornice della rigenerazione urbana e del partenariato pubblico privato\, sono presentati progetti e iniziative che spiccano nel panorama nazionale per il forte carattere innovativo dei loro approcci e dei loro contenuti. A presentarli sono i loro protagonisti: promotori pubblici e privati\, progettisti\, gestori. \nNella giornata di giovedì 13 ottobre ci sarà l’intervento a due voci “Integrazione tra modelli gestionali e tecnologia per migliorare la sostenibilità ambientale\, sociale ed economica: la proposta C.N.S. – FINABITA” in cui Luigi Zucchelli\, Direttore Area Tecnica Integrata e Sviluppo di C.N.S.\, impresa socia di Impronta Etica\, e Fabio Bastianelli\, Amministratore Finabita Spa dialogheranno sui vantaggi delle tecnologie 4.0 in termini di impatto sociale. \nMaggiori informazioni sono disponibili al seguente link. \nE’ possibile iscriversi al seguente link.
URL:https://www.improntaetica.org/evento/13-10-cns-a-urban-promo-2022/
ATTACH;FMTTYPE=image/png:https://www.improntaetica.org/wp-content/uploads/2018/10/CNS-e1596545043480.png
END:VEVENT
BEGIN:VEVENT
DTSTART;TZID=Europe/Rome:20201007T163000
DTEND;TZID=Europe/Rome:20201007T180000
DTSTAMP:20260421T035042
CREATED:20200917T104422Z
LAST-MODIFIED:20200917T104422Z
UID:31980-1602088200-1602093600@www.improntaetica.org
SUMMARY:7/10 | CNS: webinar “La sostenibilità in italia”
DESCRIPTION:Un webinar pubblico per affrontare il tema della sostenibilità con uno sguardo all’impatto.\nDopo un primo incontro riservato ai suoi soci\, CNS ha organizzato un webinar pubblico dal titolo “La sostenibilità in Italia: l’evoluzione in atto con uno sguardo all’impatto dalla prospettiva ai fatti”.  \nSaranno ospiti nel corso del webinar Matteo Pedrini – Professore Ordinario di Corporate Strategy all’Università Cattolica del Sacro Cuore nonché Direttore scientifico CSR Manager Network e curatore del libro “La sostenibilità come professione” (Egea) e Federico Mento – Segretario Generale Social Value Italia e Co-Direttore di Ashoka. \nMaggiori informazioni sono disponibili al seguente link.
URL:https://www.improntaetica.org/evento/7-10-cns-webinar-la-sostenibilita-in-italia/
ATTACH;FMTTYPE=image/png:https://www.improntaetica.org/wp-content/uploads/2019/06/cns.png
END:VEVENT
BEGIN:VEVENT
DTSTART;TZID=Europe/Rome:20181213T100000
DTEND;TZID=Europe/Rome:20181213T160000
DTSTAMP:20260421T035042
CREATED:20181122T152159Z
LAST-MODIFIED:20181122T152159Z
UID:15854-1544695200-1544716800@www.improntaetica.org
SUMMARY:Futuro integrato: cooperare per la sostenibilità
DESCRIPTION:Presentazione del primo bilancio di sostenibilità di CNS.\nCNS presenta a Bologna il primo Bilancio di Sostenibilità in ottica integrata del Consorzio.\n“Futuro integrato: cooperare per la sostenibilità\, il viaggio di CNS verso gli obiettivi Onu 2030”\, questo il titolo della tavola rotonda con la quale CNS intende rilanciare un confronto sulle frontiere del cambiamento e sullo sviluppo di pensiero e pratiche integrate orientate a sostenibilità\, generazione di impatto sociale e valore condiviso.\nNel pomeriggio\, i lavori proseguiranno a porte chiuse con una formazione riservata ai soci del Consorzio e un focus group multistakeholder sul Bilancio di Sostenibilità CNS 2017.\nProgramma
URL:https://www.improntaetica.org/evento/futuro-integrato-cooperare-la-sostenibilita/
ATTACH;FMTTYPE=:
END:VEVENT
END:VCALENDAR