BEGIN:VCALENDAR
VERSION:2.0
PRODID:-//Impronta Etica - ECPv6.15.20//NONSGML v1.0//EN
CALSCALE:GREGORIAN
METHOD:PUBLISH
X-ORIGINAL-URL:https://www.improntaetica.org
X-WR-CALDESC:Eventi per Impronta Etica
REFRESH-INTERVAL;VALUE=DURATION:PT1H
X-Robots-Tag:noindex
X-PUBLISHED-TTL:PT1H
BEGIN:VTIMEZONE
TZID:Europe/Rome
BEGIN:DAYLIGHT
TZOFFSETFROM:+0100
TZOFFSETTO:+0200
TZNAME:CEST
DTSTART:20210328T010000
END:DAYLIGHT
BEGIN:STANDARD
TZOFFSETFROM:+0200
TZOFFSETTO:+0100
TZNAME:CET
DTSTART:20211031T010000
END:STANDARD
BEGIN:DAYLIGHT
TZOFFSETFROM:+0100
TZOFFSETTO:+0200
TZNAME:CEST
DTSTART:20220327T010000
END:DAYLIGHT
BEGIN:STANDARD
TZOFFSETFROM:+0200
TZOFFSETTO:+0100
TZNAME:CET
DTSTART:20221030T010000
END:STANDARD
BEGIN:DAYLIGHT
TZOFFSETFROM:+0100
TZOFFSETTO:+0200
TZNAME:CEST
DTSTART:20230326T010000
END:DAYLIGHT
BEGIN:STANDARD
TZOFFSETFROM:+0200
TZOFFSETTO:+0100
TZNAME:CET
DTSTART:20231029T010000
END:STANDARD
END:VTIMEZONE
BEGIN:VEVENT
DTSTART;TZID=Europe/Rome:20221018T183000
DTEND;TZID=Europe/Rome:20221018T213000
DTSTAMP:20260421T004635
CREATED:20221006T113806Z
LAST-MODIFIED:20221007T113451Z
UID:35580-1666117800-1666128600@www.improntaetica.org
SUMMARY:18/10| Change Makers Night
DESCRIPTION:La serata dedicata al cambiamento\, alla cooperazione e all’impatto.\nTorna la Change Makers Night\, martedì 18 ottobre al DAS\, via del Porto 11/2 (BO) dalle ore 18.30\, una serata che vuole raccontare il cambiamento e favorire la contaminazione e il confronto per promuovere un nuovo modello di sviluppo. Testimonianze di startupper e change makers\, i classici speed date filosofici e un aperitivo per la community. \nDurante l’evento potrai incontrare e conoscere i nostri supporter: organizzazioni\, associazioni e communities impegnate nell’innovazione e nella sostenibilità. \nE’ possibile registrarsi e ottenere maggiori informazioni al seguente link.
URL:https://www.improntaetica.org/evento/08-10-change-makers-night/
ATTACH;FMTTYPE=image/png:https://www.improntaetica.org/wp-content/uploads/2022/05/change.png
END:VEVENT
END:VCALENDAR