BEGIN:VCALENDAR
VERSION:2.0
PRODID:-//Impronta Etica - ECPv6.15.20//NONSGML v1.0//EN
CALSCALE:GREGORIAN
METHOD:PUBLISH
X-ORIGINAL-URL:https://www.improntaetica.org
X-WR-CALDESC:Eventi per Impronta Etica
REFRESH-INTERVAL;VALUE=DURATION:PT1H
X-Robots-Tag:noindex
X-PUBLISHED-TTL:PT1H
BEGIN:VTIMEZONE
TZID:Europe/Rome
BEGIN:DAYLIGHT
TZOFFSETFROM:+0100
TZOFFSETTO:+0200
TZNAME:CEST
DTSTART:20150329T010000
END:DAYLIGHT
BEGIN:STANDARD
TZOFFSETFROM:+0200
TZOFFSETTO:+0100
TZNAME:CET
DTSTART:20151025T010000
END:STANDARD
BEGIN:DAYLIGHT
TZOFFSETFROM:+0100
TZOFFSETTO:+0200
TZNAME:CEST
DTSTART:20160327T010000
END:DAYLIGHT
BEGIN:STANDARD
TZOFFSETFROM:+0200
TZOFFSETTO:+0100
TZNAME:CET
DTSTART:20161030T010000
END:STANDARD
BEGIN:DAYLIGHT
TZOFFSETFROM:+0100
TZOFFSETTO:+0200
TZNAME:CEST
DTSTART:20170326T010000
END:DAYLIGHT
BEGIN:STANDARD
TZOFFSETFROM:+0200
TZOFFSETTO:+0100
TZNAME:CET
DTSTART:20171029T010000
END:STANDARD
BEGIN:DAYLIGHT
TZOFFSETFROM:+0100
TZOFFSETTO:+0200
TZNAME:CEST
DTSTART:20180325T010000
END:DAYLIGHT
BEGIN:STANDARD
TZOFFSETFROM:+0200
TZOFFSETTO:+0100
TZNAME:CET
DTSTART:20181028T010000
END:STANDARD
BEGIN:DAYLIGHT
TZOFFSETFROM:+0100
TZOFFSETTO:+0200
TZNAME:CEST
DTSTART:20190331T010000
END:DAYLIGHT
BEGIN:STANDARD
TZOFFSETFROM:+0200
TZOFFSETTO:+0100
TZNAME:CET
DTSTART:20191027T010000
END:STANDARD
BEGIN:DAYLIGHT
TZOFFSETFROM:+0100
TZOFFSETTO:+0200
TZNAME:CEST
DTSTART:20200329T010000
END:DAYLIGHT
BEGIN:STANDARD
TZOFFSETFROM:+0200
TZOFFSETTO:+0100
TZNAME:CET
DTSTART:20201025T010000
END:STANDARD
END:VTIMEZONE
BEGIN:VEVENT
DTSTART;TZID=Europe/Rome:20190508T100000
DTEND;TZID=Europe/Rome:20190508T130000
DTSTAMP:20260421T095730
CREATED:20190419T120503Z
LAST-MODIFIED:20190419T120503Z
UID:16428-1557309600-1557320400@www.improntaetica.org
SUMMARY:L'evento di presentazione del Rapporto Censis-Conad
DESCRIPTION:Il sogno di un Paese che vuole tornare a crescere.\nNel corso dell’iniziativa di Censis e Conad verrà presentato il Rapporto Censis-Conad che mira ad identificare le aspirazioni e i miti potenzialmente mobilizzatori degli italiani come punto di partenza per rilanciare la crescita e lo sviluppo del nostro Paese.\nProgramma 8 maggio 2019\n 
URL:https://www.improntaetica.org/evento/levento-presentazione-del-rapporto-censis-conad/
LOCATION:Residenza di Ripetta\, Via di Ripetta 231\, Roma
ATTACH;FMTTYPE=:
END:VEVENT
BEGIN:VEVENT
DTSTART;TZID=Europe/Rome:20190328T160000
DTEND;TZID=Europe/Rome:20190328T190000
DTSTAMP:20260421T095730
CREATED:20190325T113541Z
LAST-MODIFIED:20190325T113541Z
UID:16328-1553788800-1553799600@www.improntaetica.org
SUMMARY:Tessiture Sociali. La comunità\, l'impresa\, il mutualismo\, la solidarietà
DESCRIPTION:Presentazione del libro resoconto del Paese che Conad è andato scoprendo in quattro anni di Grande Viaggio.\nDurante l’evento verrà presentato il libro “Tessiture Sociali. La comunità\, l’impresa\, il mutualismo\, la solidarietà” (Egea Editore)\, scritto dal sociologo e direttore di Aaster Aldo Bonomi e dall’amministratore delegato di Conad\, Francesco Pugliese.\nTessiture sociali è il “resoconto” del Paese che Conad è andato scoprendo in quattro anni di Grande Viaggio\, il tour itinerante nella provincia italiana durante il quale l’insegna ha incontrato le persone nelle piazze\, nei teatri\, nelle mense Caritas\, nelle residenze anziani e nelle scuole\, e ascoltato le voci della società civile con il supporto dell’istituto di ricerca Aaster. Un viaggio che ha permesso di toccare con mano un’Italia fatta di comunità coese\, attenzione al prossimo\, piccoli e medi imprenditori che si sono rimboccati le maniche\, producono\, danno lavoro e investono guardando al futuro.\nMaggiori informazioni sono disponibili a questo link.\nProgramma
URL:https://www.improntaetica.org/evento/tessiture-sociali-la-comunita-limpresa-mutualismo-la-solidarieta/
ATTACH;FMTTYPE=:
END:VEVENT
BEGIN:VEVENT
DTSTART;TZID=Europe/Rome:20160614T103000
DTEND;TZID=Europe/Rome:20160614T130000
DTSTAMP:20260421T095730
CREATED:20160601T152414Z
LAST-MODIFIED:20160601T152414Z
UID:10627-1465900200-1465909200@www.improntaetica.org
SUMMARY:Conad | Tavola rotonda: Senso di comunità
DESCRIPTION:Conad organizza l’evento per parlare del “Senso di comunità”.\nIn programma numerosi interventi tra cui Pupi Avati\, regista e scrittore; Aldo Bonomi\, sociologo; Giovanna Cosenza\, semiologa; Francesco Pugliese\, amministratore delegato Conad.\nAd aprire l’evento: Claudio Alibrandi\, presidente di Conad.\nE’ possibile iscriversi all’evento mandando una mail al seguente indirizzo: eventi@hominapdc.it\nProgramma\n 
URL:https://www.improntaetica.org/evento/conad-tavola-rotonda-senso-comunita/
LOCATION:Villa Zarri\, Via Ronco 1 Castel Maggiore\, Bologna
ATTACH;FMTTYPE=:
END:VEVENT
BEGIN:VEVENT
DTSTART;TZID=Europe/Rome:20160428T103000
DTEND;TZID=Europe/Rome:20160429T190000
DTSTAMP:20260421T095730
CREATED:20160427T124755Z
LAST-MODIFIED:20160427T124755Z
UID:10340-1461839400-1461956400@www.improntaetica.org
SUMMARY:Festival della Crescita 2016 a Bologna
DESCRIPTION:L’iniziativa fa tappa a Bologna per discutere di crescita felice e di futuro.\nIl Festival della Crescita\, l’iniziativa lanciata a Milano lo scorso anno da Future Concept Lab\, nel 2016 è diventata un percorso itinerante che coinvolge diverse città italiane. Il capoluogo emiliano\, con il patrocinio del Comune di Bologna\, ospita la seconda tappa del Festival: attraverso incontri\, dialoghi e dibattiti sarà l’occasione per confrontarsi su diverse e complementari visioni di crescita.\nAll’interno delle due giornate verranno affrontati due temi “caldi” della contemporaneità e particolarmente presenti nella realtà di Bologna: condivisione urbana del saper fare\, creatività e gusto di vivere.\nIl primo giorno vedrà protagoniste le collaborazioni civiche\, fondamentali strumenti economici di convivenza\, simbolo di interessanti e fecondi sviluppi della crescita urbana e nazionale. Nel corso della seconda giornata\, si parlerà del rapporto tra distribuzione – intesa anche come condivisione di servizi e risposta ai bisogni dei cittadini – e tessuto locale insieme ai principali protagonisti della distribuzione innovativa\, tra cui Conad.\nPer maggiori informazioni e per iscriversi all’evento è possibile consultare il seguente link.\nProgramma Festival della crescita 2016 Bologna
URL:https://www.improntaetica.org/evento/festival-della-crescita-2016-bologna/
LOCATION:Cadiai_nuovo
END:VEVENT
END:VCALENDAR