BEGIN:VCALENDAR
VERSION:2.0
PRODID:-//Impronta Etica - ECPv6.15.20//NONSGML v1.0//EN
CALSCALE:GREGORIAN
METHOD:PUBLISH
X-WR-CALNAME:Impronta Etica
X-ORIGINAL-URL:https://www.improntaetica.org
X-WR-CALDESC:Eventi per Impronta Etica
REFRESH-INTERVAL;VALUE=DURATION:PT1H
X-Robots-Tag:noindex
X-PUBLISHED-TTL:PT1H
BEGIN:VTIMEZONE
TZID:Europe/Rome
BEGIN:DAYLIGHT
TZOFFSETFROM:+0100
TZOFFSETTO:+0200
TZNAME:CEST
DTSTART:20220327T010000
END:DAYLIGHT
BEGIN:STANDARD
TZOFFSETFROM:+0200
TZOFFSETTO:+0100
TZNAME:CET
DTSTART:20221030T010000
END:STANDARD
BEGIN:DAYLIGHT
TZOFFSETFROM:+0100
TZOFFSETTO:+0200
TZNAME:CEST
DTSTART:20230326T010000
END:DAYLIGHT
BEGIN:STANDARD
TZOFFSETFROM:+0200
TZOFFSETTO:+0100
TZNAME:CET
DTSTART:20231029T010000
END:STANDARD
BEGIN:DAYLIGHT
TZOFFSETFROM:+0100
TZOFFSETTO:+0200
TZNAME:CEST
DTSTART:20240331T010000
END:DAYLIGHT
BEGIN:STANDARD
TZOFFSETFROM:+0200
TZOFFSETTO:+0100
TZNAME:CET
DTSTART:20241027T010000
END:STANDARD
END:VTIMEZONE
BEGIN:VEVENT
DTSTART;TZID=Europe/Rome:20231214T103000
DTEND;TZID=Europe/Rome:20231214T160000
DTSTAMP:20260421T072247
CREATED:20231124T132100Z
LAST-MODIFIED:20231124T132100Z
UID:38076-1702549800-1702569600@www.improntaetica.org
SUMMARY:14/12 | Seconda Conferenza Nazionale sul Riciclo 2023
DESCRIPTION:Per un’economia circolare e decarbonizzata.\n\nGiovedì 14 dicembre dalle ore 10:30 ore alle 16:00 presso la sala Buzzati del Corriere della Sera in via Balzan 3\, Milano torna il tradizionale appuntamento con Conferenza Nazionale dell’Industria del Riciclo. \nLa conferenza dedicata a “Le nuove frontiere del riciclo in Italia” è promossa dalla Fondazione per lo sviluppo sotenibile in collaborazione con il Conai e Pianeta2030\, il mensile del Corriere della Sera\, con il patrocinio del Ministero dell’Ambiente e della Sicurezza Energetica\, dell’Ispra e del Sistema Nazionale per la Protezione dell’Ambiente. \nIn occasione della Conferenza saranno presentati l’edizione 2023 del Rapporto “Il Riciclo in Italia”\, realizzato dalla Fondazione in collaborazione con i settori industriali coinvolti\, e il Rapporto dell’Agenzia Europea dell’Ambiente dedicato all’analisi del mercato delle materie prime seconde in Europa.​\n\nMaggiori informazioni sono disponibili al seguente link.
URL:https://www.improntaetica.org/evento/14-12-seconda-conferenza-nazionale-sul-riciclo-2023/
ATTACH;FMTTYPE=image/gif:https://www.improntaetica.org/wp-content/uploads/2019/06/logo_fondazione.gif
END:VEVENT
END:VCALENDAR