BEGIN:VCALENDAR
VERSION:2.0
PRODID:-//Impronta Etica - ECPv6.15.20//NONSGML v1.0//EN
CALSCALE:GREGORIAN
METHOD:PUBLISH
X-ORIGINAL-URL:https://www.improntaetica.org
X-WR-CALDESC:Eventi per Impronta Etica
REFRESH-INTERVAL;VALUE=DURATION:PT1H
X-Robots-Tag:noindex
X-PUBLISHED-TTL:PT1H
BEGIN:VTIMEZONE
TZID:Europe/Rome
BEGIN:DAYLIGHT
TZOFFSETFROM:+0100
TZOFFSETTO:+0200
TZNAME:CEST
DTSTART:20240331T010000
END:DAYLIGHT
BEGIN:STANDARD
TZOFFSETFROM:+0200
TZOFFSETTO:+0100
TZNAME:CET
DTSTART:20241027T010000
END:STANDARD
BEGIN:DAYLIGHT
TZOFFSETFROM:+0100
TZOFFSETTO:+0200
TZNAME:CEST
DTSTART:20250330T010000
END:DAYLIGHT
BEGIN:STANDARD
TZOFFSETFROM:+0200
TZOFFSETTO:+0100
TZNAME:CET
DTSTART:20251026T010000
END:STANDARD
BEGIN:DAYLIGHT
TZOFFSETFROM:+0100
TZOFFSETTO:+0200
TZNAME:CEST
DTSTART:20260329T010000
END:DAYLIGHT
BEGIN:STANDARD
TZOFFSETFROM:+0200
TZOFFSETTO:+0100
TZNAME:CET
DTSTART:20261025T010000
END:STANDARD
END:VTIMEZONE
BEGIN:VEVENT
DTSTART;TZID=Europe/Rome:20251118T090000
DTEND;TZID=Europe/Rome:20251118T130000
DTSTAMP:20260421T052739
CREATED:20251116T094540Z
LAST-MODIFIED:20251117T104956Z
UID:41978-1763456400-1763470800@www.improntaetica.org
SUMMARY:18/11 | Our Future alla seconda
DESCRIPTION:Idee e imprese per un futuro sostenibile.\nSi terrà il 18 novembre 2025 dalle 9.00 alle 13.00 al Teatro di Fabbrica di Lampadine a Milano la seconda edizione di Our Future alla seconda\, un’occasione per rilanciare il dialogo e il confronto sulle tematiche di sostenibilità in tutte le sue sfaccettature e dimensione\, dalla sostenibilità ambientale a quella economica e sociale. \nDurante la mattinata interverranno diversi attori del contesto odierno che agiscono in maniera incisiva sulla sostenibilità per muovere la società verso il cambiamento. Aziende\, osservatori e protagonisti di questa mutazione si alterneranno sul palco dell’evento con lo scopo di condividere visioni\, strategie e azioni concrete che trasformano l’impegno ESG in valore reale. \nAttraverso momenti diversificati\, da keynote speech sino a tavole rotonde\, Our future alla seconda offrirà nuovi strumenti e prospettive su come affrontare le sfide della transizione sostenibile\, favorendo la nascita di connessioni e la condivisione di buone pratiche. \nMaggiori informazioni sul programma e su come iscriversi sono disponibili al seguente link.
URL:https://www.improntaetica.org/evento/18-11-our-future-alla-seconda/
CATEGORIES:Eventi 2025
ATTACH;FMTTYPE=image/jpeg:https://www.improntaetica.org/wp-content/uploads/2025/11/our-future-e1763372725296.jpg
END:VEVENT
END:VCALENDAR