BEGIN:VCALENDAR
VERSION:2.0
PRODID:-//Impronta Etica - ECPv6.15.20//NONSGML v1.0//EN
CALSCALE:GREGORIAN
METHOD:PUBLISH
X-WR-CALNAME:Impronta Etica
X-ORIGINAL-URL:https://www.improntaetica.org
X-WR-CALDESC:Eventi per Impronta Etica
REFRESH-INTERVAL;VALUE=DURATION:PT1H
X-Robots-Tag:noindex
X-PUBLISHED-TTL:PT1H
BEGIN:VTIMEZONE
TZID:Europe/Rome
BEGIN:DAYLIGHT
TZOFFSETFROM:+0100
TZOFFSETTO:+0200
TZNAME:CEST
DTSTART:20220327T010000
END:DAYLIGHT
BEGIN:STANDARD
TZOFFSETFROM:+0200
TZOFFSETTO:+0100
TZNAME:CET
DTSTART:20221030T010000
END:STANDARD
BEGIN:DAYLIGHT
TZOFFSETFROM:+0100
TZOFFSETTO:+0200
TZNAME:CEST
DTSTART:20230326T010000
END:DAYLIGHT
BEGIN:STANDARD
TZOFFSETFROM:+0200
TZOFFSETTO:+0100
TZNAME:CET
DTSTART:20231029T010000
END:STANDARD
BEGIN:DAYLIGHT
TZOFFSETFROM:+0100
TZOFFSETTO:+0200
TZNAME:CEST
DTSTART:20240331T010000
END:DAYLIGHT
BEGIN:STANDARD
TZOFFSETFROM:+0200
TZOFFSETTO:+0100
TZNAME:CET
DTSTART:20241027T010000
END:STANDARD
END:VTIMEZONE
BEGIN:VEVENT
DTSTART;TZID=Europe/Rome:20230222T170000
DTEND;TZID=Europe/Rome:20230223T000000
DTSTAMP:20260423T152656
CREATED:20230222T094837Z
LAST-MODIFIED:20230222T094837Z
UID:36455-1677085200-1677110400@www.improntaetica.org
SUMMARY:22/02-23/02 | Inaugurazione di BOOM
DESCRIPTION:Il nuovo knowledge e innovation hub di CRIF.\nSi terrà il 22 e il 23 febbraio l’inaugurazione di BOOM\, il nuovo knowledge e innovation hub di CRIF.  \nBOOM è acronimo di BEST OF OPEN MIND\, è uno spazio fisico e digitale\, pensato per costruire le competenze del domani attraverso l’apprendimento condiviso\, l’innovazione agile e la costruzione di nuovi progetti per stimolare crescita e futuri business. \nIl giorno 22 febbraio 2023 si terranno i momenti dedicati alla presentazione di BOOM al territorio. CRIF\, Istituzioni\, Fondazione Golinelli e tanti altri ospiti si alterneranno sul palco per condividere l’origine del progetto\, gli obiettivi e le prossime sfide\, ma soprattutto gli intrecci con il territorio. \nIl giorno 23 febbraio 2023 si terranno i momenti dedicati alle aziende e alla start-up\, incontri tra player di rilievo locale e nazionale e maggiori informazioni sul  knwoledge e innovation hub. \nMaggiori informazioni sono disponibili al seguente link. \nSCARICA IL PROGRAMMA \n 
URL:https://www.improntaetica.org/evento/22-02-23-02-inaugurazione-di-boom/
ATTACH;FMTTYPE=image/png:https://www.improntaetica.org/wp-content/uploads/2022/04/crif.png
END:VEVENT
END:VCALENDAR