BEGIN:VCALENDAR
VERSION:2.0
PRODID:-//Impronta Etica - ECPv6.15.20//NONSGML v1.0//EN
CALSCALE:GREGORIAN
METHOD:PUBLISH
X-WR-CALNAME:Impronta Etica
X-ORIGINAL-URL:https://www.improntaetica.org
X-WR-CALDESC:Eventi per Impronta Etica
REFRESH-INTERVAL;VALUE=DURATION:PT1H
X-Robots-Tag:noindex
X-PUBLISHED-TTL:PT1H
BEGIN:VTIMEZONE
TZID:Europe/Rome
BEGIN:DAYLIGHT
TZOFFSETFROM:+0100
TZOFFSETTO:+0200
TZNAME:CEST
DTSTART:20170326T010000
END:DAYLIGHT
BEGIN:STANDARD
TZOFFSETFROM:+0200
TZOFFSETTO:+0100
TZNAME:CET
DTSTART:20171029T010000
END:STANDARD
BEGIN:DAYLIGHT
TZOFFSETFROM:+0100
TZOFFSETTO:+0200
TZNAME:CEST
DTSTART:20180325T010000
END:DAYLIGHT
BEGIN:STANDARD
TZOFFSETFROM:+0200
TZOFFSETTO:+0100
TZNAME:CET
DTSTART:20181028T010000
END:STANDARD
BEGIN:DAYLIGHT
TZOFFSETFROM:+0100
TZOFFSETTO:+0200
TZNAME:CEST
DTSTART:20190331T010000
END:DAYLIGHT
BEGIN:STANDARD
TZOFFSETFROM:+0200
TZOFFSETTO:+0100
TZNAME:CET
DTSTART:20191027T010000
END:STANDARD
END:VTIMEZONE
BEGIN:VEVENT
DTSTART;TZID=Europe/Rome:20180516T140000
DTEND;TZID=Europe/Rome:20180516T180000
DTSTAMP:20260421T055625
CREATED:20180502T075353Z
LAST-MODIFIED:20180502T075353Z
UID:14627-1526479200-1526493600@www.improntaetica.org
SUMMARY:Behavioral change e sostenibilità ambientale
DESCRIPTION:Sostenibilità ambientale? Dipende anche da noi. Le buone pratiche che cambiano la società.\n\nLa giornata di lavoro\, promossa e organizzata dal Consorzio Poliedra – Politecnico di Milano in collaborazione con diversi dipartimenti e consorzi del Politecnico\, presenta una panoramica di progetti e ricerche su Behavioral change e sostenibilità ambientale\, sviluppando riflessioni su potenzialità e limiti delle esperienze e degli strumenti stessi\, coinvolgendo ricercatori e docenti\, promuovendo il confronto con politici\, testimonial ed esperti.\nL’evento nasce dalla crescente consapevolezza del ruolo svolto da strumenti di stimolo al cambiamento dei comportamenti\, capaci di orientarci verso scelte e modelli di produzione e consumo più sostenibili.\nE’ possibile registrarsi all’evento al seguente link.\nMaggiori informazioni sono disponibili al seguente link.\nProgramma_Behavioral change e sostenibilità ambientale
URL:https://www.improntaetica.org/evento/behavioral-change-sostenibilita-ambientale/
ATTACH;FMTTYPE=:
END:VEVENT
END:VCALENDAR