BEGIN:VCALENDAR
VERSION:2.0
PRODID:-//Impronta Etica - ECPv6.15.20//NONSGML v1.0//EN
CALSCALE:GREGORIAN
METHOD:PUBLISH
X-ORIGINAL-URL:https://www.improntaetica.org
X-WR-CALDESC:Eventi per Impronta Etica
REFRESH-INTERVAL;VALUE=DURATION:PT1H
X-Robots-Tag:noindex
X-PUBLISHED-TTL:PT1H
BEGIN:VTIMEZONE
TZID:Europe/Rome
BEGIN:DAYLIGHT
TZOFFSETFROM:+0100
TZOFFSETTO:+0200
TZNAME:CEST
DTSTART:20230326T010000
END:DAYLIGHT
BEGIN:STANDARD
TZOFFSETFROM:+0200
TZOFFSETTO:+0100
TZNAME:CET
DTSTART:20231029T010000
END:STANDARD
BEGIN:DAYLIGHT
TZOFFSETFROM:+0100
TZOFFSETTO:+0200
TZNAME:CEST
DTSTART:20240331T010000
END:DAYLIGHT
BEGIN:STANDARD
TZOFFSETFROM:+0200
TZOFFSETTO:+0100
TZNAME:CET
DTSTART:20241027T010000
END:STANDARD
BEGIN:DAYLIGHT
TZOFFSETFROM:+0100
TZOFFSETTO:+0200
TZNAME:CEST
DTSTART:20250330T010000
END:DAYLIGHT
BEGIN:STANDARD
TZOFFSETFROM:+0200
TZOFFSETTO:+0100
TZNAME:CET
DTSTART:20251026T010000
END:STANDARD
END:VTIMEZONE
BEGIN:VEVENT
DTSTART;VALUE=DATE:20241009
DTEND;VALUE=DATE:20241012
DTSTAMP:20260421T042344
CREATED:20240912T124703Z
LAST-MODIFIED:20240917T073536Z
UID:39259-1728432000-1728691199@www.improntaetica.org
SUMMARY:9/10 - 11/10 | 12° Edizione del Salone della CSR e dell’Innovazione Sociale
DESCRIPTION:Sfidare le contraddizioni.\nSi terrà dal 9 all’11 ottobre presso l’Università Bocconi di Milano\, la 12° Edizione del Salone della CSR e dell’Innovazione Sociale dal titolo “Sfidare le contraddizioni“. \nIn un contesto come quello attuale è sempre più necessario saper leggere i problemi della sostenibilità in modo nuovo\, stimolando nuove riflessioni. Ogni scelta fatta nell’ambito di un percorso di sviluppo sostenibile porta con sé il seme della contraddizione\, ma è grazie alla compresenza degli opposti che è possibile dare vita a nuove prospettive. In un percorso accidentato come quello attuale è necessario il coinvolgimento di tutti gli attori per poter sfidare attraverso un impegno comune le contraddizioni della sostenibilità. \nQuesto sarà il tema cardine dell’evento\, che verrà affrontato insieme a numerose voci e realtà nazionali\, che porteranno la loro diretta esperienza. \nIl programma sarà disponibile a breve. \nMaggiori informazioni sono disponibili al seguente link.
URL:https://www.improntaetica.org/evento/9-10-11-10-12-edizione-del-salone-della-csr-e-dellinnovazione-sociale/
CATEGORIES:Eventi 2024
ATTACH;FMTTYPE=image/png:https://www.improntaetica.org/wp-content/uploads/2024/06/Screenshot-2024-06-13-111533.png
END:VEVENT
END:VCALENDAR