BEGIN:VCALENDAR
VERSION:2.0
PRODID:-//Impronta Etica - ECPv6.15.20//NONSGML v1.0//EN
CALSCALE:GREGORIAN
METHOD:PUBLISH
X-WR-CALNAME:Impronta Etica
X-ORIGINAL-URL:https://www.improntaetica.org
X-WR-CALDESC:Eventi per Impronta Etica
REFRESH-INTERVAL;VALUE=DURATION:PT1H
X-Robots-Tag:noindex
X-PUBLISHED-TTL:PT1H
BEGIN:VTIMEZONE
TZID:Europe/Rome
BEGIN:DAYLIGHT
TZOFFSETFROM:+0100
TZOFFSETTO:+0200
TZNAME:CEST
DTSTART:20210328T010000
END:DAYLIGHT
BEGIN:STANDARD
TZOFFSETFROM:+0200
TZOFFSETTO:+0100
TZNAME:CET
DTSTART:20211031T010000
END:STANDARD
BEGIN:DAYLIGHT
TZOFFSETFROM:+0100
TZOFFSETTO:+0200
TZNAME:CEST
DTSTART:20220327T010000
END:DAYLIGHT
BEGIN:STANDARD
TZOFFSETFROM:+0200
TZOFFSETTO:+0100
TZNAME:CET
DTSTART:20221030T010000
END:STANDARD
BEGIN:DAYLIGHT
TZOFFSETFROM:+0100
TZOFFSETTO:+0200
TZNAME:CEST
DTSTART:20230326T010000
END:DAYLIGHT
BEGIN:STANDARD
TZOFFSETFROM:+0200
TZOFFSETTO:+0100
TZNAME:CET
DTSTART:20231029T010000
END:STANDARD
BEGIN:DAYLIGHT
TZOFFSETFROM:+0100
TZOFFSETTO:+0200
TZNAME:CEST
DTSTART:20240331T010000
END:DAYLIGHT
BEGIN:STANDARD
TZOFFSETFROM:+0200
TZOFFSETTO:+0100
TZNAME:CET
DTSTART:20241027T010000
END:STANDARD
BEGIN:DAYLIGHT
TZOFFSETFROM:+0100
TZOFFSETTO:+0200
TZNAME:CEST
DTSTART:20250330T010000
END:DAYLIGHT
BEGIN:STANDARD
TZOFFSETFROM:+0200
TZOFFSETTO:+0100
TZNAME:CET
DTSTART:20251026T010000
END:STANDARD
BEGIN:DAYLIGHT
TZOFFSETFROM:+0100
TZOFFSETTO:+0200
TZNAME:CEST
DTSTART:20260329T010000
END:DAYLIGHT
BEGIN:STANDARD
TZOFFSETFROM:+0200
TZOFFSETTO:+0100
TZNAME:CET
DTSTART:20261025T010000
END:STANDARD
END:VTIMEZONE
BEGIN:VEVENT
DTSTART;TZID=Europe/Rome:20250221T093000
DTEND;TZID=Europe/Rome:20250221T130000
DTSTAMP:20260421T021434
CREATED:20250213T142516Z
LAST-MODIFIED:20250213T142516Z
UID:40791-1740130200-1740142800@www.improntaetica.org
SUMMARY:21/02 | La Costituzione è cambiata: come cambiare l’Italia?
DESCRIPTION:La giustizia intergenerazionale dalla Costituzione alla pratica.\nIl 21 febbraio 2025 dalle 9.30 alle 13.00\, presso il Teatro Studio Gianni Borgna dell’Auditorium Parco della Musica di Roma\, si terrà l’evento “La Costituzione è cambiata: come cambiare l’Italia?”\, organizzato dall’Alleanza Italiana per lo Sviluppo Sostenibile (ASviS)\, cui aderisce Impronta Etica\, per riflettere sull’impatto della riforma costituzionale del febbraio 2022. \nA tre anni dall’inserimento del principio di giustizia tra generazioni negli articoli 9 e 41 della Carta\, il dibattito analizzerà le implicazioni di questo cambiamento e le azioni necessarie per tradurlo in politiche concrete. \nLa riforma ha sancito l’obbligo della Repubblica di tutelare l’ambiente\, la biodiversità e gli ecosistemi anche nell’interesse delle future generazioni\, un traguardo importante per il riconoscimento dello sviluppo sostenibile come valore costituzionale. \nL’evento vedrà il contributo di esperti ed esponenti delle istituzioni\, tra cui Giuliano Amato\, presidente emerito della Corte Costituzionale\, e la Ministra per le Riforme istituzionali e la semplificazione normativa\, Maria Elisabetta Alberti Casellati. I relatori discuteranno del ruolo delle istituzioni nel garantire che questo principio non rimanga solo sulla carta\, ma si traduca in politiche pubbliche coerenti in linea con gli impegni globali assunti dall’Italia. \nMaggiori informazioni sono disponibili al seguente link. \nE’ possibile iscriversi al seguente link.
URL:https://www.improntaetica.org/evento/21-02-la-costituzione-e-cambiata-come-cambiare-litalia/
CATEGORIES:Eventi 2025
ATTACH;FMTTYPE=image/png:https://www.improntaetica.org/wp-content/uploads/2019/08/Logo-ASviS-e1736929301112.png
END:VEVENT
BEGIN:VEVENT
DTSTART;TZID=Europe/Rome:20230222T100000
DTEND;TZID=Europe/Rome:20230222T130000
DTSTAMP:20260421T021434
CREATED:20230209T110759Z
LAST-MODIFIED:20230209T110759Z
UID:36368-1677060000-1677070800@www.improntaetica.org
SUMMARY:22/02 | ASviS Live: “Costituzione\, ambiente e future generazioni: un anno dopo\, a che punto siamo?”
DESCRIPTION:La Repubblica Italiana si obbliga a tutelare l’ambiente\, la biodiversità e gli ecosistemi\, in un’ottica di giustizia anche verso le future generazioni.\nA un anno dall’inserimento in Costituzione del principio di “giustizia intergenerazionale” alla base del concetto di sviluppo sostenibile\, ASviS organizza l’evento “Costituzione\, ambiente e future generazioni: un anno dopo\, a che punto siamo?” per riflettere con i rappresentanti delle istituzioni e della società civile sulle conseguenze della riforma costituzionale approvata nel febbraio 2022. \nL’evento si terrà in presenza il 22 febbraio\, dalle ore 10:00 alle ore 13:00\, presso la Biblioteca Casanatense (Via di S. Ignazio 52\, Roma). \nPer partecipare\, è necessario iscriversi al seguente link. \nMaggiori informazioni sono disponibili al seguente link. \n 
URL:https://www.improntaetica.org/evento/22-02-asvis-live-costituzione-ambiente-e-future-generazioni-un-anno-dopo-a-che-punto-siamo/
ATTACH;FMTTYPE=image/png:https://www.improntaetica.org/wp-content/uploads/2019/08/Logo-ASviS-e1736929301112.png
END:VEVENT
BEGIN:VEVENT
DTSTART;TZID=Europe/Rome:20220405T100000
DTEND;TZID=Europe/Rome:20220405T130000
DTSTAMP:20260421T021434
CREATED:20220325T161408Z
LAST-MODIFIED:20220325T161408Z
UID:34638-1649152800-1649163600@www.improntaetica.org
SUMMARY:05\04 | ASviS: La Costituzione e lo sviluppo sostenibile
DESCRIPTION:L’introduzione del concetto di sostenibilità nella Costituzione Italiana.\nIn occasione della secondo evento “ASviS Live”\, l’Alleanza Italiana per lo Sviluppo Sostenibile organizza un momento di discussione per approfondire i temi legati al percorso di implementazione della riforma costituzionale che ha recentemente introdotto il concetto di sostenibilità nella nostra Carta. L’iniziativa vuole essere un’occasione di confronto per definire come intraprendere nel migliore dei modi questo cambio di paradigma. \nMaggiori informazioni sono disponibili al seguente link. 
URL:https://www.improntaetica.org/evento/0504-asvis-la-costituzione-e-lo-sviluppo-sostenibile/
ATTACH;FMTTYPE=image/png:https://www.improntaetica.org/wp-content/uploads/2019/08/Logo-ASviS-e1736929301112.png
END:VEVENT
END:VCALENDAR