BEGIN:VCALENDAR
VERSION:2.0
PRODID:-//Impronta Etica - ECPv6.15.20//NONSGML v1.0//EN
CALSCALE:GREGORIAN
METHOD:PUBLISH
X-WR-CALNAME:Impronta Etica
X-ORIGINAL-URL:https://www.improntaetica.org
X-WR-CALDESC:Eventi per Impronta Etica
REFRESH-INTERVAL;VALUE=DURATION:PT1H
X-Robots-Tag:noindex
X-PUBLISHED-TTL:PT1H
BEGIN:VTIMEZONE
TZID:Europe/Rome
BEGIN:DAYLIGHT
TZOFFSETFROM:+0100
TZOFFSETTO:+0200
TZNAME:CEST
DTSTART:20210328T010000
END:DAYLIGHT
BEGIN:STANDARD
TZOFFSETFROM:+0200
TZOFFSETTO:+0100
TZNAME:CET
DTSTART:20211031T010000
END:STANDARD
BEGIN:DAYLIGHT
TZOFFSETFROM:+0100
TZOFFSETTO:+0200
TZNAME:CEST
DTSTART:20220327T010000
END:DAYLIGHT
BEGIN:STANDARD
TZOFFSETFROM:+0200
TZOFFSETTO:+0100
TZNAME:CET
DTSTART:20221030T010000
END:STANDARD
BEGIN:DAYLIGHT
TZOFFSETFROM:+0100
TZOFFSETTO:+0200
TZNAME:CEST
DTSTART:20230326T010000
END:DAYLIGHT
BEGIN:STANDARD
TZOFFSETFROM:+0200
TZOFFSETTO:+0100
TZNAME:CET
DTSTART:20231029T010000
END:STANDARD
END:VTIMEZONE
BEGIN:VEVENT
DTSTART;VALUE=DATE:20220905
DTEND;VALUE=DATE:20220910
DTSTAMP:20260421T082938
CREATED:20220902T082306Z
LAST-MODIFIED:20220902T082306Z
UID:35361-1662336000-1662767999@www.improntaetica.org
SUMMARY:5/09-9/09 | Italian Sustainability Week 2022
DESCRIPTION:La settimana dedicata alla finanza sostenibile.\nUn’intera settimana dedicata alla Finanza Sostenibile\, con occasioni pubbliche di dibattito e momenti di dialogo diretto tra Società e Investitori. Si terrà dal 5 al 9 settembre l’Italian Sustainability Week organizzata da Borsa Italiana. \n\nL’iniziativa è dedicata a occasioni di dibattito e momenti di dialogo in cui esperti e opinion leader condivideranno la loro visione strategica sul tema\, dando testimonianza di piani concreti in termini di crescita sostenibile\, strumenti di finanziamento e strategie di investimento sostenibile.\n\nIn aggiunta\, le Società avranno l’opportunità di confrontarsi con investitori istituzionali domestici e internazionali circa le loro strategie di sostenibilità.\n\n\n\nMaggiori informazioni sono disponibili al seguente link.
URL:https://www.improntaetica.org/evento/5-09-9-09-italian-sustainability-week-2022/
ATTACH;FMTTYPE=image/png:https://www.improntaetica.org/wp-content/uploads/2022/09/ggg.png
END:VEVENT
END:VCALENDAR