BEGIN:VCALENDAR
VERSION:2.0
PRODID:-//Impronta Etica - ECPv6.15.20//NONSGML v1.0//EN
CALSCALE:GREGORIAN
METHOD:PUBLISH
X-WR-CALNAME:Impronta Etica
X-ORIGINAL-URL:https://www.improntaetica.org
X-WR-CALDESC:Eventi per Impronta Etica
REFRESH-INTERVAL;VALUE=DURATION:PT1H
X-Robots-Tag:noindex
X-PUBLISHED-TTL:PT1H
BEGIN:VTIMEZONE
TZID:Europe/Rome
BEGIN:DAYLIGHT
TZOFFSETFROM:+0100
TZOFFSETTO:+0200
TZNAME:CEST
DTSTART:20220327T010000
END:DAYLIGHT
BEGIN:STANDARD
TZOFFSETFROM:+0200
TZOFFSETTO:+0100
TZNAME:CET
DTSTART:20221030T010000
END:STANDARD
BEGIN:DAYLIGHT
TZOFFSETFROM:+0100
TZOFFSETTO:+0200
TZNAME:CEST
DTSTART:20230326T010000
END:DAYLIGHT
BEGIN:STANDARD
TZOFFSETFROM:+0200
TZOFFSETTO:+0100
TZNAME:CET
DTSTART:20231029T010000
END:STANDARD
BEGIN:DAYLIGHT
TZOFFSETFROM:+0100
TZOFFSETTO:+0200
TZNAME:CEST
DTSTART:20240331T010000
END:DAYLIGHT
BEGIN:STANDARD
TZOFFSETFROM:+0200
TZOFFSETTO:+0100
TZNAME:CET
DTSTART:20241027T010000
END:STANDARD
END:VTIMEZONE
BEGIN:VEVENT
DTSTART;TZID=Europe/Rome:20230221T100000
DTEND;TZID=Europe/Rome:20230221T120000
DTSTAMP:20260421T063138
CREATED:20230215T082947Z
LAST-MODIFIED:20230215T082947Z
UID:36400-1676973600-1676980800@www.improntaetica.org
SUMMARY:21/02 | VI Osservatorio Sostenibilità e Comunicazione
DESCRIPTION:La crisi energetica frena la sostenibilità delle imprese.\nIl 21 febbraio\, dalle ore 10:00 alle ore 12:00\, presso la sala Matteotti del Palazzo Theodoli-Bianchelli\, (Via Campo Marzio\, 78\, Roma)\, si terrà la presentazione dei risultati del VI° Osservatorio Sostenibilità & Comunicazione\, realizzato da Format Research e promosso da Mediatyche e Homina. \nLo studio si è concentrato sul percorso delle imprese italiane per realizzare la transizione sostenibile nonostante le difficoltà dettate dalla crisi geopolitica e dalla crisi energetica. \nMaggiori informazioni sono disponibili al seguente link. \nPer partecipare all’evento è necessario iscriversi al seguente link.
URL:https://www.improntaetica.org/evento/21-02-vi-osservatorio-sostenibilita-e-comunicazione/
ATTACH;FMTTYPE=image/png:https://www.improntaetica.org/wp-content/uploads/2023/02/Immagine-senza-nome-3.png
END:VEVENT
END:VCALENDAR