BEGIN:VCALENDAR
VERSION:2.0
PRODID:-//Impronta Etica - ECPv6.15.20//NONSGML v1.0//EN
CALSCALE:GREGORIAN
METHOD:PUBLISH
X-ORIGINAL-URL:https://www.improntaetica.org
X-WR-CALDESC:Eventi per Impronta Etica
REFRESH-INTERVAL;VALUE=DURATION:PT1H
X-Robots-Tag:noindex
X-PUBLISHED-TTL:PT1H
BEGIN:VTIMEZONE
TZID:Europe/Rome
BEGIN:DAYLIGHT
TZOFFSETFROM:+0100
TZOFFSETTO:+0200
TZNAME:CEST
DTSTART:20210328T010000
END:DAYLIGHT
BEGIN:STANDARD
TZOFFSETFROM:+0200
TZOFFSETTO:+0100
TZNAME:CET
DTSTART:20211031T010000
END:STANDARD
BEGIN:DAYLIGHT
TZOFFSETFROM:+0100
TZOFFSETTO:+0200
TZNAME:CEST
DTSTART:20220327T010000
END:DAYLIGHT
BEGIN:STANDARD
TZOFFSETFROM:+0200
TZOFFSETTO:+0100
TZNAME:CET
DTSTART:20221030T010000
END:STANDARD
BEGIN:DAYLIGHT
TZOFFSETFROM:+0100
TZOFFSETTO:+0200
TZNAME:CEST
DTSTART:20230326T010000
END:DAYLIGHT
BEGIN:STANDARD
TZOFFSETFROM:+0200
TZOFFSETTO:+0100
TZNAME:CET
DTSTART:20231029T010000
END:STANDARD
END:VTIMEZONE
BEGIN:VEVENT
DTSTART;TZID=Europe/Rome:20220613T110000
DTEND;TZID=Europe/Rome:20220613T130000
DTSTAMP:20260423T102656
CREATED:20220610T082412Z
LAST-MODIFIED:20220610T082412Z
UID:34937-1655118000-1655125200@www.improntaetica.org
SUMMARY:13\06 | Osservare il cambiamento educando alla mobilità sostenibile
DESCRIPTION:Evento di presentazione della misura d’impatto del progetto O.R.A.\nSi terrà il 13 giugno dalle ore 11.00 alle ore 13.00 in streaming l’appuntamento con l’atto conclusivo di O.R.A. – Open Road Alliance​\, il progetto di Fondazione Unipolis e Cittadinanzattiva che ha promosso tra i giovani una nuova cultura della mobilità. Dal 2019 al 2022 O.R.A. è stato un percorso pluriennale dedicato agli studenti e alle studentesse delle 14 Città metropolitane del nostro Paese\, che ha alternato momenti formativi e laboratoriali e infine un contest di idee creative da cui è nato il primo Manifesto della mobilità sostenibile della scuola italiana raccogliendo le istanze\, le proposte e le richieste di cambiamento in tema di mobilità scritte dai partecipanti al progetto. \nDopo la definizione di un set di outcome misurabili e le rilevazioni che hanno coinvolto gli studenti e i docenti in più momenti durante il percorso\, l’Unità di ricerca ha prodotto il report che sarà presentato il prossimo 13 giugno\, il quale analizza l’impatto del progetto sui partecipanti in termini di aumento della conoscenza\, cambiamento di attitudini e comportamenti in tema di mobilità nella sua dimensione ambientale\, sociale\, economica e della sicurezza. \nL’evento sarà trasmesso in diretta sui canali Facebook\, YouTube e LinkedIn del Progetto O.R.A.\, di Fondazione Unipolis e di Cittadinanzattiva. \nMaggiori informazioni sono disponibili al seguente link. \nE’ possibile iscriversi all’evento al seguente link. 
URL:https://www.improntaetica.org/evento/1306-osservare-il-cambiamento-educando-alla-mobilita-sostenibile/
ATTACH;FMTTYPE=image/jpeg:https://www.improntaetica.org/wp-content/uploads/2020/04/unipolis-e1587126214638.jpg
END:VEVENT
END:VCALENDAR