BEGIN:VCALENDAR
VERSION:2.0
PRODID:-//Impronta Etica - ECPv6.15.20//NONSGML v1.0//EN
CALSCALE:GREGORIAN
METHOD:PUBLISH
X-WR-CALNAME:Impronta Etica
X-ORIGINAL-URL:https://www.improntaetica.org
X-WR-CALDESC:Eventi per Impronta Etica
REFRESH-INTERVAL;VALUE=DURATION:PT1H
X-Robots-Tag:noindex
X-PUBLISHED-TTL:PT1H
BEGIN:VTIMEZONE
TZID:Europe/Rome
BEGIN:DAYLIGHT
TZOFFSETFROM:+0100
TZOFFSETTO:+0200
TZNAME:CEST
DTSTART:20160327T010000
END:DAYLIGHT
BEGIN:STANDARD
TZOFFSETFROM:+0200
TZOFFSETTO:+0100
TZNAME:CET
DTSTART:20161030T010000
END:STANDARD
BEGIN:DAYLIGHT
TZOFFSETFROM:+0100
TZOFFSETTO:+0200
TZNAME:CEST
DTSTART:20170326T010000
END:DAYLIGHT
BEGIN:STANDARD
TZOFFSETFROM:+0200
TZOFFSETTO:+0100
TZNAME:CET
DTSTART:20171029T010000
END:STANDARD
BEGIN:DAYLIGHT
TZOFFSETFROM:+0100
TZOFFSETTO:+0200
TZNAME:CEST
DTSTART:20180325T010000
END:DAYLIGHT
BEGIN:STANDARD
TZOFFSETFROM:+0200
TZOFFSETTO:+0100
TZNAME:CET
DTSTART:20181028T010000
END:STANDARD
END:VTIMEZONE
BEGIN:VEVENT
DTSTART;TZID=Europe/Rome:20171019T090000
DTEND;TZID=Europe/Rome:20171019T133000
DTSTAMP:20260421T013459
CREATED:20171010T130836Z
LAST-MODIFIED:20171010T130836Z
UID:13674-1508403600-1508419800@www.improntaetica.org
SUMMARY:Forum Public Affairs 2017
DESCRIPTION:Un confronto su: “Lavoro\, investimenti\, innovazione. Le sfide del prossimo governo”.\nScopo dell’incontro è quello di  sviluppare e incrementare un dialogo circolare tra Istituzioni\, Impresa\, e Cittadino sul tema “Lavoro\, investimenti\, innovazione. Le sfide del prossimo governo”.\nOggi la politica deve continuare ad alimentare una comunicazione\, che semplifichi i processi burocratici di interscambio di informazioni con il mondo della rappresentanza degli interessi. Questo il paradigma scelto che sarà declinato all’interno delle sessioni di lavoro\, e discusso negli open talk dedicati\, per poter contribuire a identificare specifici interessi di comune accordo nazionale.\nMaggiori informazioni sono disponibili al seguente link.
URL:https://www.improntaetica.org/evento/forum-public-affairs-2017/
ATTACH;FMTTYPE=:
END:VEVENT
END:VCALENDAR