BEGIN:VCALENDAR
VERSION:2.0
PRODID:-//Impronta Etica - ECPv6.15.20//NONSGML v1.0//EN
CALSCALE:GREGORIAN
METHOD:PUBLISH
X-WR-CALNAME:Impronta Etica
X-ORIGINAL-URL:https://www.improntaetica.org
X-WR-CALDESC:Eventi per Impronta Etica
REFRESH-INTERVAL;VALUE=DURATION:PT1H
X-Robots-Tag:noindex
X-PUBLISHED-TTL:PT1H
BEGIN:VTIMEZONE
TZID:Europe/Rome
BEGIN:DAYLIGHT
TZOFFSETFROM:+0100
TZOFFSETTO:+0200
TZNAME:CEST
DTSTART:20210328T010000
END:DAYLIGHT
BEGIN:STANDARD
TZOFFSETFROM:+0200
TZOFFSETTO:+0100
TZNAME:CET
DTSTART:20211031T010000
END:STANDARD
BEGIN:DAYLIGHT
TZOFFSETFROM:+0100
TZOFFSETTO:+0200
TZNAME:CEST
DTSTART:20220327T010000
END:DAYLIGHT
BEGIN:STANDARD
TZOFFSETFROM:+0200
TZOFFSETTO:+0100
TZNAME:CET
DTSTART:20221030T010000
END:STANDARD
BEGIN:DAYLIGHT
TZOFFSETFROM:+0100
TZOFFSETTO:+0200
TZNAME:CEST
DTSTART:20230326T010000
END:DAYLIGHT
BEGIN:STANDARD
TZOFFSETFROM:+0200
TZOFFSETTO:+0100
TZNAME:CET
DTSTART:20231029T010000
END:STANDARD
BEGIN:DAYLIGHT
TZOFFSETFROM:+0100
TZOFFSETTO:+0200
TZNAME:CEST
DTSTART:20240331T010000
END:DAYLIGHT
BEGIN:STANDARD
TZOFFSETFROM:+0200
TZOFFSETTO:+0100
TZNAME:CET
DTSTART:20241027T010000
END:STANDARD
BEGIN:DAYLIGHT
TZOFFSETFROM:+0100
TZOFFSETTO:+0200
TZNAME:CEST
DTSTART:20250330T010000
END:DAYLIGHT
BEGIN:STANDARD
TZOFFSETFROM:+0200
TZOFFSETTO:+0100
TZNAME:CET
DTSTART:20251026T010000
END:STANDARD
END:VTIMEZONE
BEGIN:VEVENT
DTSTART;VALUE=DATE:20241106
DTEND;VALUE=DATE:20241109
DTSTAMP:20260421T025755
CREATED:20241001T081722Z
LAST-MODIFIED:20241001T081722Z
UID:40007-1730851200-1731110399@www.improntaetica.org
SUMMARY:6/11-8/11 | Digital Ethics Forum 2024
DESCRIPTION:La sesta edizione dell’evento annuale per un uso etico del digitale.\nDal 6 all’8 novembre 2024 si terrà l’edizione 2024 del Digital Ethics Forum (DEF) organizzato da Sloweb e sostenuto da Impronta Etica. L’evento rappresenta un’occasione unica di approfondimento del tema dell’etica digitale attraverso conferenze\, tavole rotonde e webinar dedicati. \nIl DEF intende esplorare non solo l’evoluzione delle tecnologie su larga diffusione ma intende rappresentare un’analisi rispetto ai valori e ai modelli sociali generati dall’avanzamento tecnologico stesso. \nL’evento si terrà in presenza a Torino (presso CTE NEXT)\, Roma (presso Movimento Consumatori APS e Frontiere)\, mentre alcune conferenze saranno in forma di webinar. \nMaggiori informazioni sono disponibili al seguente link. \nMaggiori informazioni sul programma sono disponibili al seguente link.
URL:https://www.improntaetica.org/evento/6-11-8-11-digital-ethics-forum-2024/
CATEGORIES:Eventi 2024
ATTACH;FMTTYPE=image/png:https://www.improntaetica.org/wp-content/uploads/2023/10/def-rosso.png
END:VEVENT
BEGIN:VEVENT
DTSTART;TZID=Europe/Rome:20240304T153000
DTEND;TZID=Europe/Rome:20240304T203000
DTSTAMP:20260421T025755
CREATED:20240227T132101Z
LAST-MODIFIED:20240227T132101Z
UID:38544-1709566200-1709584200@www.improntaetica.org
SUMMARY:04/03 | Italia Comunità Digitale\, ConnessIAl futuro quali scenari per il nostro territorio
DESCRIPTION:Prospettive economiche dell’IA: quali strategie?\nLunedì 4 marzo si terrà a Bologna l’evento di Fondazione del Monte “Italia Comunità Digitale\, ConnessIAl futuro quali scenari per il nostro territorio” all’Oratorio di San Filippo Neri\, via Manzoni n. 5 – ore 15.30. All’incontro interverrà Marisa Parmigiani\, direttrice di Fondazione Unipolis\, che dibatterà sul tema “Prospettive economiche dell’IA: quali strategie?”. \nNel corso del pomeriggio verrà presentata anche la ricerca “La governance del digitale in Italia. Innovazione\, democraticità e sviluppo sociale”\, condotta da Tempora APS e Pandora in collaborazione e con il sostegno di Fondazione Del Monte di Bologna e Ravenna\, Fondazione IFAB e Fondazione Unipolis. A raccontare i risultati dell’indagine saranno il direttore di Pandora Rivista Giacomo Bottos e Francesco Nasi del gruppo di ricerca. L’indagine sarà a breve disponibile online. \nMaggiori informazioni sono disponibili al seguente link. \nSCARICA LA LOCANDINA
URL:https://www.improntaetica.org/evento/04-03-italia-comunita-digitale-connessial-futuro-quali-scenari-per-il-nostro-territorio/
ATTACH;FMTTYPE=image/jpeg:https://www.improntaetica.org/wp-content/uploads/2024/02/FM-BO-RA-LA-2K.jpg
END:VEVENT
BEGIN:VEVENT
DTSTART;TZID=Europe/Rome:20231122T000000
DTEND;TZID=Europe/Rome:20231123T000000
DTSTAMP:20260421T025755
CREATED:20231003T072546Z
LAST-MODIFIED:20231103T082046Z
UID:37626-1700611200-1700697600@www.improntaetica.org
SUMMARY:22/11-23/11 | Digital Ethics Forum 2023
DESCRIPTION:Torna la quinta edizione dell’evento sull’etica digitale con il supporto di Impronta Etica.\nSi terrà il 22 e 23 novembre la quinta edizione del Digital Ethics Forum 2023 organizzato da Sloweb\,  l’evento sull’etica digitale per promuovere un’innovazione inclusiva\, sicura e sostenibile organizzato con il supporto di Impronta Etica. Due giorni di conferenze per approfondire alcuni dei più importanti temi etici circa progettazione\, produzione\, distribuzione\, uso\, e l’impatto delle tecnologie digitali sull’uomo e sulla società. \nQuest’anno l’evento si terrà a Torino (CTE Next – CSI di Torino) e a Treviso (Fondazione Benetton – Palazzo Bomben)\, oltre che in streaming. \nIl programma è disponibile al seguente link. \nMaggiori informazioni  sono disponibili al seguente link.
URL:https://www.improntaetica.org/evento/22-11-23-11-digital-ethics-forum-2023/
ATTACH;FMTTYPE=image/png:https://www.improntaetica.org/wp-content/uploads/2023/10/def-rosso.png
END:VEVENT
BEGIN:VEVENT
DTSTART;TZID=Europe/Rome:20231017T090000
DTEND;TZID=Europe/Rome:20231017T170000
DTSTAMP:20260421T025755
CREATED:20231012T063452Z
LAST-MODIFIED:20231012T063452Z
UID:37656-1697533200-1697562000@www.improntaetica.org
SUMMARY:17/10 | European Compliance & Ethics Conference (ECEC)
DESCRIPTION:La quarta edizione della conferenza virtuale.\nSi terrà martedì 17 ottobre dalle ore 09:00 alle 17:00\, la 4° edizione della European Compliance & Ethics Conference (ECEC) organizzata da ESQ Group\, la conferenza virtuale che riunisce oltre 5.000 professionisti operanti in ambito sustainability\, human resources\, governance\, compliance\, ethics e molto altro! \nAssieme a diversi esperti internazionali in materia\, verranno approfonditi i principali temi e trend all’ordine del giorno e condivise le best practice per riprogettare aziende e organizzazioni per un futuro migliore con contributi dedicati a: \n\nAI & corporate compliance\nImpact of war on compliance trends\nSupply chain management\nGRC & ESG\n\nMaggiori informazioni sono disponibili al seguente link. \nE’ possibile registrarsi al seguente link.
URL:https://www.improntaetica.org/evento/17-10-european-compliance-ethics-conference-ecec/
ATTACH;FMTTYPE=image/png:https://www.improntaetica.org/wp-content/uploads/2023/10/ecec.png
END:VEVENT
BEGIN:VEVENT
DTSTART;TZID=Europe/Rome:20231006T090000
DTEND;TZID=Europe/Rome:20231006T200000
DTSTAMP:20260421T025755
CREATED:20231003T144929Z
LAST-MODIFIED:20231003T154857Z
UID:37631-1696582800-1696622400@www.improntaetica.org
SUMMARY:06/10 | Startup Day Unibo 2023
DESCRIPTION:Dove le idee innovative si connettono.\nSi terrà il 6 ottobre a Palazzo Re Enzo\, lo Startup Day Unibo 2023\, l’evento dove giovani imprese e idee emergenti condividono tecnologie\, ricerca e nuovi business con gli esperti del settore. \nStartUp day è l’occasione per arricchire il proprio network con startup\, investitori\, imprese e acceleratori; trovare opportunità di investimento; scoprire quanto la propria attitudine all’innovazione possa portare lontano. \nIl programma è consultabile al seguente link. \nMaggiori informazioni sono disponibili al seguente link.
URL:https://www.improntaetica.org/evento/06-10-startup-day-unibo-2023/
ATTACH;FMTTYPE=image/png:https://www.improntaetica.org/wp-content/uploads/2019/11/unibo.png
END:VEVENT
BEGIN:VEVENT
DTSTART;TZID=Europe/Rome:20230929T000000
DTEND;TZID=Europe/Rome:20230930T000000
DTSTAMP:20260421T025755
CREATED:20230831T101723Z
LAST-MODIFIED:20230831T101723Z
UID:37396-1695945600-1696032000@www.improntaetica.org
SUMMARY:29/09-30/09 | COODING: cooperative\, digitale e nuove tecnologie
DESCRIPTION:COODING: il primo evento internazionale per le cooperative sul digitale e le nuove tecnologie.\nCOODING\, acronimo di COOperatives Digital Innovation & Networking Growth\, si svolgerà il 29 e il 30 settembre allo Spazio Dumbo di Bologna. L’evento è organizzato da Fondazione Centro Studi Doc\, CECOP\, Fondazione PICO e AlmaVicoo. \nLe cooperatrici e i cooperatori avranno l’opportunità di discutere e migliorare la cooperazione sull’uso del digitale e delle nuove tecnologie in linea con i principi e i valori cooperativi\, attraverso una conferenza principale\, workshop tematici\, una fiera cooperativa e l’opportunità di confrontarsi con mentori. \nCOODING mira a sostenere lo sviluppo di una mentalità digitale condivisa tra i cooperatori e le cooperatrici attraverso incontri con esperti del settore\, la testimonianza delle migliori pratiche delle cooperative\, opportunità di B2B e lo scambio tra cooperatori. \nE’ possibile iscriversi al seguente link. \nMaggiori informazioni sono disponibili al seguente link. \nSCARICA IL PROGRAMMA
URL:https://www.improntaetica.org/evento/29-09-30-09-cooding-cooperative-digitale-e-nuove-tecnologie/
ATTACH;FMTTYPE=image/jpeg:https://www.improntaetica.org/wp-content/uploads/2023/08/cooding.jpg
END:VEVENT
BEGIN:VEVENT
DTSTART;TZID=Europe/Rome:20221123T130000
DTEND;TZID=Europe/Rome:20221124T163000
DTSTAMP:20260421T025755
CREATED:20221104T161301Z
LAST-MODIFIED:20221104T161402Z
UID:35838-1669208400-1669307400@www.improntaetica.org
SUMMARY:23-24/11 | Digital Ethics Forum 2022
DESCRIPTION:Torna l’evento sull’etica digitale per un’innovazione inclusiva\, sicura e sostenibile.\nTorna il Digital Ethics Forum\, organizzato da Sloweb\, l’evento incentrato sull’etica digitale per un’innovazione sostenibile.  \nDue giorni di conferenze\, workshop ed eventi speciali per approfondire alcuni dei più importanti temi etici circa progettazione\, produzione\, distribuzione\, uso\, e l’impatto delle tecnologie digitali sull’uomo e sulla società. \nMaggiori informazioni sono disponibili al seguente link. \nSCARICA IL PROGRAMMA
URL:https://www.improntaetica.org/evento/23-24-11-digital-ethics-forum-2022/
ATTACH;FMTTYPE=image/png:https://www.improntaetica.org/wp-content/uploads/2022/10/def.png
END:VEVENT
END:VCALENDAR