BEGIN:VCALENDAR
VERSION:2.0
PRODID:-//Impronta Etica - ECPv6.15.20//NONSGML v1.0//EN
CALSCALE:GREGORIAN
METHOD:PUBLISH
X-WR-CALNAME:Impronta Etica
X-ORIGINAL-URL:https://www.improntaetica.org
X-WR-CALDESC:Eventi per Impronta Etica
REFRESH-INTERVAL;VALUE=DURATION:PT1H
X-Robots-Tag:noindex
X-PUBLISHED-TTL:PT1H
BEGIN:VTIMEZONE
TZID:Europe/Rome
BEGIN:DAYLIGHT
TZOFFSETFROM:+0100
TZOFFSETTO:+0200
TZNAME:CEST
DTSTART:20210328T010000
END:DAYLIGHT
BEGIN:STANDARD
TZOFFSETFROM:+0200
TZOFFSETTO:+0100
TZNAME:CET
DTSTART:20211031T010000
END:STANDARD
BEGIN:DAYLIGHT
TZOFFSETFROM:+0100
TZOFFSETTO:+0200
TZNAME:CEST
DTSTART:20220327T010000
END:DAYLIGHT
BEGIN:STANDARD
TZOFFSETFROM:+0200
TZOFFSETTO:+0100
TZNAME:CET
DTSTART:20221030T010000
END:STANDARD
BEGIN:DAYLIGHT
TZOFFSETFROM:+0100
TZOFFSETTO:+0200
TZNAME:CEST
DTSTART:20230326T010000
END:DAYLIGHT
BEGIN:STANDARD
TZOFFSETFROM:+0200
TZOFFSETTO:+0100
TZNAME:CET
DTSTART:20231029T010000
END:STANDARD
BEGIN:DAYLIGHT
TZOFFSETFROM:+0100
TZOFFSETTO:+0200
TZNAME:CEST
DTSTART:20240331T010000
END:DAYLIGHT
BEGIN:STANDARD
TZOFFSETFROM:+0200
TZOFFSETTO:+0100
TZNAME:CET
DTSTART:20241027T010000
END:STANDARD
BEGIN:DAYLIGHT
TZOFFSETFROM:+0100
TZOFFSETTO:+0200
TZNAME:CEST
DTSTART:20250330T010000
END:DAYLIGHT
BEGIN:STANDARD
TZOFFSETFROM:+0200
TZOFFSETTO:+0100
TZNAME:CET
DTSTART:20251026T010000
END:STANDARD
BEGIN:DAYLIGHT
TZOFFSETFROM:+0100
TZOFFSETTO:+0200
TZNAME:CEST
DTSTART:20260329T010000
END:DAYLIGHT
BEGIN:STANDARD
TZOFFSETFROM:+0200
TZOFFSETTO:+0100
TZNAME:CET
DTSTART:20261025T010000
END:STANDARD
END:VTIMEZONE
BEGIN:VEVENT
DTSTART;VALUE=DATE:20251007
DTEND;VALUE=DATE:20251013
DTSTAMP:20260421T021150
CREATED:20250916T124349Z
LAST-MODIFIED:20250916T124349Z
UID:41693-1759795200-1760313599@www.improntaetica.org
SUMMARY:7/10 - 12/10 | WeWorld Festival - Bologna
DESCRIPTION:Sentire è un atto politico.\nSi terrà dal 7 al 12 ottobre la seconda edizione WeWorld Festival a Bologna\, dal titolo “Sentire è un atto politico“\, a cura di WeWorld. Un evento che racconta la necessità di rimettere al centro del nostro agire l’empatia come atto di resistenza alle profonde crisi moderne. \nDurante le giornate del Festival sarà possibile assistere a proiezioni cinematografiche\, incontri\, talk e performance artistiche che aprono nuovi spazi di riflessione e condivisione su come riportare al centro chi è ai margini della società. \nInoltre\, il festival non solo racconterà le crisi dell’oggi ma cercherà di porre come pilastro della discussione tra i partecipanti i diritti umani\, la giustizia climatica e ambientale e la parità di genere. Per trovare un punto comune è necessario comprendere come è possibile nel mondo odierno costruire reti e alleanze che sappiano essere coltivate e mantenute vive nei territori e nelle idee di sviluppo. \nMaggiori informazioni sul programma sono disponibili al seguente link
URL:https://www.improntaetica.org/evento/7-10-12-10-weworld-festival-bologna/
CATEGORIES:Eventi 2025
ATTACH;FMTTYPE=image/png:https://www.improntaetica.org/wp-content/uploads/2024/09/Screenshot-2024-09-24-111100-e1758026612733.png
END:VEVENT
BEGIN:VEVENT
DTSTART;TZID=Europe/Rome:20220705T133000
DTEND;TZID=Europe/Rome:20220705T133000
DTSTAMP:20260421T021150
CREATED:20220701T141132Z
LAST-MODIFIED:20220701T141132Z
UID:35084-1657027800-1657027800@www.improntaetica.org
SUMMARY:05\07 | GRI: Implementare la due diligence
DESCRIPTION:Implementare e interconnettere il processo di due diligence ambientale e dei diritti umani.\nSì terrà il 5 luglio alle 13.30 il webinar organizzato da GRI in merito al tema della connessione ed implementazione della due diligence ambientale e relativa ai diritti umani.  \nIl webinar è un evento collaterale ufficiale al Forum politico di alto livello delle Nazioni Unite 2022 co-ospitato dall’Istituto danese per i diritti umani (DIHR) e dalla Global Reporting Initiative (GRI). \nL’attuazione dei processi di due diligence è un’impresa complessa\, mentre i governi nazionali hanno iniziato ad adottare misure per codificare gli obblighi di dovuta diligenza nelle proprie politiche e  nuove legislazioni nazionali vengono progressivamente proposte e adottate seppur con importanti limitazioni nella loro portata. \nL’ evento mira a dimostrare che l’implementazione della due diligence ambientale e dei diritti umani in separati silos\, non è sufficiente per valutare i rischi e gli impatti sulle persone e sul pianeta. Per generare un vero impatto è necessario riconoscere  la necessità e i benefici dell’adozione di un approccio integrato e il ruolo che può svolgere nel ricostruire in modo migliorativo dopo lo shock pandemico. \nE’ possibile iscriversi e ottenere maggiori informazioni al seguente link.  \n  \n 
URL:https://www.improntaetica.org/evento/0507-gri-implementare-la-due-diligence/
ATTACH;FMTTYPE=image/png:https://www.improntaetica.org/wp-content/uploads/2022/01/logo-gri.png
END:VEVENT
BEGIN:VEVENT
DTSTART;TZID=Europe/Rome:20220310T110000
DTEND;TZID=Europe/Rome:20220310T123000
DTSTAMP:20260421T021150
CREATED:20220208T083624Z
LAST-MODIFIED:20220208T083729Z
UID:34376-1646910000-1646915400@www.improntaetica.org
SUMMARY:10\03 | EU Update on the Due Diligence Law
DESCRIPTION:Un webinar organizzato da CSR Europe.\nLa pandemia di Covid-19 ha portato alla luce le grandi fragilità presenti nella catena di approvvigionamento in merito a diritti del lavoratori e agli impatti ambientali. \nUscire da questa crisi richiede importanti cambiamenti strutturali\, accelerando così il processo di imposizione di obblighi per le imprese in merito ai diritti umani e al rispetto dell’ambiente da parte dei Governi e della Commissione Europea.  \nCSR Europe propone un webinar aperto a tutti per approfondire la nuova proposta di legge rivolta alle imprese in merito alla Due Diligence della Commissione Europea in programma per il 2022. \nMaggiori informazioni sono disponibili al seguente link. 
URL:https://www.improntaetica.org/evento/1003-eu-update-on-the-due-diligence-law/
ATTACH;FMTTYPE=image/png:https://www.improntaetica.org/wp-content/uploads/2022/02/CSR.png
END:VEVENT
END:VCALENDAR