BEGIN:VCALENDAR
VERSION:2.0
PRODID:-//Impronta Etica - ECPv6.15.20//NONSGML v1.0//EN
CALSCALE:GREGORIAN
METHOD:PUBLISH
X-WR-CALNAME:Impronta Etica
X-ORIGINAL-URL:https://www.improntaetica.org
X-WR-CALDESC:Eventi per Impronta Etica
REFRESH-INTERVAL;VALUE=DURATION:PT1H
X-Robots-Tag:noindex
X-PUBLISHED-TTL:PT1H
BEGIN:VTIMEZONE
TZID:Europe/Rome
BEGIN:DAYLIGHT
TZOFFSETFROM:+0100
TZOFFSETTO:+0200
TZNAME:CEST
DTSTART:20150329T010000
END:DAYLIGHT
BEGIN:STANDARD
TZOFFSETFROM:+0200
TZOFFSETTO:+0100
TZNAME:CET
DTSTART:20151025T010000
END:STANDARD
BEGIN:DAYLIGHT
TZOFFSETFROM:+0100
TZOFFSETTO:+0200
TZNAME:CEST
DTSTART:20160327T010000
END:DAYLIGHT
BEGIN:STANDARD
TZOFFSETFROM:+0200
TZOFFSETTO:+0100
TZNAME:CET
DTSTART:20161030T010000
END:STANDARD
BEGIN:DAYLIGHT
TZOFFSETFROM:+0100
TZOFFSETTO:+0200
TZNAME:CEST
DTSTART:20170326T010000
END:DAYLIGHT
BEGIN:STANDARD
TZOFFSETFROM:+0200
TZOFFSETTO:+0100
TZNAME:CET
DTSTART:20171029T010000
END:STANDARD
END:VTIMEZONE
BEGIN:VEVENT
DTSTART;TZID=Europe/Rome:20160916T090000
DTEND;TZID=Europe/Rome:20160917T130000
DTSTAMP:20260421T095649
CREATED:20160905T104312Z
LAST-MODIFIED:20160905T104312Z
UID:11039-1474016400-1474117200@www.improntaetica.org
SUMMARY:V Conferenza Nazionale sulle politiche in materia di disabilità
DESCRIPTION:Dibattiti\, incontri ed eventi per discutere del tema della disabilità.\nL’evento\, promosso dal Ministero del Lavoro e delle Politiche Sociali assieme al Comune di Firenze\, sarà l’occasione per discutere dell’attuazione del Programma Biennale di Azione sulla disabilità\, elaborato dall’Osservatorio Nazionale sulla condizione delle persone con disabilità”\, che sarà definitivamente approvato entro il mese di ottobre.\nNell’ambito della Conferenza  – venerdì 16 settembre alle ore 14.30 – ci sarà un workshop specifico sulla “valorizzazione delle persone con disabilità in azienda” e sulla figura del “disability manager”. Tra le aziende che presenteranno le loro esperienze ci saranno Gruppo Hera e Gruppo Unipol.\nTra i partecipanti anche la Fondazione ASPHI Onlus\, in rappresentanza della rete dei Centri Ausili italiani (GLIC) di cui è aderente e fu ispiratrice\, che partecipa con decreto ministeriale all’Osservatorio nazionale.\nPer maggiori informazioni riguardanti l’evento e l’iscrizione ai workshop è possibile consultare il seguente link.\nProgramma
URL:https://www.improntaetica.org/evento/v-conferenza-nazionale-sulle-politiche-materia-disabilita/
LOCATION:Fortezza da Basso\, viale Filippo Strozzi 1\, Firenze\, Italy
ATTACH;FMTTYPE=:
END:VEVENT
END:VCALENDAR