BEGIN:VCALENDAR
VERSION:2.0
PRODID:-//Impronta Etica - ECPv6.15.20//NONSGML v1.0//EN
CALSCALE:GREGORIAN
METHOD:PUBLISH
X-ORIGINAL-URL:https://www.improntaetica.org
X-WR-CALDESC:Eventi per Impronta Etica
REFRESH-INTERVAL;VALUE=DURATION:PT1H
X-Robots-Tag:noindex
X-PUBLISHED-TTL:PT1H
BEGIN:VTIMEZONE
TZID:Europe/Rome
BEGIN:DAYLIGHT
TZOFFSETFROM:+0100
TZOFFSETTO:+0200
TZNAME:CEST
DTSTART:20200329T010000
END:DAYLIGHT
BEGIN:STANDARD
TZOFFSETFROM:+0200
TZOFFSETTO:+0100
TZNAME:CET
DTSTART:20201025T010000
END:STANDARD
BEGIN:DAYLIGHT
TZOFFSETFROM:+0100
TZOFFSETTO:+0200
TZNAME:CEST
DTSTART:20210328T010000
END:DAYLIGHT
BEGIN:STANDARD
TZOFFSETFROM:+0200
TZOFFSETTO:+0100
TZNAME:CET
DTSTART:20211031T010000
END:STANDARD
BEGIN:DAYLIGHT
TZOFFSETFROM:+0100
TZOFFSETTO:+0200
TZNAME:CEST
DTSTART:20220327T010000
END:DAYLIGHT
BEGIN:STANDARD
TZOFFSETFROM:+0200
TZOFFSETTO:+0100
TZNAME:CET
DTSTART:20221030T010000
END:STANDARD
BEGIN:DAYLIGHT
TZOFFSETFROM:+0100
TZOFFSETTO:+0200
TZNAME:CEST
DTSTART:20230326T010000
END:DAYLIGHT
BEGIN:STANDARD
TZOFFSETFROM:+0200
TZOFFSETTO:+0100
TZNAME:CET
DTSTART:20231029T010000
END:STANDARD
BEGIN:DAYLIGHT
TZOFFSETFROM:+0100
TZOFFSETTO:+0200
TZNAME:CEST
DTSTART:20240331T010000
END:DAYLIGHT
BEGIN:STANDARD
TZOFFSETFROM:+0200
TZOFFSETTO:+0100
TZNAME:CET
DTSTART:20241027T010000
END:STANDARD
BEGIN:DAYLIGHT
TZOFFSETFROM:+0100
TZOFFSETTO:+0200
TZNAME:CEST
DTSTART:20250330T010000
END:DAYLIGHT
BEGIN:STANDARD
TZOFFSETFROM:+0200
TZOFFSETTO:+0100
TZNAME:CET
DTSTART:20251026T010000
END:STANDARD
BEGIN:DAYLIGHT
TZOFFSETFROM:+0100
TZOFFSETTO:+0200
TZNAME:CEST
DTSTART:20260329T010000
END:DAYLIGHT
BEGIN:STANDARD
TZOFFSETFROM:+0200
TZOFFSETTO:+0100
TZNAME:CET
DTSTART:20261025T010000
END:STANDARD
BEGIN:DAYLIGHT
TZOFFSETFROM:+0100
TZOFFSETTO:+0200
TZNAME:CEST
DTSTART:20270328T010000
END:DAYLIGHT
BEGIN:STANDARD
TZOFFSETFROM:+0200
TZOFFSETTO:+0100
TZNAME:CET
DTSTART:20271031T010000
END:STANDARD
END:VTIMEZONE
BEGIN:VEVENT
DTSTART;TZID=Europe/Rome:20260417T143000
DTEND;TZID=Europe/Rome:20260417T190000
DTSTAMP:20260420T200938
CREATED:20260417T145447Z
LAST-MODIFIED:20260417T145447Z
UID:42838-1776436200-1776452400@www.improntaetica.org
SUMMARY:11/05 | Festival ASviS Bologna: La città delle donne.
DESCRIPTION:Spazi\, servizi e lavoro per una nuova idea di cittadinanza.\nAll’interno della cornice del Festival dello Sviluppo Sostenibile 2026\, si terrà dalle l’11 maggio a Bologna dalle 14.30 presso l’Oratorio San Filippo Neri un evento dedicato a comprendere come una città possa svilupparsi e trasformarsi per dare piena attuazione degli obiettivi legati alla Parità di Genere del Goal 5 dell’Agenda 2030. \nLa giornata si svilupperà come un confronto a più voci\, dedicato ad esplorare come pratiche e politiche possano incidere sulla vita quotidiana e sui servizi cui le donne possono accedere. L’evento darà quindi spazio sia alle politiche pubbliche che al ruolo centrale delle imprese chiamate a costruire spazi inclusivi e aperti\, dove la parità assume una forma sostanziale. \nCostruire un dialogo intorno ad una città delle donne fornisce un primo step per dare vita ad un percorso per uno sviluppo sostenibile ed inclusivo. \nMaggiori informazioni sul programma saranno disponibili a breve. \nMaggiori informazioni sono disponibili al seguente link.
URL:https://www.improntaetica.org/evento/11-05-festival-asvis-bologna-la-citta-delle-donne/
ATTACH;FMTTYPE=image/png:https://www.improntaetica.org/wp-content/uploads/2026/04/download-14.png
END:VEVENT
BEGIN:VEVENT
DTSTART;TZID=Europe/Rome:20241119T110000
DTEND;TZID=Europe/Rome:20241119T123000
DTSTAMP:20260420T200938
CREATED:20241113T123124Z
LAST-MODIFIED:20241114T134144Z
UID:40274-1732014000-1732019400@www.improntaetica.org
SUMMARY:19/11 | Talk femminista: Linguaggi inclusivi in azienda
DESCRIPTION:19/11 | Il talk parte del progetto LavoriamoCI\nSi terrà il prossimo 19 novembre dalle ore 11.00 alle ore 12.30 presso la Fondazione Barberini a Bologna\, il talk femminista “Linguaggi inclusivi in azienda“\, organizzato nell’ambito del progetto LavoriamoCi finanziato dalla Regione Emilia Romagna che vede capofila WeWorld\, e Impronta Etica e la sua impresa socia CADIAI. partner del progetto. \nL’incontro vedrà la partecipazione dell’esperta Elisa Coco di Comunicattive\, per discutere insieme del ruolo centrale del linguaggio inclusivo in azienda. \nE’ possibile iscriversi al seguente link. \nSCARICA LA LOCANDINA
URL:https://www.improntaetica.org/evento/talk-femminista-linguaggi-inclusivi-in-azienda/
CATEGORIES:Eventi 2024
ATTACH;FMTTYPE=image/png:https://www.improntaetica.org/wp-content/uploads/2024/11/Immagine-2024-11-11-152733.png
END:VEVENT
BEGIN:VEVENT
DTSTART;TZID=Europe/Rome:20241017T000000
DTEND;TZID=Europe/Rome:20241021T000000
DTSTAMP:20260420T200938
CREATED:20241015T080643Z
LAST-MODIFIED:20241015T080835Z
UID:40038-1729123200-1729468800@www.improntaetica.org
SUMMARY:17/10 - 21/10 | La città delle donne
DESCRIPTION:17/10 – 21/10 | La città delle donne\nSi terrà dal 17 al 21 ottobre 2024 a Bologna la seconda edizione della rassegna organizzata da Open Group\, Socio di Impronta Etica\, insieme a Associazione SpostaMenti e Fondazione Barberini. “La città delle donne“: cinque giorni di talk\, workshop e performance per costruire insieme la città che vogliamo. \nCon un calendario ricco di incontri\, workshop gratuiti e momenti performativi\, “La città delle donne” vuole promuovere e incentivare la cultura della diversità e favorire il dialogo e lo scambio di idee tra istituzioni\, associazioni\, imprese\, privati e cittadine e cittadini. \nObiettivo comune\, migliorare la vita delle donne nella città da un punto di vista urbanistico\, sociale e culturale\, cercando di agevolarne le necessità di ogni giorno. Ma anche raccontare storie\, carriere\, percorsi personali\, conoscendo da vicino professioniste che non si sono mai perse d’animo né di vista\, in un percorso alla conquista di una piena legittimazione e rappresentanza. \nMaggiori informazioni ed il programma sono disponibili al seguente link. \nSCARICA IL PROGRAMMA
URL:https://www.improntaetica.org/evento/17-10-21-10-la-citta-delle-donne/
ATTACH;FMTTYPE=image/jpeg:https://www.improntaetica.org/wp-content/uploads/2014/07/Open-Group_Logo_Colori.jpg
END:VEVENT
BEGIN:VEVENT
DTSTART;TZID=Europe/Rome:20231020T000000
DTEND;TZID=Europe/Rome:20231022T000000
DTSTAMP:20260420T200938
CREATED:20230929T144608Z
LAST-MODIFIED:20231012T082452Z
UID:37608-1697760000-1697932800@www.improntaetica.org
SUMMARY:20/10-22/10 | La città delle donne
DESCRIPTION:Tre giorni per costruire la città che vogliamo.\nSi svolgerà a Bologna\, dal 20 al 22 ottobre e si muoverà tra Sala Tassinari a Palazzo D’Accursio\, nel cuore della città\, e Fondazione Barberini\, in via Mentana 2\, “La città delle donne”: giornate ricche di incontri\, workshop gratuiti e momenti performativi\, organizzata da Associazione Spostamenti\, Fondazione Barberini e Open Group\, per promuovere e incentivare la cultura dell’uguaglianza e favorire la reciproca conoscenza tra istituzioni\, associazioni\, imprese\, privati e cittadine e cittadini. \nObiettivo comune\, migliorare la vita delle donne nella città da un punto di vista urbanistico\, sociale e culturale\, cercando di agevolarne le necessità di ogni giorno. \nMa anche raccontare storie\, carriere\, percorsi personali\, conoscendo da vicino professioniste che non si sono mai perse d’animo né di vista\, in un percorso alla conquista di una piena legittimazione e rappresentanza. \nMaggiori informazioni sono disponibili al seguente link. \nSCARICA IL PROGRAMMA \n  \n 
URL:https://www.improntaetica.org/evento/20-10-22-10-la-citta-delle-donne/
ATTACH;FMTTYPE=image/jpeg:https://www.improntaetica.org/wp-content/uploads/2023/09/kkkkk.jpg
END:VEVENT
BEGIN:VEVENT
DTSTART;TZID=Europe/Rome:20230907T150000
DTEND;TZID=Europe/Rome:20230907T150000
DTSTAMP:20260420T200938
CREATED:20230904T101502Z
LAST-MODIFIED:20230904T101721Z
UID:37411-1694098800-1694098800@www.improntaetica.org
SUMMARY:07/09 | Alla ricerca della partià di genere
DESCRIPTION:Le sfide e le opportunità della certificazione nelle aziende.\nSi terrà il 7 settembre dalle ore 15:00 al Palacongressi Rimini – Via della Fiera 23\, l’evento organizzato da Confindustria Romagna “Alla ricerca della partià di genere. Le sfide e le opportunità della certificazione nelle aziende.”\, sulle prospettive dell’occupazione femminile e sulle soluzioni possibili ai fini della parità di genere. \nE’ possibile iscriversi al seguente link. \nMaggiori informazioni sono disponibili al seguente link. \nSCARICA IL PROGRAMMA
URL:https://www.improntaetica.org/evento/07-09-alla-ricerca-della-partia-di-genere/
ATTACH;FMTTYPE=image/jpeg:https://www.improntaetica.org/wp-content/uploads/2023/09/confi.jpg
END:VEVENT
BEGIN:VEVENT
DTSTART;TZID=Europe/Rome:20230308T085000
DTEND;TZID=Europe/Rome:20230308T095000
DTSTAMP:20260420T200938
CREATED:20230301T155154Z
LAST-MODIFIED:20230301T155154Z
UID:36520-1678265400-1678269000@www.improntaetica.org
SUMMARY:08/03 | Ring the Bell for Gender Equality 2023
DESCRIPTION:Oltre 100 Borse in tutto il mondo dedicano l’apertura del mercato dell’8 marzo alla parità di genere.\nBorsa Italiana\, con le altre 6 borse del gruppo Euronext\, si unisce a questo network mondiale e l’8 marzo dedica il tradizionale suono della campanella di apertura del mercato ai temi della gender equality e della valorizzazione del talento femminile.\n\nL’ evento è organizzato in partnership con UN Global Compact Network Italia e Women in ETFs.\n\nE possibile visualizzare il programma\, ottenere maggiori informazioni e iscriversi al seguente link.
URL:https://www.improntaetica.org/evento/08-03-ring-the-bell-for-gender-equality-2023/
ATTACH;FMTTYPE=image/jpeg:https://www.improntaetica.org/wp-content/uploads/2023/03/bordsa.jpg
END:VEVENT
BEGIN:VEVENT
DTSTART;TZID=Europe/Rome:20230307T100000
DTEND;TZID=Europe/Rome:20230307T100000
DTSTAMP:20260420T200938
CREATED:20230301T151838Z
LAST-MODIFIED:20230302T142218Z
UID:36513-1678183200-1678183200@www.improntaetica.org
SUMMARY:07/03 | È un tuo diritto. Non solo sulla carta.
DESCRIPTION:Riconoscere\, prevenire e contrastare la violenza economica.\nIn occasione della Giornata Internazionale dei diritti della donna\, Emil Banca e WeWorld\, hanno organizzato il workshop “È un tuo diritto. Non solo sulla carta – Riconoscere\, prevenire e contrastare la violenza economica“\, per accendere i riflettori su quella che è la forma di abuso più diffusa\, e anche più difficile da riconoscere\, nell’ambito dell’ampio e grave problema sociale della violenza sulle donne. \nIl workshop\, in programma il 7 marzo alle 10.00  a Bologna (presso la Fondazione Barberini – via Mentana 2) vuole  essere un momento di confronto tra imprese\, profit e non profit\, che s’interrogano sulla tematica della violenza economica e realizzano interventi virtuosi di inclusione ed empowerment femminile. \nLa violenza economica è purtroppo sottovalutata\, seppure estremamente ostacolante per le vittime che vogliono tornare a essere libere\, in quanto avere delle risorse economiche è condizione essenziale per ripartire. \nPrenderanno parte all’evento anche CADIAI\, Socio di Impronta Etica\, e Philip Morris International. \nAl termine dell’incontro è previsto un aperitivo di networking. \nIl programma e maggiori informazioni sono disponibili al seguente link. \nPe partecipare è richiesta l’iscrizione via email a corporate@weworld.it
URL:https://www.improntaetica.org/evento/07-03-e-un-tuo-diritto-non-solo-sulla-carta/
ATTACH;FMTTYPE=image/jpeg:https://www.improntaetica.org/wp-content/uploads/2023/03/eb.jpg
END:VEVENT
BEGIN:VEVENT
DTSTART;TZID=Europe/Rome:20221129T150000
DTEND;TZID=Europe/Rome:20221129T180000
DTSTAMP:20260420T200938
CREATED:20221124T091733Z
LAST-MODIFIED:20221130T084756Z
UID:36013-1669734000-1669744800@www.improntaetica.org
SUMMARY:29/11| Il mercato del lavoro e le donne
DESCRIPTION:Donne e lavoro tra divari\, conquiste e parità. \nSi terrà in presenza martedì 29 novembre dalle 15.00 alle 18.00 nella Sala Farnese di Palazzo d’Accursio (Piazza Maggiore 6\, Bologna) l’evento dal titolo “Il mercato del lavoro e le donne: divari\, conquiste e parità.” \nL’evento è organizzato da: Assemblea Legislativa Regione Emilia-Romagna\, Unione delle Province d’Italia Emilia-Romagna\, Pandora Rivista In collaborazione con: Piano per l’Uguaglianza della Città Metropolitano di Bologna. \nIl programma:\nSaluti di benvenuto:\nMatteo Lepore – Emma Petitti – Andrea Massari\nRelatori:\nTindara Addabbo – Professoressa ordinaria di politica economica\, Università di Modena e Reggio Emilia\nMarcella Corsi – Professoressa ordinaria di economia politica\, Università “la Sapienza” di Roma\nSimona Lembi – Staff Gabinetto del Sindaco\, Città metropolitana di Bologna \nPatrizia Luongo – Economista e ricercatrice\, Forum Disuguaglianze e Diversità\nNatalia Montinari – Professoressa associata di economia politica\, Università di Bologna\nRoberto Rizza – Professore ordinario di sociologia dei processi economici e del lavoro\, Università di Bologna\nAlessandro Rosina – Professore ordinario di demografia\, Università Cattolica di Milano \nLaura Sartori – Professoressa associata di sociologia\, Università di Bologna \nConclusioni: \nBarbara Lori – Assessore pari opportunità\, Regione Emilia-Romagna \nMaggiori informazioni sono disponibili al seguente link. \nLa diretta dell’evento sarà trasmessa al seguente link. \n  \n  \n 
URL:https://www.improntaetica.org/evento/29-11-il-mercato-del-lavoro-e-le-donne/
ATTACH;FMTTYPE=image/jpeg:https://www.improntaetica.org/wp-content/uploads/2022/11/mix.jpg
END:VEVENT
BEGIN:VEVENT
DTSTART;VALUE=DATE:20210629
DTEND;VALUE=DATE:20210630
DTSTAMP:20260420T200938
CREATED:20210525T160228Z
LAST-MODIFIED:20210525T160228Z
UID:32947-1624924800-1625011199@www.improntaetica.org
SUMMARY:29/06 | Next Generation EU 2026 “Alla pari”
DESCRIPTION:COLLABORIAMO: un patto pubblico privato a favore della parità nei luoghi di lavoro.\nSi è aperto un ciclo di quattro incontri “Next generation EU 2026 – ALLA PARI”\, che prosegue il percorso “Europa sostantivo femminile”\, avviato a fine marzo con l’evento europeo sul tema della Responsabilità sociale in ottica di genere. \nNei mesi di maggio e giugno\, i video offriranno contributi per la strategia nazionale per la parità su diverse tematiche: lavoro (gender pay gap\, congedi parentali\, smart working)\, contrasto agli stereotipi di genere\, cultura e comunicazione (la disuguaglianza dei dati\, della ricerca scientifica\, delle notizie e del design)\, sussidiarietà pubblico/privato. \nOgnuno dei quattro talks\, organizzati da Città metropolitana di Bologna e Rete Capo D\, prevede un primo momento dedicato a spunti di riflessione teorici per poi passare al concreto\, attraverso il racconto di buone pratiche e di progetti applicati sul nostro territorio. Ogni video avrà la durata di 20 minuti e sarà fruibile sui canali Facebook e YouTube della Città metropolitana di Bologna. \nNel ultimo incontro del 29 giugno si parlerà di “COLLABORIAMO: un patto pubblico privato a favore della parità nei luoghi di lavoro”. \nMaggiori informazioni sono disponibili al seguente link.
URL:https://www.improntaetica.org/evento/29-06-next-generation-eu-2026-alla-pari/
ATTACH;FMTTYPE=image/png:https://www.improntaetica.org/wp-content/uploads/2021/05/città-metropolitana-e1621958414409.png
END:VEVENT
BEGIN:VEVENT
DTSTART;VALUE=DATE:20210615
DTEND;VALUE=DATE:20210616
DTSTAMP:20260420T200938
CREATED:20210525T160022Z
LAST-MODIFIED:20210525T160022Z
UID:32944-1623715200-1623801599@www.improntaetica.org
SUMMARY:15/06 | Next Generation EU 2026 "Alla pari"
DESCRIPTION:IL DATO È TRATTO: viaggio esplorativo nel maschilismo dei dati.\nSi è aperto un ciclo di quattro incontri “Next generation EU 2026 – ALLA PARI”\, che prosegue il percorso “Europa sostantivo femminile”\, avviato a fine marzo con l’evento europeo sul tema della Responsabilità sociale in ottica di genere. \nNei mesi di maggio e giugno\, i video offriranno contributi per la strategia nazionale per la parità su diverse tematiche: lavoro (gender pay gap\, congedi parentali\, smart working)\, contrasto agli stereotipi di genere\, cultura e comunicazione (la disuguaglianza dei dati\, della ricerca scientifica\, delle notizie e del design)\, sussidiarietà pubblico/privato. \nOgnuno dei quattro talks\, organizzati da Città metropolitana di Bologna e Rete Capo D\, prevede un primo momento dedicato a spunti di riflessione teorici per poi passare al concreto\, attraverso il racconto di buone pratiche e di progetti applicati sul nostro territorio. Ogni video avrà la durata di 20 minuti e sarà fruibile sui canali Facebook e YouTube della Città metropolitana di Bologna. \nNell’incontro del 15 giugno si parlerà di “IL DATO È TRATTO: viaggio esplorativo nel maschilismo dei dati”. \nMaggiori informazioni sono disponibili al seguente link.
URL:https://www.improntaetica.org/evento/15-06-next-generation-eu-2026-alla-pari/
ATTACH;FMTTYPE=image/png:https://www.improntaetica.org/wp-content/uploads/2021/05/città-metropolitana-e1621958414409.png
END:VEVENT
END:VCALENDAR