BEGIN:VCALENDAR
VERSION:2.0
PRODID:-//Impronta Etica - ECPv6.15.20//NONSGML v1.0//EN
CALSCALE:GREGORIAN
METHOD:PUBLISH
X-ORIGINAL-URL:https://www.improntaetica.org
X-WR-CALDESC:Eventi per Impronta Etica
REFRESH-INTERVAL;VALUE=DURATION:PT1H
X-Robots-Tag:noindex
X-PUBLISHED-TTL:PT1H
BEGIN:VTIMEZONE
TZID:Europe/Rome
BEGIN:DAYLIGHT
TZOFFSETFROM:+0100
TZOFFSETTO:+0200
TZNAME:CEST
DTSTART:20150329T010000
END:DAYLIGHT
BEGIN:STANDARD
TZOFFSETFROM:+0200
TZOFFSETTO:+0100
TZNAME:CET
DTSTART:20151025T010000
END:STANDARD
BEGIN:DAYLIGHT
TZOFFSETFROM:+0100
TZOFFSETTO:+0200
TZNAME:CEST
DTSTART:20160327T010000
END:DAYLIGHT
BEGIN:STANDARD
TZOFFSETFROM:+0200
TZOFFSETTO:+0100
TZNAME:CET
DTSTART:20161030T010000
END:STANDARD
BEGIN:DAYLIGHT
TZOFFSETFROM:+0100
TZOFFSETTO:+0200
TZNAME:CEST
DTSTART:20170326T010000
END:DAYLIGHT
BEGIN:STANDARD
TZOFFSETFROM:+0200
TZOFFSETTO:+0100
TZNAME:CET
DTSTART:20171029T010000
END:STANDARD
BEGIN:DAYLIGHT
TZOFFSETFROM:+0100
TZOFFSETTO:+0200
TZNAME:CEST
DTSTART:20180325T010000
END:DAYLIGHT
BEGIN:STANDARD
TZOFFSETFROM:+0200
TZOFFSETTO:+0100
TZNAME:CET
DTSTART:20181028T010000
END:STANDARD
BEGIN:DAYLIGHT
TZOFFSETFROM:+0100
TZOFFSETTO:+0200
TZNAME:CEST
DTSTART:20190331T010000
END:DAYLIGHT
BEGIN:STANDARD
TZOFFSETFROM:+0200
TZOFFSETTO:+0100
TZNAME:CET
DTSTART:20191027T010000
END:STANDARD
BEGIN:DAYLIGHT
TZOFFSETFROM:+0100
TZOFFSETTO:+0200
TZNAME:CEST
DTSTART:20200329T010000
END:DAYLIGHT
BEGIN:STANDARD
TZOFFSETFROM:+0200
TZOFFSETTO:+0100
TZNAME:CET
DTSTART:20201025T010000
END:STANDARD
BEGIN:DAYLIGHT
TZOFFSETFROM:+0100
TZOFFSETTO:+0200
TZNAME:CEST
DTSTART:20210328T010000
END:DAYLIGHT
BEGIN:STANDARD
TZOFFSETFROM:+0200
TZOFFSETTO:+0100
TZNAME:CET
DTSTART:20211031T010000
END:STANDARD
BEGIN:DAYLIGHT
TZOFFSETFROM:+0100
TZOFFSETTO:+0200
TZNAME:CEST
DTSTART:20220327T010000
END:DAYLIGHT
BEGIN:STANDARD
TZOFFSETFROM:+0200
TZOFFSETTO:+0100
TZNAME:CET
DTSTART:20221030T010000
END:STANDARD
BEGIN:DAYLIGHT
TZOFFSETFROM:+0100
TZOFFSETTO:+0200
TZNAME:CEST
DTSTART:20230326T010000
END:DAYLIGHT
BEGIN:STANDARD
TZOFFSETFROM:+0200
TZOFFSETTO:+0100
TZNAME:CET
DTSTART:20231029T010000
END:STANDARD
BEGIN:DAYLIGHT
TZOFFSETFROM:+0100
TZOFFSETTO:+0200
TZNAME:CEST
DTSTART:20240331T010000
END:DAYLIGHT
BEGIN:STANDARD
TZOFFSETFROM:+0200
TZOFFSETTO:+0100
TZNAME:CET
DTSTART:20241027T010000
END:STANDARD
BEGIN:DAYLIGHT
TZOFFSETFROM:+0100
TZOFFSETTO:+0200
TZNAME:CEST
DTSTART:20250330T010000
END:DAYLIGHT
BEGIN:STANDARD
TZOFFSETFROM:+0200
TZOFFSETTO:+0100
TZNAME:CET
DTSTART:20251026T010000
END:STANDARD
BEGIN:DAYLIGHT
TZOFFSETFROM:+0100
TZOFFSETTO:+0200
TZNAME:CEST
DTSTART:20260329T010000
END:DAYLIGHT
BEGIN:STANDARD
TZOFFSETFROM:+0200
TZOFFSETTO:+0100
TZNAME:CET
DTSTART:20261025T010000
END:STANDARD
END:VTIMEZONE
BEGIN:VEVENT
DTSTART;VALUE=DATE:20251104
DTEND;VALUE=DATE:20251108
DTSTAMP:20260421T071731
CREATED:20251001T153144Z
LAST-MODIFIED:20251002T145534Z
UID:41749-1762214400-1762559999@www.improntaetica.org
SUMMARY:04/11 - 07/11| Ecomondo 2025
DESCRIPTION:La ventottesima edizione della fiera della green economy.\nL’edizione 2025 di Ecomondo si svolgerà a Rimini presso Italian Exhibition Group – Fiera di Rimini dal 5 all’8 novembre 2024. Un evento internazionale di riferimento in Europa e nel bacino del Mediterraneo per le tecnologie\, i servizi e le soluzioni industriali nei settori della green and circular economy. \nEcomondo – The green technoloy expo è un punto di incontro e di dialogo tra imprese\, stakeholder\, policy maker e istituzioni che raccoglie e mette a sistema gli elementi chiave che definiscono le strategie di sviluppo della politica ambientale dell’Unione Europea. Durante i 4 giorni di Ecomondo verranno affrontati temi legati alla costruzione di nuove alleanze strategiche\, all’adozione dell’economia circolare e alla rigenerazione ecologica di suoli\, acque\, coste e città. Un ricco programma di conferenze ed eventi\, supportato dal Comitato Tecnico Scientifico\, con esperti e rappresentanti di istituzioni italiane\, europee e internazionali. \nMaggiori informazioni sul programma sono disponibili al seguente link. \nSCARICA LA BROCHURE
URL:https://www.improntaetica.org/evento/04-11-07-11-ecomondo-2025/
CATEGORIES:Eventi 2025
ATTACH;FMTTYPE=image/png:https://www.improntaetica.org/wp-content/uploads/2020/09/ecomondo.png
END:VEVENT
BEGIN:VEVENT
DTSTART;VALUE=DATE:20241105
DTEND;VALUE=DATE:20241109
DTSTAMP:20260421T071731
CREATED:20240926T095153Z
LAST-MODIFIED:20240926T095153Z
UID:39990-1730764800-1731110399@www.improntaetica.org
SUMMARY:5/11-8/11 | Ecomondo 2024
DESCRIPTION:La ventisettesima edizione della fiera della green economy in Italia e in Europa.\nEcomondo – The green technoloy expo è un punto di incontro e di dialogo tra imprese\, stakeholder\, policy maker e istituzioni che raccoglie e mette a sistema gli elementi chiave che definiscono le strategie di sviluppo della politica ambientale dell’Unione Europea. \nL’edizione 2024 di Ecomondo si svolgerà a Rimini presso Italian Exhibition Group – Fiera di Rimini dal 5 all’8 novembre 2024. Un evento internazionale di riferimento in Europa e nel bacino del Mediterraneo per le tecnologie\, i servizi e le soluzioni industriali nei settori della green and circular economy. \nDurante i 4 giorni di Ecomondo verranno affrontati temi legati ai progetti PNRR\, all’adozione dell’economia circolare e alla rigenerazione ecologica di suoli\, acque\, coste e città. Un ricco programma di conferenze ed eventi\, supportato dal Comitato Tecnico Scientifico\, con esperti e rappresentanti di istituzioni italiane\, europee e internazionali. \nMaggiori informazioni sul programma sono disponibili al seguente link. \nSCARICA LA LOCANDINA
URL:https://www.improntaetica.org/evento/5-11-8-11-ecomondo-2024/
CATEGORIES:Eventi 2024
ATTACH;FMTTYPE=image/png:https://www.improntaetica.org/wp-content/uploads/2020/09/ecomondo.png
END:VEVENT
BEGIN:VEVENT
DTSTART;TZID=Europe/Rome:20230530T000000
DTEND;TZID=Europe/Rome:20230531T000000
DTSTAMP:20260421T071731
CREATED:20230516T091154Z
LAST-MODIFIED:20230516T091154Z
UID:36921-1685404800-1685491200@www.improntaetica.org
SUMMARY:30/05 - 31/05 | Green Digital Week 2023
DESCRIPTION:Due giorni ideati per guidare la community verso i nuovi scenari della transizione energetica ed ecologica.\nIl 30 – 31 maggio ti aspetta la prima Digital Green Week\, Circular Economy and Energy Transition: the road to decarbonisation : due giorni ideati per guidare la community verso i nuovi scenari della transizione energetica ed ecologica e organizzati da Ecomondo. \nCon esperti provenienti dal mondo accademico\, dell’industria e delle istituzioni verranno affrontati i temi dell’economia circolare a 360°\, della transizione ecologica ed energetica. Il tutto completamente online grazie al Digital Hub che permette di seguire gli speech da qualsiasi luogo. \nQuest’anno le Digital Green Week viaggiano cross manifestazione riunendo in un unico appuntamento tutti gli eventi della filiera green&tech di Italian Exhibition Group. \nNell’edizione di maggio si parlerà di Transizione Ecologica e Green Economy con Ecomondo\, Transizione Energetica e Rinnovabili con K.EY – The Energy Transition Expo e di Trasporto Sostenibile e Turistico con IBE Intermobility and Bus Expo. week \nMaggiori informazioni sono disponibili al seguente link. \n  \n 
URL:https://www.improntaetica.org/evento/30-05-31-05-green-digital-week-2023/
ATTACH;FMTTYPE=image/png:https://www.improntaetica.org/wp-content/uploads/2020/09/ecomondo.png
END:VEVENT
BEGIN:VEVENT
DTSTART;TZID=Europe/Rome:20221108T000000
DTEND;TZID=Europe/Rome:20221111T000000
DTSTAMP:20260421T071731
CREATED:20220504T151555Z
LAST-MODIFIED:20220923T114545Z
UID:34773-1667865600-1668124800@www.improntaetica.org
SUMMARY:08/11-11/11 | Ecomondo 2022
DESCRIPTION:L’evento circa la transizione ecologica e l’economia circolare e rigenerativa.\nTorna Ecomondo\, l’appuntamento business to business per gli operatori dell’industria e dei servizi del mondo green\,  che coniuga sostenibilità economica ed ambientale. L’edizione 2022 si terrà dall’8 all’11 novembre al Polo Fieristico di Rimini. \nLa fiera rappresenta il marketplace dell’economia circolare dove le imprese trovano soluzioni all’efficientamento nella produzione\, riduzione degli sprechi alimentari\, eﬃcenza energetica e di trasformazione nelle varie industrie e valorizzazione integrata dei suoi sottoprodotti e rifiuti. \nIn tale occasione\, nelle giornate dell’8 e 9 novembre si terranno gli Stati Generali della Green economy 2022\,  a cui è possibile iscriversi al seguente link. l’evento di riferimento per la green economy italiana promosso dal Consiglio Nazionale della Green Economy\, in collaborazione con il Ministero della Transizione Ecologica. \nMaggiori informazioni riguardo Ecomondo sono disponibili al seguente link.  \n 
URL:https://www.improntaetica.org/evento/08-1111-ecomondo-2022/
ATTACH;FMTTYPE=image/png:https://www.improntaetica.org/wp-content/uploads/2020/09/ecomondo.png
END:VEVENT
BEGIN:VEVENT
DTSTART;VALUE=DATE:20191105
DTEND;VALUE=DATE:20191109
DTSTAMP:20260421T071731
CREATED:20191015T071759Z
LAST-MODIFIED:20191015T071759Z
UID:17122-1572912000-1573257599@www.improntaetica.org
SUMMARY:Ecomondo 2019
DESCRIPTION:La fiera dedicata alla green e circular economy.\nEcomondo è l’evento internazionale che unisce in un’unica piattaforma tutti i settori dell’economia circolare: dal recupero di materia ed energia allo sviluppo sostenibile. Un appuntamento di riferimento per incontrare tutte le aziende leader di mercato\, conoscere i trend\, le innovazioni e le nuove tecnologie\, confrontarsi con i professionisti del settore.\nIn contemporanea con Ecomondo si svolge Key Energy “Energy transition hub”\, la fiera delle soluzioni e applicazioni di efficienza energetica ed energie rinnovabili.\nMaggiori informazioni sono consultabili al seguente link.\nAll’interno della cornice di Ecomondo\, martedì 5 novembre 2019 dalle ore 15.45 alle ore 18.00 (presso lo stand della Regione Emilia Romagna – Hall Sud)\, l’Osservatorio GreenER organizza l’incontro di lavoro “Le nuove politiche per il Green New Deal e la nuova programmazione comunitaria 2021-2027“. L’iniziativa fa parte del percorso verso la nuova programmazione dei Fondi europei in Emilia-Romagna.\nAll’incontro Impronta Etica discuterà del tema di come le nuove politiche comunitarie impattino le imprese.\nAgenda_5novembre_OsservatorioGreenER\nBrochure_Ecomondo
URL:https://www.improntaetica.org/evento/ecomondo-2019/
LOCATION:Rimini Fiera\, Fiera\, 47922 Rimini RN\, Italia\, Rimini\, Emilia-Romagna\, 47922\, Italia
ATTACH;FMTTYPE=:
END:VEVENT
BEGIN:VEVENT
DTSTART;VALUE=DATE:20181106
DTEND;VALUE=DATE:20181110
DTSTAMP:20260421T071731
CREATED:20180904T094943Z
LAST-MODIFIED:20180904T094943Z
UID:15333-1541462400-1541807999@www.improntaetica.org
SUMMARY:Ecomondo 2018
DESCRIPTION:La fiera dedicata alla green e circular economy.\nEcomondo è l’evento internazionale che unisce in un’unica piattaforma tutti i settori dell’economia circolare: dal recupero di materia ed energia allo sviluppo sostenibile. Un appuntamento di riferimento per incontrare tutte le aziende leader di mercato\, conoscere i trend\, le innovazioni e le nuove tecnologie\, confrontarsi con i professionisti del settore.\nIn particolare\, in collaborazione con associazioni industriali\, ministeri ed altre istituzioni\, enti di ricerca\, la Commissione Europea e l’OCSE\, saranno esaminate e discusse le principali novità\, necessità\, criticità ed opportunità nell’ambito del riuso e valorizzazione dei principali rifiuti tecnici e biologici (incluse le acque reflue)\, le materie prime alternative e l’ecodesign industriale\, la bonifica e la riqualificazione delle aree contaminate\, anche marine\, e la bioeconomia.\nIn contemporanea con Ecomondo si svolge Key Energy “Energy transition hub”\, la fiera delle soluzioni e applicazioni di efficienza energetica ed energie rinnovabili.\nIl programma è consultabile al seguente link.\nMaggiori informazioni sono disponibili al seguente link.
URL:https://www.improntaetica.org/evento/ecomondo-2018/
LOCATION:Rimini Fiera\, Fiera\, 47922 Rimini RN\, Italia\, Rimini\, Emilia-Romagna\, 47922\, Italia
ATTACH;FMTTYPE=:
END:VEVENT
BEGIN:VEVENT
DTSTART;VALUE=DATE:20181106
DTEND;VALUE=DATE:20181108
DTSTAMP:20260421T071731
CREATED:20181008T123844Z
LAST-MODIFIED:20181008T123844Z
UID:15601-1541462400-1541635199@www.improntaetica.org
SUMMARY:Stati Generali della Green Economy 2018
DESCRIPTION:“Green economy e nuova occupazione per il rilancio dell’Italia”.\nIl Consiglio Nazionale della Green Economy\, in collaborazione con il Ministero dell’Ambiente\, organizza gli Stati Generali della Green Economy 2018\, dedicati al tema “Green economy e nuova occupazione per il rilancio dell’Italia”\, che si terranno in occasione della manifestazione Ecomondo.\nI lavori si svolgeranno in due giorni schedulati in 2 sessioni plenarie e 5 sessioni tematiche di approfondimento e consultazione.\nIl programma completo della VII edizione e le modalità di iscrizione gratuita all’evento saranno disponibili a breve.\nMaggiori informazioni sono disponibili al seguente link.
URL:https://www.improntaetica.org/evento/stati-generali-della-green-economy-2018/
LOCATION:Rimini Fiera\, Fiera\, 47922 Rimini RN\, Italia\, Rimini\, Emilia-Romagna\, 47922\, Italia
ATTACH;FMTTYPE=:
END:VEVENT
BEGIN:VEVENT
DTSTART;VALUE=DATE:20161108
DTEND;VALUE=DATE:20161112
DTSTAMP:20260421T071731
CREATED:20160920T105608Z
LAST-MODIFIED:20160920T105608Z
UID:11175-1478563200-1478908799@www.improntaetica.org
SUMMARY:Ecomondo 2016 | Green & Circular Economy
DESCRIPTION:Fiera Internazionale del recupero di materia ed energia e dello sviluppo sostenibile.\nEcomondo si pone come l’appuntamento business to business per gli operatori dell’industria e dei servizi in chiave green che coniuga sostenibilità economica ed ambientale.\nE’ inoltre il marketplace dell’economia circolare dove le imprese trovano soluzioni all’efficientamento nella produzione\, riduzione degli sprechi alimentari\, eﬃcienza energetica e di trasformazione nelle varie industrie e valorizzazione integrata dei suoi sottoprodotti e rifiuti.\nMaggiori informazioni sono consultabili sul sito di Ecomondo.
URL:https://www.improntaetica.org/evento/ecomondo-2016-green-circular-economy/
LOCATION:Rimini Fiera\, Fiera\, 47922 Rimini RN\, Italia\, Rimini\, Emilia-Romagna\, 47922\, Italia
ATTACH;FMTTYPE=:
END:VEVENT
END:VCALENDAR