BEGIN:VCALENDAR
VERSION:2.0
PRODID:-//Impronta Etica - ECPv6.15.20//NONSGML v1.0//EN
CALSCALE:GREGORIAN
METHOD:PUBLISH
X-ORIGINAL-URL:https://www.improntaetica.org
X-WR-CALDESC:Eventi per Impronta Etica
REFRESH-INTERVAL;VALUE=DURATION:PT1H
X-Robots-Tag:noindex
X-PUBLISHED-TTL:PT1H
BEGIN:VTIMEZONE
TZID:Europe/Rome
BEGIN:DAYLIGHT
TZOFFSETFROM:+0100
TZOFFSETTO:+0200
TZNAME:CEST
DTSTART:20200329T010000
END:DAYLIGHT
BEGIN:STANDARD
TZOFFSETFROM:+0200
TZOFFSETTO:+0100
TZNAME:CET
DTSTART:20201025T010000
END:STANDARD
BEGIN:DAYLIGHT
TZOFFSETFROM:+0100
TZOFFSETTO:+0200
TZNAME:CEST
DTSTART:20210328T010000
END:DAYLIGHT
BEGIN:STANDARD
TZOFFSETFROM:+0200
TZOFFSETTO:+0100
TZNAME:CET
DTSTART:20211031T010000
END:STANDARD
BEGIN:DAYLIGHT
TZOFFSETFROM:+0100
TZOFFSETTO:+0200
TZNAME:CEST
DTSTART:20220327T010000
END:DAYLIGHT
BEGIN:STANDARD
TZOFFSETFROM:+0200
TZOFFSETTO:+0100
TZNAME:CET
DTSTART:20221030T010000
END:STANDARD
END:VTIMEZONE
BEGIN:VEVENT
DTSTART;TZID=Europe/Rome:20211217T170000
DTEND;TZID=Europe/Rome:20211217T200000
DTSTAMP:20260423T162201
CREATED:20211216T145739Z
LAST-MODIFIED:20211216T145739Z
UID:34206-1639760400-1639771200@www.improntaetica.org
SUMMARY:17/12 | Generation NeXt - 10 Anni di Nuova Economia
DESCRIPTION:I dieci anni di NeXt.\nNeXt Nuova Economia per Tutti festeggia i suoi primi 10 anni di attività\, con un evento aperto a tutti in cui riflettere sui risultati raggiunti e i nuovi traguardi dell’associazione. \nSegui la diretta al seguente link.
URL:https://www.improntaetica.org/evento/17-12-generation-next-10-anni-di-nuova-economia/
ATTACH;FMTTYPE=image/jpeg:https://www.improntaetica.org/wp-content/uploads/2021/12/next-e1639666649841.jpg
END:VEVENT
END:VCALENDAR