BEGIN:VCALENDAR
VERSION:2.0
PRODID:-//Impronta Etica - ECPv6.15.20//NONSGML v1.0//EN
CALSCALE:GREGORIAN
METHOD:PUBLISH
X-ORIGINAL-URL:https://www.improntaetica.org
X-WR-CALDESC:Eventi per Impronta Etica
REFRESH-INTERVAL;VALUE=DURATION:PT1H
X-Robots-Tag:noindex
X-PUBLISHED-TTL:PT1H
BEGIN:VTIMEZONE
TZID:Europe/Rome
BEGIN:DAYLIGHT
TZOFFSETFROM:+0100
TZOFFSETTO:+0200
TZNAME:CEST
DTSTART:20180325T010000
END:DAYLIGHT
BEGIN:STANDARD
TZOFFSETFROM:+0200
TZOFFSETTO:+0100
TZNAME:CET
DTSTART:20181028T010000
END:STANDARD
BEGIN:DAYLIGHT
TZOFFSETFROM:+0100
TZOFFSETTO:+0200
TZNAME:CEST
DTSTART:20190331T010000
END:DAYLIGHT
BEGIN:STANDARD
TZOFFSETFROM:+0200
TZOFFSETTO:+0100
TZNAME:CET
DTSTART:20191027T010000
END:STANDARD
BEGIN:DAYLIGHT
TZOFFSETFROM:+0100
TZOFFSETTO:+0200
TZNAME:CEST
DTSTART:20200329T010000
END:DAYLIGHT
BEGIN:STANDARD
TZOFFSETFROM:+0200
TZOFFSETTO:+0100
TZNAME:CET
DTSTART:20201025T010000
END:STANDARD
END:VTIMEZONE
BEGIN:VEVENT
DTSTART;TZID=Europe/Rome:20190322T093000
DTEND;TZID=Europe/Rome:20190322T193000
DTSTAMP:20260421T072620
CREATED:20190319T164945Z
LAST-MODIFIED:20190319T164945Z
UID:16305-1553247000-1553283000@www.improntaetica.org
SUMMARY:Giornata dell’economia solidale in Emilia Romagna
DESCRIPTION:Due momenti di confronto.\nI protagonisti dell’Economia solidale dell’Emilia Romagna si incontreranno a Bologna in due momenti di confronto.\nLa mattina – dalle ore 9.30 alle ore 13.30 presso l’Aula Magna della Regione Emilia-Romagna (Viale Aldo Moro 30) –  gli addetti ai lavori e gli stakeholder saranno chiamati a confrontarsi sul percorso svolto finora in attuazione della LR 19/2014 sull’Economia Solidale. Presiede Andrea Corsini\, Assessore al Turismo e Commercio della Regione Emilia-Romagna\, con delega all’attuazione della Legge regionale sull’Economia Solidale.\nNel pomeriggio – dalle ore 16.30 alle ore 19.30 presso la Sala Tassinari – Palazzo d’Accursio (Piazza Maggiore 6) – si svolgerà una tavola rotonda aperta a tutta la cittadinanza durante diversi attori del territorio si confronteranno sulle prospettive dell’Economia solidale nella Regione Emilia-Romagna.\nLa Regione Emilia-Romagna\, a partire dall’adozione della Legge regionale 19/2014\, è impegnata in un percorso di comprensione e valorizzazione delle realtà riconducibili ai principi dell’economia solidale. A livello regionale è stato costituito il Forum e il Tavolo permanente ed è di prossima attivazione l’Osservatorio regionale dell’economia solidale.\nAlla giornata del 22 farà seguito il Forum dell’Economia solidale del 30 marzo\, organismo di rappresentanza previsto dalla Legge 19/2014 e dalla successiva delibera regionale 323/2016 a cui i soggetti interessati possono iscriversi attraverso la modulistica disponibile qui.\nPer partecipare alla Giornata dell’Economia solidale occorre compilare il form di iscrizione a questo link.\nProgramma
URL:https://www.improntaetica.org/evento/giornata-delleconomia-solidale-emilia-romagna/
LOCATION:Bologna
ATTACH;FMTTYPE=:
END:VEVENT
END:VCALENDAR