BEGIN:VCALENDAR
VERSION:2.0
PRODID:-//Impronta Etica - ECPv6.15.20//NONSGML v1.0//EN
CALSCALE:GREGORIAN
METHOD:PUBLISH
X-WR-CALNAME:Impronta Etica
X-ORIGINAL-URL:https://www.improntaetica.org
X-WR-CALDESC:Eventi per Impronta Etica
REFRESH-INTERVAL;VALUE=DURATION:PT1H
X-Robots-Tag:noindex
X-PUBLISHED-TTL:PT1H
BEGIN:VTIMEZONE
TZID:Europe/Rome
BEGIN:DAYLIGHT
TZOFFSETFROM:+0100
TZOFFSETTO:+0200
TZNAME:CEST
DTSTART:20150329T010000
END:DAYLIGHT
BEGIN:STANDARD
TZOFFSETFROM:+0200
TZOFFSETTO:+0100
TZNAME:CET
DTSTART:20151025T010000
END:STANDARD
BEGIN:DAYLIGHT
TZOFFSETFROM:+0100
TZOFFSETTO:+0200
TZNAME:CEST
DTSTART:20160327T010000
END:DAYLIGHT
BEGIN:STANDARD
TZOFFSETFROM:+0200
TZOFFSETTO:+0100
TZNAME:CET
DTSTART:20161030T010000
END:STANDARD
BEGIN:DAYLIGHT
TZOFFSETFROM:+0100
TZOFFSETTO:+0200
TZNAME:CEST
DTSTART:20170326T010000
END:DAYLIGHT
BEGIN:STANDARD
TZOFFSETFROM:+0200
TZOFFSETTO:+0100
TZNAME:CET
DTSTART:20171029T010000
END:STANDARD
BEGIN:DAYLIGHT
TZOFFSETFROM:+0100
TZOFFSETTO:+0200
TZNAME:CEST
DTSTART:20180325T010000
END:DAYLIGHT
BEGIN:STANDARD
TZOFFSETFROM:+0200
TZOFFSETTO:+0100
TZNAME:CET
DTSTART:20181028T010000
END:STANDARD
BEGIN:DAYLIGHT
TZOFFSETFROM:+0100
TZOFFSETTO:+0200
TZNAME:CEST
DTSTART:20190331T010000
END:DAYLIGHT
BEGIN:STANDARD
TZOFFSETFROM:+0200
TZOFFSETTO:+0100
TZNAME:CET
DTSTART:20191027T010000
END:STANDARD
BEGIN:DAYLIGHT
TZOFFSETFROM:+0100
TZOFFSETTO:+0200
TZNAME:CEST
DTSTART:20200329T010000
END:DAYLIGHT
BEGIN:STANDARD
TZOFFSETFROM:+0200
TZOFFSETTO:+0100
TZNAME:CET
DTSTART:20201025T010000
END:STANDARD
BEGIN:DAYLIGHT
TZOFFSETFROM:+0100
TZOFFSETTO:+0200
TZNAME:CEST
DTSTART:20210328T010000
END:DAYLIGHT
BEGIN:STANDARD
TZOFFSETFROM:+0200
TZOFFSETTO:+0100
TZNAME:CET
DTSTART:20211031T010000
END:STANDARD
BEGIN:DAYLIGHT
TZOFFSETFROM:+0100
TZOFFSETTO:+0200
TZNAME:CEST
DTSTART:20220327T010000
END:DAYLIGHT
BEGIN:STANDARD
TZOFFSETFROM:+0200
TZOFFSETTO:+0100
TZNAME:CET
DTSTART:20221030T010000
END:STANDARD
BEGIN:DAYLIGHT
TZOFFSETFROM:+0100
TZOFFSETTO:+0200
TZNAME:CEST
DTSTART:20230326T010000
END:DAYLIGHT
BEGIN:STANDARD
TZOFFSETFROM:+0200
TZOFFSETTO:+0100
TZNAME:CET
DTSTART:20231029T010000
END:STANDARD
BEGIN:DAYLIGHT
TZOFFSETFROM:+0100
TZOFFSETTO:+0200
TZNAME:CEST
DTSTART:20240331T010000
END:DAYLIGHT
BEGIN:STANDARD
TZOFFSETFROM:+0200
TZOFFSETTO:+0100
TZNAME:CET
DTSTART:20241027T010000
END:STANDARD
BEGIN:DAYLIGHT
TZOFFSETFROM:+0100
TZOFFSETTO:+0200
TZNAME:CEST
DTSTART:20250330T010000
END:DAYLIGHT
BEGIN:STANDARD
TZOFFSETFROM:+0200
TZOFFSETTO:+0100
TZNAME:CET
DTSTART:20251026T010000
END:STANDARD
END:VTIMEZONE
BEGIN:VEVENT
DTSTART;TZID=Europe/Rome:20240228T110000
DTEND;TZID=Europe/Rome:20240228T110000
DTSTAMP:20260421T063108
CREATED:20240115T110850Z
LAST-MODIFIED:20240122T123742Z
UID:38197-1709118000-1709118000@www.improntaetica.org
SUMMARY:28/02 | Boom: evento di presentazione del libro «Racconti di leadership»
DESCRIPTION:Il progetto di pubblicazione a cui Impronta Etica ha preso parte.\nIl 28 febbraio 2023 dalle ore 11.00 si terrà presso la sede di BOOM in Via Piemonte 6/8\, Osteria Grande (BO)\, l’evento celebrativo del primo anno dell’ knowledge e innovation hub di CRIF. \nL’evento sarà occasione per presentare il progetto di pubblicazione «Racconti di leadership» promosso dal Comitato Scientifico di BOOM a cui Impronta Etica ha preso parte attraverso la redazione di un capitolo dedicato al rapporto tra sostenibilità e leadership. \nE’ possibile ottenere maggiori informazioni ed iscriversi al seguente link.
URL:https://www.improntaetica.org/evento/23-02-boom-evento-di-presentazione-del-libro-racconti-di-leadership/
ATTACH;FMTTYPE=image/jpeg:https://www.improntaetica.org/wp-content/uploads/2023/02/boom.jpg
END:VEVENT
BEGIN:VEVENT
DTSTART;TZID=Europe/Rome:20231107T000000
DTEND;TZID=Europe/Rome:20231108T000000
DTSTAMP:20260421T063108
CREATED:20231012T122248Z
LAST-MODIFIED:20231012T122248Z
UID:37669-1699315200-1699401600@www.improntaetica.org
SUMMARY:7-8/11 | Stati generali della Green Economy 2023
DESCRIPTION:L’economia di domani: una green economy decarbonizzata\, circolare e nature positive.\nSi terranno il 7 e l’8 novembre all’interno di Ecomondo 2023 gli Stati Generali della Green Economy 2023 e tratterrano il tema dell‘economia di domani\, tra decarbonizzazione\, economia circolare e nature positve.  \nLa transizione all’economia di domani richiede impegnative innovazioni e consistenti investimenti\, capacità di coglierne i vantaggi economici\, attenzione nella gestione dei costi\, cura dell’inclusione sociale\, dell’occupazione e dei settori economici più esposti. Fermarsi\, rallentare\, restare indietro nella transizione all’economia di domani sarebbe comunque l’opzione peggiore: con i più alti costi economici e sociali. \nE’ possibile iscriversi al seguente link. \nMaggiori informazioni sono disponibili al seguente link.
URL:https://www.improntaetica.org/evento/7-8-11-stati-generali-della-green-economy-2023/
ATTACH;FMTTYPE=image/png:https://www.improntaetica.org/wp-content/uploads/2023/10/green.png
END:VEVENT
BEGIN:VEVENT
DTSTART;TZID=Europe/Rome:20231013T000000
DTEND;TZID=Europe/Rome:20231014T000000
DTSTAMP:20260421T063108
CREATED:20230727T095128Z
LAST-MODIFIED:20230927T083519Z
UID:37295-1697155200-1697241600@www.improntaetica.org
SUMMARY:13/10-14/10 | Le Giornate di Bertinoro 2023
DESCRIPTION:Le giornate dell’Economia Civile.\nLe Giornate di Bertinoro per l’Economia Civile sono da oltre venti anni il più autorevole luogo di riflessione e conversazione sull’evoluzione del Terzo settore e dell’Economia Civile in Italia. \nL’edizione 2023 in programma il 13 e 14 ottobre 2023  si svolgerà in presenza presso il Centro Universitario di Bertinoro. \nIl programma è disponibile a seguente link. \nMaggiori informazioni sono disponibili al seguente link. \nE’ possibile iscriversi al seguente link.
URL:https://www.improntaetica.org/evento/13-10-14-10-le-giornate-di-bertinoro-2023/
ATTACH;FMTTYPE=image/jpeg:https://www.improntaetica.org/wp-content/uploads/2023/07/hhhhh.jpg
END:VEVENT
BEGIN:VEVENT
DTSTART;TZID=Europe/Rome:20230928T000000
DTEND;TZID=Europe/Rome:20231001T000000
DTSTAMP:20260421T063108
CREATED:20230831T120615Z
LAST-MODIFIED:20230831T120615Z
UID:37400-1695859200-1696118400@www.improntaetica.org
SUMMARY:28/09 - 01/10 | Festival Nazionale dell'Economia Civile 2023
DESCRIPTION:Oltre i limiti: L’impegno che (ci) trasforma.\nLa quinta edizione del Festival Nazionale dell’Economia Civile 2023 “Oltre i limiti. L’impegno che (ci) trasforma“\, è in programma a Firenze dal 28 settembre al 1 ottobre. Come ogni anno\, nella cornice di Palazzo Vecchio\, si alterneranno lectio civilis\, hackathon trasformativi\, confronti dinamici. \nCrisi climatiche\, sfruttamento e aumento delle diseguaglianze\, conflitti sociali. La cronaca nazionale e internazionale ci restituisce una fotografia del nostro sistema sociale ed economico in cui i limiti di una convivenza libera e pacifica sono stati ampiamente superati. Ecco perché\, oggi siamo tutti chiamati ad andare “oltre i limiti” del nostro impegno\, per dare una risposta efficace e duratura che restituisca senso e valore all’azione economica. \nCon “Oltre i limiti: l’impegno che (ci) trasforma”\, il FNEC vuole offrire una cornice double face\, di denuncia\, da una parte\, dei limiti superati e di prospettive nuove\, dall’altra\, per le quali occorrono pensiero\, relazione\, progettualità condivisa capaci di trasformare gli orizzonti. Appunto\, l’impegno che trasforma sia coloro che lo mettono in atto sia le comunità aziendali\, scolastiche\, amministrative\, territoriali nelle quali l’impegno trasformativo si sviluppa. \nE’ possibile iscriversi al seguente link. \nIl programma è disponibile al seguente link. \nMaggiori informazioni sono disponibili al seguente link. \n  \n 
URL:https://www.improntaetica.org/evento/28-09-01-10-festival-nazionale-delleconomia-civile-2023/
ATTACH;FMTTYPE=image/jpeg:https://www.improntaetica.org/wp-content/uploads/2020/06/festival-delleconomia-civile.jpg
END:VEVENT
BEGIN:VEVENT
DTSTART;TZID=Europe/Rome:20230620T170000
DTEND;TZID=Europe/Rome:20230620T170000
DTSTAMP:20260421T063109
CREATED:20230619T071930Z
LAST-MODIFIED:20230619T071930Z
UID:37110-1687280400-1687280400@www.improntaetica.org
SUMMARY:20/06 | Economia sociale e Agenda 2030
DESCRIPTION:Per un nuovo paradigma dello sviluppo sostenibile.\nSi terrà il 20 giugno dalle ore 17:00 in presenza alla Torre Legacoop a Bologna e via Zoom\, l’evento Legacoop Bologna “Economia sociale e Agenda 2030. Per un nuovo paradigma dello sviluppo sostenibile.” \nL’evento vuole aprire una riflessione su come l’economia sociale contribuisce\, grazie alle sue caratteristiche\, a realizzare uno sviluppo più sostenibile e inclusivo e a promuovere l’attiva partecipazione sociale dei cittadini. Gli obiettivi dell’Agenda ONU 2030 e il Global Reporting Initiative colgono solo in parte gli effetti del mutualismo\, le esternalità positive che genera sia tra i soci sia verso le comunità. \nPartendo dall’Action Plan europeo sull’economia sociale la sfida è andare a definire modalità di misurazione dell’impatto economico\, sociale e ambientale degli attori dell’economia sociale che vadano a dialogare e integrarsi all’interno del framework dell’Agenda ONU 2030 e degli strumenti di rendicontazione dei fattori ESG. \nI programma completo e maggiori informazioni sono disponibili al seguente link. \nE’ possibile iscriversi al seguente link.
URL:https://www.improntaetica.org/evento/20-06-economia-sociale-e-agenda-2030/
ATTACH;FMTTYPE=image/png:https://www.improntaetica.org/wp-content/uploads/2021/04/legacoop-e1618575610113.png
END:VEVENT
BEGIN:VEVENT
DTSTART;TZID=Europe/Rome:20230516T100000
DTEND;TZID=Europe/Rome:20230516T160000
DTSTAMP:20260421T063109
CREATED:20230330T103127Z
LAST-MODIFIED:20230419T120118Z
UID:36744-1684231200-1684252800@www.improntaetica.org
SUMMARY:16/05 | 5^ Conferenza Nazionale sull’Economia Circolare
DESCRIPTION:Presentazione del Rapporto 2023.\nSi terrà a Roma il 16 maggio presso Nazionale Spazio Eventi\, la Quinta Edizione della Conferenza Nazionale sull’Economia Circolare organizzata da Circular Economy Network. \nNel corso dell’iniziativa verrà presentato il nuovo Rapporto elaborato in collaborazione con ENEA. Il dossier raccoglie i dati più aggiornati sull’andamento dei principali indicatori di circolarità dell’economia italiana e compara la performance del nostro Paese con quelle delle più grandi economie europee. \nIl Rapporto 2023 è inoltre accompagnato da un focus dedicato a “Le scelte dei consumatori per l’economia circolare“\, attraverso un’indagine realizzata in collaborazione con Legacoop\, per approfondire come i consumatori possono orientare la transizione verso modelli di business circolari. \nL’ iniziativa sarà anche l’occasione per fare il punto su alcuni temi di grande attualità: le materie prime critiche; lo stato di avanzamento dei progetti previsti dal PNRR; l’attuazione della Strategia nazionale. Un confronto aperto a rappresentanti istituzionali\, europei e nazionali\, mondo dell’impresa\, della ricerca e della tutela ambientale. Quest’anno il format è leggermente diverso. \nLa Conferenza nazionale sull’economia circolare ha il patrocinio dal Ministero dell’Ambiente e della Sicurezza Energetica. \nMaggiori informazioni sono disponibili al seguente link. \nSCARICA IL PROGRAMMA
URL:https://www.improntaetica.org/evento/16-05-5-conferenza-nazionale-sulleconomia-circolare/
ATTACH;FMTTYPE=image/png:https://www.improntaetica.org/wp-content/uploads/2022/02/CIRCULAR-ECO.png
END:VEVENT
BEGIN:VEVENT
DTSTART;TZID=Europe/Rome:20230516T000000
DTEND;TZID=Europe/Rome:20230518T000000
DTSTAMP:20260421T063109
CREATED:20230406T080727Z
LAST-MODIFIED:20230406T080727Z
UID:36763-1684195200-1684368000@www.improntaetica.org
SUMMARY:16/05 - 18/05 | Salone del Risparmio 2023
DESCRIPTION:Il risparmio oltre la crisi.\nSi terrà dal 16 al 18 maggio il Salone del Risparmio 2023 dal titolo “Il risparmio oltre la crisi. Accompagnare l’investitore verso scelte consapevoli” a Milano presso l’Ala Sud di Allianz MiCo o e in streaming sulla piattaforma FR|Vision.  \nAl più importante evento europeo dedicato al risparmio gestito\, saranno presenti più di 120 conferenze\, oltre 300 relatori internazionali e 150 società del settore. \nL’evento punta a mettere in evidenza il ruolo sociale svolto in questi tempi complessi dal risparmio gestito per il rilancio e la trasformazione dell’economia e il sostegno di famiglie e investitori. Una sfida che pone ulteriormente l’accento sulla rilevanza dell’educazione finanziaria come pilastro per la stabilità finanziaria e la crescita economico sociale del Paese. \nE’ possibile iscriversi al seguente link. \nMaggiori informazioni sono disponibili al seguente link.
URL:https://www.improntaetica.org/evento/16-05-18-05-salone-del-risparmio-2023/
ATTACH;FMTTYPE=image/jpeg:https://www.improntaetica.org/wp-content/uploads/2023/04/sss.jpg
END:VEVENT
BEGIN:VEVENT
DTSTART;TZID=Europe/Rome:20230413T090000
DTEND;TZID=Europe/Rome:20230413T171500
DTSTAMP:20260421T063109
CREATED:20230301T164108Z
LAST-MODIFIED:20230301T164108Z
UID:36528-1681376400-1681406100@www.improntaetica.org
SUMMARY:13/04 | Sustainable Economy Forum
DESCRIPTION:In arrivo la quinta edizione.\nLe conseguenze delle recenti crisi internazionali saranno al centro della quinta edizione del Sustainable Economy Forum\, che si terrà giovedì 13 Aprile 2023 dalle ore 09:00 alle ore 17:15. \nLa pandemia\, il conflitto nel cuore dell’Europa\, il rialzo dei costi energetici e delle materie prime saranno i temi affrontati dal punto di vista degli effetti sulle strategie economiche\, finanziarie e aziendali improntate alla sostenibilità. \nMaggiori informazioni sono disponibili al seguente link. \nE’ possibile iscriversi al seguente link. \nE’ possibile consultare il programma al seguente link. \n 
URL:https://www.improntaetica.org/evento/13-04-sustainable-economy-forum/
ATTACH;FMTTYPE=image/jpeg:https://www.improntaetica.org/wp-content/uploads/2023/03/sed.jpg
END:VEVENT
BEGIN:VEVENT
DTSTART;TZID=Europe/Rome:20230328T181500
DTEND;TZID=Europe/Rome:20230328T181500
DTSTAMP:20260421T063109
CREATED:20230324T105352Z
LAST-MODIFIED:20230324T105352Z
UID:36700-1680027300-1680027300@www.improntaetica.org
SUMMARY:28/03 | L’economia sociale come nuovo paradigma di sviluppo?
DESCRIPTION:Una riflessione sul valore dell’economia sociale.\nSi terrà il 28 marzo dalle ore 18:15 presso la Sala Tassinari di Palazzo d’Accursio in Piazza Maggiore l’evento promosso da Assemblea Legislativa della Regione Emilia-Romagna\, UPI – Emilia Romagna e Pandora Rivista. In collaborazione con Tempora APS. \nL’evento sarà una riflessione sul valore dell’economia sociale nella promozione di un diverso tipo di relazioni tra gli attori sociali e nella costruzione di un modello economico in grado di rispondere maggiormente ai bisogni sociali e alle questioni poste dalle transizioni in corso. \nInterverranno: Simone Fabbri\, Daniela Freddi\, Marco Marcatili\, Andrea Massari\, Matteo Lepore\, Emma Petitti\, Daniele Ravaglia\, Stefano Zamagni. \nEvento ad ingresso libero e gratuito fino ad esaurimento dei posti disponibili. \nMaggiori informazioni sono disponibili al seguente link. \nSCARICA IL VOLANTINO
URL:https://www.improntaetica.org/evento/28-03-leconomia-sociale-come-nuovo-paradigma-di-sviluppo/
ATTACH;FMTTYPE=image/jpeg:https://www.improntaetica.org/wp-content/uploads/2023/03/ijjj.jpg
END:VEVENT
BEGIN:VEVENT
DTSTART;VALUE=DATE:20170601
DTEND;VALUE=DATE:20170605
DTSTAMP:20260421T063109
CREATED:20170509T173101Z
LAST-MODIFIED:20170509T173101Z
UID:12589-1496275200-1496620799@www.improntaetica.org
SUMMARY:Festival dell'Economia di Trento “La salute disuguale”
DESCRIPTION:Festival dell’Economia 2017: la XII edizione.\nTorna dall’1 al 4 giugno il Festival dell’Economia di Trento\, giunto alla sua dodicesima edizione. Premi Nobel\, ministri\, ed esperti provenienti da tutto il mondo discuteranno e si confronteranno sul tema “La salute disuguale”.\nIl Festival oltre ad essere organizzato nelle sedi che ospitano conferenze e dibattiti\, coinvolge le piazze e le vie del centro storico di Trento\, con numerose e variegate attività\, che quest’anno avranno come focus i temi della salute e del benessere.\nMaggiori informazioni sono disponibili al seguente link.\nProgramma
URL:https://www.improntaetica.org/evento/festival-delleconomia-trento-la-salute-disuguale/
LOCATION:Piazza Dante\, Piazza Dante 15 - 38122 Trento\, Trento
ATTACH;FMTTYPE=:
END:VEVENT
BEGIN:VEVENT
DTSTART;TZID=Europe/Rome:20160602T090000
DTEND;TZID=Europe/Rome:20160605T170000
DTSTAMP:20260421T063109
CREATED:20160219T163715Z
LAST-MODIFIED:20160219T163715Z
UID:10103-1464858000-1465146000@www.improntaetica.org
SUMMARY:Festival dell'Economia "I luoghi della crescita"
DESCRIPTION:La XI edizione affronterà l’economia dello spazio e della geografia\, ospitando economisti\, demografi e sociologi esperti di processi di agglomerazione.\nLa geografia economica del mondo segnala una crescente concentrazione della crescita economica in relativamente poche grandi città in grado di attrarre capitale umano e di stimolare l’innovazione.\nLo studio della crescita economica e demografica di queste realtà è fondamentale per capire gli aspetti che sono necessari per la crescita economica\, ma anche il loro mix ottimale\, per stimolare la crescita. Conta la scala\, la dimensione delle città\, perché solo grandi mercati del lavoro possono offrire opportunità ai talenti più svariati\, promuovendo l’incontro fra la domanda e l’offerta di competenze e permettendo alle cosiddette power couples\, coppie di talenti\, di poter realizzare i sogni di entrambi i membri della coppia.\nPerché queste economie di agglomerazione si realizzino è importante che il contesto favorisca la circolazione delle idee e le reti di contatti fra individui. Ma contano tantissimo anche i fattori non strettamente economici che rendono un sito più attrattivo di un altro\, che richiamano intelligenze da fuori.\nLe reti infrastrutturali giocano un ruolo molto importante nel promuovere i processi di urbanizzazione e nel permettere la creazione di poli di talenti. Le politiche abitative nei confronti degli immigrati sono anche molto importanti nel condizionare il ritmo e la qualità dello sviluppo delle città.\nMaggiori informazioni sono disponibili sul sito del Festival dell’Economia di Trento.
URL:https://www.improntaetica.org/evento/festival-delleconomia-i-luoghi-della-crescita/
LOCATION:eutalent2
END:VEVENT
END:VCALENDAR