BEGIN:VCALENDAR
VERSION:2.0
PRODID:-//Impronta Etica - ECPv6.15.20//NONSGML v1.0//EN
CALSCALE:GREGORIAN
METHOD:PUBLISH
X-WR-CALNAME:Impronta Etica
X-ORIGINAL-URL:https://www.improntaetica.org
X-WR-CALDESC:Eventi per Impronta Etica
REFRESH-INTERVAL;VALUE=DURATION:PT1H
X-Robots-Tag:noindex
X-PUBLISHED-TTL:PT1H
BEGIN:VTIMEZONE
TZID:Europe/Rome
BEGIN:DAYLIGHT
TZOFFSETFROM:+0100
TZOFFSETTO:+0200
TZNAME:CEST
DTSTART:20220327T010000
END:DAYLIGHT
BEGIN:STANDARD
TZOFFSETFROM:+0200
TZOFFSETTO:+0100
TZNAME:CET
DTSTART:20221030T010000
END:STANDARD
BEGIN:DAYLIGHT
TZOFFSETFROM:+0100
TZOFFSETTO:+0200
TZNAME:CEST
DTSTART:20230326T010000
END:DAYLIGHT
BEGIN:STANDARD
TZOFFSETFROM:+0200
TZOFFSETTO:+0100
TZNAME:CET
DTSTART:20231029T010000
END:STANDARD
BEGIN:DAYLIGHT
TZOFFSETFROM:+0100
TZOFFSETTO:+0200
TZNAME:CEST
DTSTART:20240331T010000
END:DAYLIGHT
BEGIN:STANDARD
TZOFFSETFROM:+0200
TZOFFSETTO:+0100
TZNAME:CET
DTSTART:20241027T010000
END:STANDARD
BEGIN:DAYLIGHT
TZOFFSETFROM:+0100
TZOFFSETTO:+0200
TZNAME:CEST
DTSTART:20250330T010000
END:DAYLIGHT
BEGIN:STANDARD
TZOFFSETFROM:+0200
TZOFFSETTO:+0100
TZNAME:CET
DTSTART:20251026T010000
END:STANDARD
END:VTIMEZONE
BEGIN:VEVENT
DTSTART;TZID=Europe/Rome:20241118T080000
DTEND;TZID=Europe/Rome:20241118T130000
DTSTAMP:20260420T230644
CREATED:20241114T083404Z
LAST-MODIFIED:20241114T134039Z
UID:40190-1731916800-1731934800@www.improntaetica.org
SUMMARY:18/11 | Un Albero per il Futuro
DESCRIPTION:Un evento per sensibilizzare e valorizzare il ruolo della natura nel nostro contesto.\nL’evento\, organizzato da Natù\, si terrà il 18 novembre dalle 8.00 alle 13.00 a Roma presso Cinecittà. Un’occasione in cui unire imprese\, scuole e pubblica amministrazione per dare sempre maggior valore all’importanza della tutela della natura e del nostro pianeta. \nDurante la mattinata verranno coinvolte figure istituzionali\, del mondo dell’associazionismo e della ricerca che parleranno di fronte a i bambini delle scuole primarie di Roma coinvolti in un progetto di educazione ambientale che porterà alla piantumazione di  20.000 alberi poi essere affidati alle cure della AIPD (Asociazione Italiana Persone Down). \nPer maggiori informazioni contattare luca.cicci@progettonatu.it. \nSCARICA IL PROGRAMMA
URL:https://www.improntaetica.org/evento/18-11-un-albero-per-il-futuro/
CATEGORIES:Eventi 2024
ATTACH;FMTTYPE=image/png:https://www.improntaetica.org/wp-content/uploads/2024/10/images.png
END:VEVENT
BEGIN:VEVENT
DTSTART;TZID=Europe/Rome:20231120T000000
DTEND;TZID=Europe/Rome:20231126T000000
DTSTAMP:20260420T230644
CREATED:20231124T080901Z
LAST-MODIFIED:20231124T080901Z
UID:38045-1700438400-1700956800@www.improntaetica.org
SUMMARY:20/11-26/11 | Settimana di educazione alla sostenibilità 2023
DESCRIPTION:Cambiamento climatico e i quattro cavalieri.\nAumento delle temperature; accelerazione dello scioglimento dei ghiacciai “eterni”; estensione della siccità; eventi meteorologici estremi. Quattro\, come i cavalieri dell’apocalisse\, i principali segnali di come il clima del nostro pianeta stia cambiando in modo significativo. \nMa anche lo spunto da cui prende vita lo slogan che ispira la Settimana di educazione alla sostenibilità 2023 che si terrà dal 20 al 26 novembre\, la manifestazione UNESCO che ogni anno mira a promuovere e diffondere l’Agenda 2030 e la conoscenza dei suoi 17 Obiettivi di sviluppo sostenibile (SDGs). \nCome ogni anno\, sono invitati a partecipare alla manifestazione tutti gli enti e le organizzazioni impegnati a diffondere la cultura dello sviluppo sostenibile (istituzioni\, enti locali\, scuole\, università\, terzo settore\, parchi\, imprese\, etc). \nE’ possibile aderire seguendo le modalità di partecipazione elencate al seguente link. \nMaggiori informazioni sono disponibili al seguente link.
URL:https://www.improntaetica.org/evento/20-11-26-11-settimana-di-educazione-alla-sostenibilita-2023/
ATTACH;FMTTYPE=image/jpeg:https://www.improntaetica.org/wp-content/uploads/2023/11/unesco.jpg
END:VEVENT
BEGIN:VEVENT
DTSTART;TZID=Europe/Rome:20230622T110000
DTEND;TZID=Europe/Rome:20230622T200000
DTSTAMP:20260420T230644
CREATED:20230621T121547Z
LAST-MODIFIED:20230621T121743Z
UID:37128-1687431600-1687464000@www.improntaetica.org
SUMMARY:22/06 | Creators Day
DESCRIPTION:Una giornata per l’Industria Creativa e Culturale a Bologna.\nSi terrà giovedì 22 giugno 2023 dalle ore 11.00 alle ore 20.00 presso spazio Temporanea DUMBO\, Creators Day – Una giornata per l’Industria Creativa e Culturale a Bologna. \nDurante l’evento – organizzato dall’associazione StartYou Up e La merenda Podcast\, con il supporto di DUMBO\, Fondazione Innovazione Urbana\, Emilbanca\, MUG\, ReteDoc\, DocCreativity e Kiracademy – sarà possibile esporre nell’area EXPO insieme ad altri incubatori di impresa\, coworking\, cooperative\, agenzie di comunicazione e marketing\, imprese\, pubblica amministrazione\, associazioni culturali e creative e nuovi progetti emergenti per presentare le proprie attività ai partecipanti. \nL’evento sarà una giornata nata per celebrare l’Industria Creativa e Culturale a Bologna. Un’opportunità per mettere in relazione studenti e giovani professionisti con le realtà presenti sul territorio per lavorare nel mondo della creatività o per lanciare il proprio progetto imprenditoriale nel mondo dell’ICC. \nMaggiori informazioni sono disponibili al seguente link. \n 
URL:https://www.improntaetica.org/evento/22-06-creators-day/
ATTACH;FMTTYPE=image/jpeg:https://www.improntaetica.org/wp-content/uploads/2023/06/creator.jpg
END:VEVENT
END:VCALENDAR