BEGIN:VCALENDAR
VERSION:2.0
PRODID:-//Impronta Etica - ECPv6.15.20//NONSGML v1.0//EN
CALSCALE:GREGORIAN
METHOD:PUBLISH
X-WR-CALNAME:Impronta Etica
X-ORIGINAL-URL:https://www.improntaetica.org
X-WR-CALDESC:Eventi per Impronta Etica
REFRESH-INTERVAL;VALUE=DURATION:PT1H
X-Robots-Tag:noindex
X-PUBLISHED-TTL:PT1H
BEGIN:VTIMEZONE
TZID:Europe/Rome
BEGIN:DAYLIGHT
TZOFFSETFROM:+0100
TZOFFSETTO:+0200
TZNAME:CEST
DTSTART:20200329T010000
END:DAYLIGHT
BEGIN:STANDARD
TZOFFSETFROM:+0200
TZOFFSETTO:+0100
TZNAME:CET
DTSTART:20201025T010000
END:STANDARD
BEGIN:DAYLIGHT
TZOFFSETFROM:+0100
TZOFFSETTO:+0200
TZNAME:CEST
DTSTART:20210328T010000
END:DAYLIGHT
BEGIN:STANDARD
TZOFFSETFROM:+0200
TZOFFSETTO:+0100
TZNAME:CET
DTSTART:20211031T010000
END:STANDARD
BEGIN:DAYLIGHT
TZOFFSETFROM:+0100
TZOFFSETTO:+0200
TZNAME:CEST
DTSTART:20220327T010000
END:DAYLIGHT
BEGIN:STANDARD
TZOFFSETFROM:+0200
TZOFFSETTO:+0100
TZNAME:CET
DTSTART:20221030T010000
END:STANDARD
BEGIN:DAYLIGHT
TZOFFSETFROM:+0100
TZOFFSETTO:+0200
TZNAME:CEST
DTSTART:20230326T010000
END:DAYLIGHT
BEGIN:STANDARD
TZOFFSETFROM:+0200
TZOFFSETTO:+0100
TZNAME:CET
DTSTART:20231029T010000
END:STANDARD
BEGIN:DAYLIGHT
TZOFFSETFROM:+0100
TZOFFSETTO:+0200
TZNAME:CEST
DTSTART:20240331T010000
END:DAYLIGHT
BEGIN:STANDARD
TZOFFSETFROM:+0200
TZOFFSETTO:+0100
TZNAME:CET
DTSTART:20241027T010000
END:STANDARD
BEGIN:DAYLIGHT
TZOFFSETFROM:+0100
TZOFFSETTO:+0200
TZNAME:CEST
DTSTART:20250330T010000
END:DAYLIGHT
BEGIN:STANDARD
TZOFFSETFROM:+0200
TZOFFSETTO:+0100
TZNAME:CET
DTSTART:20251026T010000
END:STANDARD
END:VTIMEZONE
BEGIN:VEVENT
DTSTART;TZID=Europe/Rome:20240703T160000
DTEND;TZID=Europe/Rome:20240703T180000
DTSTAMP:20260421T023721
CREATED:20240621T071520Z
LAST-MODIFIED:20240621T145939Z
UID:39326-1720022400-1720029600@www.improntaetica.org
SUMMARY:03/07 | Verso un futuro sostenibile: ambiente ed energia in transizione
DESCRIPTION:Incontri gratuiti per piccole e medie imprese in collaborazione con Impronta Etica.\n\n\nPer supportare le piccole e medie imprese del territorio a cogliere le opportunità legate ad un approccio integrato alla sostenibilità\, Emil Banca insieme ad Impronta Etica offre un ciclo di seminari gratuiti su tematiche utili ad affrontare la transizione ecologica. \nL’ultimo incontro si terrà il 3 luglio dalle 16.oo alle 18.00 presso MUG in via Emilia Levante 9/F Bologna dal titolo “Verso un futuro sostenibile: ambiente ed energia in transizione”. \nTra gli speaker\, Nicola Armaroli\, Dirigente di Ricerca CNR dal 2007\, membro dell’ Accademia Nazionale delle Scienze e Fellow of the Royal Society of Chemistry a  Cambridge;  Illumia e BIT SPA. \n\nE’ possibile ottenere maggiori informazioni ed iscriversi al seguente link.
URL:https://www.improntaetica.org/evento/03-07-verso-un-futuro-sostenibile-ambiente-ed-energia-in-transizione/
ATTACH;FMTTYPE=image/png:https://www.improntaetica.org/wp-content/uploads/2024/01/EMIL-BANCA-e1752158249553.png
END:VEVENT
BEGIN:VEVENT
DTSTART;TZID=Europe/Rome:20240612T160000
DTEND;TZID=Europe/Rome:20240612T180000
DTSTAMP:20260421T023721
CREATED:20240527T082539Z
LAST-MODIFIED:20240527T082539Z
UID:39143-1718208000-1718215200@www.improntaetica.org
SUMMARY:12/06 | Sostenibilità: una sfida vincente
DESCRIPTION:Le sfide della sostenibilità e come superarle.\nSi terrà il 12 giugno dalle 16.00 alle 18.00 presso la sede di Emil Banca in via Trattati Comunitari Europei 19 a Bologna\, il secondo incontro del progetto di formazione a cui l’Associazione partecipa in qualità di esperto in partnership con Emil Banca volto a coinvolgere il tessuto imprenditoriale emiliano nel percorso verso la sostenibilità. \nQuesto secondo incontro si focalizzerà sulle sfide della sostenibilità e su come superarle\, per raggiungere un’integrazione strategica della sostenibilità nel business che consenta di coglierne tutte le opportunità. \nE’ possibile visionare il programma completo dell’incontro e iscriversi al seguente link.
URL:https://www.improntaetica.org/evento/12-06-sostenibilita-una-sfida-vincente/
ATTACH;FMTTYPE=image/png:https://www.improntaetica.org/wp-content/uploads/2024/01/EMIL-BANCA-e1752158249553.png
END:VEVENT
BEGIN:VEVENT
DTSTART;TZID=Europe/Rome:20230225T110000
DTEND;TZID=Europe/Rome:20230225T130000
DTSTAMP:20260421T023721
CREATED:20230220T155106Z
LAST-MODIFIED:20230220T155106Z
UID:36423-1677322800-1677330000@www.improntaetica.org
SUMMARY:25/02 | "Big data e territorio. Opportunità per le PMI"
DESCRIPTION:Le nuove opportunità del  Tecnopolo sul territorio.\nSi terrà il 25 febbraio dalle ore 11:00 alle ore 13:00 il convegno gratuito “Big data e territorio. Opportunità per le PMI” organizzato da Emil Banca  nell’ auditorium di MUG – magazzini generativi (via Emilia Levante 9/F). \nL’apertura a Bologna del Tecnopolo\, sede del nuovo hub europeo per il supercalcolo e del Centro Nazionale Big Data\, avrà certamente un grande impatto sul sistema economico locale\, portando diversi vantaggi alle imprese che saranno pronte a coglierne le opportunità. \nEmil Banca in quanto socia della Fondazione IFAB\, ponte tra Tecnopolo e aziende\, vuole offrire ai propri clienti l’occasione di conoscere e approfondire le opportunità aperte dalla presenza\, sul territorio\, di questo ecosistema di eccellenza nel mondo della ricerca scientifica e della straordinaria concentrazione di infrastrutture tecnologiche a elevata potenza di calcolo. \nIl programma e maggiori informazioni sono disponibili al seguente link. \nE’ possibile iscriversi al seguente link.
URL:https://www.improntaetica.org/evento/25-02-big-data-e-territorio-opportunita-per-le-pmi/
ATTACH;FMTTYPE=image/jpeg:https://www.improntaetica.org/wp-content/uploads/2013/06/LOGO_BCC_EMILBANCA_COLORE_RGB.jpg
END:VEVENT
BEGIN:VEVENT
DTSTART;TZID=Europe/Rome:20210610T110000
DTEND;TZID=Europe/Rome:20210610T130000
DTSTAMP:20260421T023721
CREATED:20210609T090920Z
LAST-MODIFIED:20210609T090920Z
UID:32999-1623322800-1623330000@www.improntaetica.org
SUMMARY:10/06 | Emil Banca: Abbiamo un cuore in Comune
DESCRIPTION:I vincitori della prima edizione dell’iniziativa di Emil Banca.\nIl 1° febbraio è partito il nuovo progetto promosso da Emil Banca\, “Abbiamo un cuore in Comune” rivolto a tutti i Comuni delle Province emiliane in cui la Banca è presente e che punta a valorizzare e sostenere l’economia locale e il turismo\, con particolare attenzione ai temi della sostenibilità. \nGiovedì 10 giugno alle ore 11.00 sarà il momento in cui verranno proclamati i Comuni vincitori e in cui verranno assegnati i diversi riconoscimenti\, non solo per il video più efficace tra quelli realizzati dall’Accademia di Belle Arti\, ma anche per i Comuni più virtuosi in ambito sostenibilità\, il contest fotografico interno e tanto altro. \nMaggiori informazioni sono disponibili al seguente link.
URL:https://www.improntaetica.org/evento/10-06-emil-banca-abbiamo-un-cuore-in-comune/
ATTACH;FMTTYPE=image/png:https://www.improntaetica.org/wp-content/uploads/2019/06/emilbanca-e1510840192108.png
END:VEVENT
BEGIN:VEVENT
DTSTART;TZID=Europe/Rome:20210531T180000
DTEND;TZID=Europe/Rome:20210531T190000
DTSTAMP:20260421T023721
CREATED:20210525T161942Z
LAST-MODIFIED:20210525T162215Z
UID:32953-1622484000-1622487600@www.improntaetica.org
SUMMARY:31/05 | Inaugurazione MUG
DESCRIPTION:Un nuovo spazio dedicato a innovazione e creatività\, per fare networking e generare progetti ad alto impatto.\nNel corso del 2019 Emil Banca\, impresa socia di Impronta Etica\, ha sviluppato un progetto per favorire lo sviluppo territoriale e generare impatto sociale attraverso la costruzione di un habitat ideale per attrarre innovatori sociali e accelerare lo sviluppo delle loro idee attraverso un programma di open innovation che coinvolga imprese e organizzazioni non for profit. \nLa banca ha trasformato un’ex magazzino in disuso di nostra proprietà appena fuori dal centro di Bologna: i quasi 2.000 metri quadrati dell’immobile sono stati oggetto di una riprogettazione degli spazi e dei servizi basata sull’analisi dell’esperienza di vari gruppi di target e ispirata alle migliori best practice nazionali e internazionali. \nIl 31 maggio alle ore 18:00 ci sarà l’inaugurazione di MUG\, uno spazio dedicato a innovazione e creatività per fare networking e generare progetti ad alto impatto. Segui la diretta alla pagina di Youtube di Emil Banca. \nMaggiori informazioni sono disponibili al seguente link. \n 
URL:https://www.improntaetica.org/evento/31-05-inaugurazione-mug/
ATTACH;FMTTYPE=image/png:https://www.improntaetica.org/wp-content/uploads/2019/06/emilbanca-e1510840192108.png
END:VEVENT
END:VCALENDAR