BEGIN:VCALENDAR
VERSION:2.0
PRODID:-//Impronta Etica - ECPv6.15.20//NONSGML v1.0//EN
CALSCALE:GREGORIAN
METHOD:PUBLISH
X-WR-CALNAME:Impronta Etica
X-ORIGINAL-URL:https://www.improntaetica.org
X-WR-CALDESC:Eventi per Impronta Etica
REFRESH-INTERVAL;VALUE=DURATION:PT1H
X-Robots-Tag:noindex
X-PUBLISHED-TTL:PT1H
BEGIN:VTIMEZONE
TZID:Europe/Rome
BEGIN:DAYLIGHT
TZOFFSETFROM:+0100
TZOFFSETTO:+0200
TZNAME:CEST
DTSTART:20210328T010000
END:DAYLIGHT
BEGIN:STANDARD
TZOFFSETFROM:+0200
TZOFFSETTO:+0100
TZNAME:CET
DTSTART:20211031T010000
END:STANDARD
BEGIN:DAYLIGHT
TZOFFSETFROM:+0100
TZOFFSETTO:+0200
TZNAME:CEST
DTSTART:20220327T010000
END:DAYLIGHT
BEGIN:STANDARD
TZOFFSETFROM:+0200
TZOFFSETTO:+0100
TZNAME:CET
DTSTART:20221030T010000
END:STANDARD
BEGIN:DAYLIGHT
TZOFFSETFROM:+0100
TZOFFSETTO:+0200
TZNAME:CEST
DTSTART:20230326T010000
END:DAYLIGHT
BEGIN:STANDARD
TZOFFSETFROM:+0200
TZOFFSETTO:+0100
TZNAME:CET
DTSTART:20231029T010000
END:STANDARD
BEGIN:DAYLIGHT
TZOFFSETFROM:+0100
TZOFFSETTO:+0200
TZNAME:CEST
DTSTART:20240331T010000
END:DAYLIGHT
BEGIN:STANDARD
TZOFFSETFROM:+0200
TZOFFSETTO:+0100
TZNAME:CET
DTSTART:20241027T010000
END:STANDARD
END:VTIMEZONE
BEGIN:VEVENT
DTSTART;TZID=Europe/Rome:20230418T120000
DTEND;TZID=Europe/Rome:20230418T130000
DTSTAMP:20260421T072225
CREATED:20230406T075151Z
LAST-MODIFIED:20230406T075151Z
UID:36760-1681819200-1681822800@www.improntaetica.org
SUMMARY:18/04 | Il valore aggiunto delle Second-Party Opinion nei Sustainability-Linked Bond
DESCRIPTION:Il funzionamento e il ruolo delle Second-Party Opinion.\nIl webinar\, organizzato dal Forum per la Finanza Sostenibile in collaborazione con S&P Global Ratings\, si terrà il 18 aprile dalle ore 12.00 alle ore 13.00\, si propone di spiegare il funzionamento e il ruolo delle Second-Party Opinion\, nel caso specifico di alcune tipologie di emissioni. \nCome per i Green Bond\, anche per l’emissione di Sustainability-Linked Bond la regolamentazione europea raccomanda il ricorso a Second-Party Opinion fornite da organizzazioni indipendenti. \nL’obiettivo è verificare l’allineamento dell’obbligazione ai 5 principi guida dell’ICMA. I revisori esterni valutano pertinenza\, robustezza e affidabilità dei Key Performance Indicator – KPI\, il livello di ambizione dei Sustainability Performance Target – SPT e\, più in generale\, la strategia delineata per raggiungere gli obiettivi di sostenibilità associati all’obbligazione. \nE’ possibile registrarsi al seguente link. \nMaggiori informazioni sono disponibili al seguente link.
URL:https://www.improntaetica.org/evento/18-04-il-valore-aggiunto-delle-second-party-opinion-nei-sustainability-linked-bond/
ATTACH;FMTTYPE=image/png:https://www.improntaetica.org/wp-content/uploads/2022/06/forum-finanza-sost.png
END:VEVENT
BEGIN:VEVENT
DTSTART;TZID=Europe/Rome:20220929T170000
DTEND;TZID=Europe/Rome:20220929T181500
DTSTAMP:20260421T072225
CREATED:20220923T144154Z
LAST-MODIFIED:20220923T144154Z
UID:35521-1664470800-1664475300@www.improntaetica.org
SUMMARY:29/09 | L’importanza della sostenibilità per la crescita delle PMI
DESCRIPTION:Strategie e strumenti di finanza.\n\nCon questo webinar gratuito\, che si terrà il 29 Settembre alle ore 17.00 organizzato da iFoa\, verrà approfondita l’importanza della sostenibilità per la crescita delle PMI\, ponendo l’accento su aspetti chiave quali la valutazione della sostenibilità della propria filiera di fornitori e la relazione tra finanza\, sostenibilità e del risking dell’impresa. Tra gli speaker anche Matteo Passini\, Vice Direttore Generale Emil Banca la quale è impresa socia di Impronta Etica.\n\nDa un indagine Ocse del 2018 le PMI contribuiscono a una quota dal 60% al 72% di tutte le emissioni climalteranti di fonte industriali in Europa\, a dimostrazione di una situazione non più accettabile e la conseguente necessità di interventi e cambiamenti strutturali. \nNe consegue che molti imprenditori o manager di PMI da molti mesi si chiedono: quanto è importante avere una strategia a riguardo ma soprattutto quale? Un strategia efficace non deve riguardare solo l’ambiente ma anche altri stakeholders rilevanti (territorio\, clienti\, dipendenti\, sindacati\, istituzioni\, banche ecc): come si può\, settore per settore\, avere politica di stakelholders engagement? \nMaggiori informazioni sono disponibili al seguente link.
URL:https://www.improntaetica.org/evento/29-09-limportanza-della-sostenibilita-per-la-crescita-delle-pmi/
ATTACH;FMTTYPE=image/jpeg:https://www.improntaetica.org/wp-content/uploads/2022/09/ifoa.jpg
END:VEVENT
END:VCALENDAR