BEGIN:VCALENDAR
VERSION:2.0
PRODID:-//Impronta Etica - ECPv6.15.20//NONSGML v1.0//EN
CALSCALE:GREGORIAN
METHOD:PUBLISH
X-WR-CALNAME:Impronta Etica
X-ORIGINAL-URL:https://www.improntaetica.org
X-WR-CALDESC:Eventi per Impronta Etica
REFRESH-INTERVAL;VALUE=DURATION:PT1H
X-Robots-Tag:noindex
X-PUBLISHED-TTL:PT1H
BEGIN:VTIMEZONE
TZID:Europe/Rome
BEGIN:DAYLIGHT
TZOFFSETFROM:+0100
TZOFFSETTO:+0200
TZNAME:CEST
DTSTART:20220327T010000
END:DAYLIGHT
BEGIN:STANDARD
TZOFFSETFROM:+0200
TZOFFSETTO:+0100
TZNAME:CET
DTSTART:20221030T010000
END:STANDARD
BEGIN:DAYLIGHT
TZOFFSETFROM:+0100
TZOFFSETTO:+0200
TZNAME:CEST
DTSTART:20230326T010000
END:DAYLIGHT
BEGIN:STANDARD
TZOFFSETFROM:+0200
TZOFFSETTO:+0100
TZNAME:CET
DTSTART:20231029T010000
END:STANDARD
BEGIN:DAYLIGHT
TZOFFSETFROM:+0100
TZOFFSETTO:+0200
TZNAME:CEST
DTSTART:20240331T010000
END:DAYLIGHT
BEGIN:STANDARD
TZOFFSETFROM:+0200
TZOFFSETTO:+0100
TZNAME:CET
DTSTART:20241027T010000
END:STANDARD
END:VTIMEZONE
BEGIN:VEVENT
DTSTART;TZID=Europe/Rome:20230904T100000
DTEND;TZID=Europe/Rome:20230904T130000
DTSTAMP:20260421T072240
CREATED:20230829T143007Z
LAST-MODIFIED:20230829T143007Z
UID:37365-1693821600-1693832400@www.improntaetica.org
SUMMARY:04/09 | Achieving net zero
DESCRIPTION:La prospettiva per aziende e investitori sulla strada verso un mondo carbon neutral.\nSi terrà il 4 settembre dalle ore 10:00 alle ore 13:00 a Milano\, l’evento di apertura della Euronext Sustainability Week 2023. \nEuronext Sustainability Week è un’intera settimana dedicata alla Finanza Sostenibile\, con occasioni pubbliche di dibattito e momenti di dialogo diretto tra aziende e investitori\, su argomenti come investimenti sostenibili\, reporting ESG e finanza green. Esperti ESG\, emittenti\, investitori\, delegati governativi e rappresentanti delle istituzioni finanziarie contribuiranno a queste discussioni attraverso sessioni locali online e di persona\, workshop e webinar. \nQuesto webinar di apertura mira a fornire un aggiornamento sui futuri scenari per gli investimenti ESG e l’adozione di strategie aziendali verso il net zero. Nel pomeriggio gli stakeholder del mercato parlaranno di strumenti concreti per finanziare e supportare la roadmap ESG. \nMaggiori informazioni ed il programma sono disponibili al seguente ink.
URL:https://www.improntaetica.org/evento/04-09-achieving-net-zero/
ATTACH;FMTTYPE=image/jpeg:https://www.improntaetica.org/wp-content/uploads/2023/08/nexteu.jpg
END:VEVENT
END:VCALENDAR