BEGIN:VCALENDAR
VERSION:2.0
PRODID:-//Impronta Etica - ECPv6.15.20//NONSGML v1.0//EN
CALSCALE:GREGORIAN
METHOD:PUBLISH
X-ORIGINAL-URL:https://www.improntaetica.org
X-WR-CALDESC:Eventi per Impronta Etica
REFRESH-INTERVAL;VALUE=DURATION:PT1H
X-Robots-Tag:noindex
X-PUBLISHED-TTL:PT1H
BEGIN:VTIMEZONE
TZID:Europe/Rome
BEGIN:DAYLIGHT
TZOFFSETFROM:+0100
TZOFFSETTO:+0200
TZNAME:CEST
DTSTART:20150329T010000
END:DAYLIGHT
BEGIN:STANDARD
TZOFFSETFROM:+0200
TZOFFSETTO:+0100
TZNAME:CET
DTSTART:20151025T010000
END:STANDARD
BEGIN:DAYLIGHT
TZOFFSETFROM:+0100
TZOFFSETTO:+0200
TZNAME:CEST
DTSTART:20160327T010000
END:DAYLIGHT
BEGIN:STANDARD
TZOFFSETFROM:+0200
TZOFFSETTO:+0100
TZNAME:CET
DTSTART:20161030T010000
END:STANDARD
BEGIN:DAYLIGHT
TZOFFSETFROM:+0100
TZOFFSETTO:+0200
TZNAME:CEST
DTSTART:20170326T010000
END:DAYLIGHT
BEGIN:STANDARD
TZOFFSETFROM:+0200
TZOFFSETTO:+0100
TZNAME:CET
DTSTART:20171029T010000
END:STANDARD
BEGIN:DAYLIGHT
TZOFFSETFROM:+0100
TZOFFSETTO:+0200
TZNAME:CEST
DTSTART:20180325T010000
END:DAYLIGHT
BEGIN:STANDARD
TZOFFSETFROM:+0200
TZOFFSETTO:+0100
TZNAME:CET
DTSTART:20181028T010000
END:STANDARD
BEGIN:DAYLIGHT
TZOFFSETFROM:+0100
TZOFFSETTO:+0200
TZNAME:CEST
DTSTART:20190331T010000
END:DAYLIGHT
BEGIN:STANDARD
TZOFFSETFROM:+0200
TZOFFSETTO:+0100
TZNAME:CET
DTSTART:20191027T010000
END:STANDARD
BEGIN:DAYLIGHT
TZOFFSETFROM:+0100
TZOFFSETTO:+0200
TZNAME:CEST
DTSTART:20200329T010000
END:DAYLIGHT
BEGIN:STANDARD
TZOFFSETFROM:+0200
TZOFFSETTO:+0100
TZNAME:CET
DTSTART:20201025T010000
END:STANDARD
BEGIN:DAYLIGHT
TZOFFSETFROM:+0100
TZOFFSETTO:+0200
TZNAME:CEST
DTSTART:20210328T010000
END:DAYLIGHT
BEGIN:STANDARD
TZOFFSETFROM:+0200
TZOFFSETTO:+0100
TZNAME:CET
DTSTART:20211031T010000
END:STANDARD
BEGIN:DAYLIGHT
TZOFFSETFROM:+0100
TZOFFSETTO:+0200
TZNAME:CEST
DTSTART:20220327T010000
END:DAYLIGHT
BEGIN:STANDARD
TZOFFSETFROM:+0200
TZOFFSETTO:+0100
TZNAME:CET
DTSTART:20221030T010000
END:STANDARD
BEGIN:DAYLIGHT
TZOFFSETFROM:+0100
TZOFFSETTO:+0200
TZNAME:CEST
DTSTART:20230326T010000
END:DAYLIGHT
BEGIN:STANDARD
TZOFFSETFROM:+0200
TZOFFSETTO:+0100
TZNAME:CET
DTSTART:20231029T010000
END:STANDARD
BEGIN:DAYLIGHT
TZOFFSETFROM:+0100
TZOFFSETTO:+0200
TZNAME:CEST
DTSTART:20240331T010000
END:DAYLIGHT
BEGIN:STANDARD
TZOFFSETFROM:+0200
TZOFFSETTO:+0100
TZNAME:CET
DTSTART:20241027T010000
END:STANDARD
BEGIN:DAYLIGHT
TZOFFSETFROM:+0100
TZOFFSETTO:+0200
TZNAME:CEST
DTSTART:20250330T010000
END:DAYLIGHT
BEGIN:STANDARD
TZOFFSETFROM:+0200
TZOFFSETTO:+0100
TZNAME:CET
DTSTART:20251026T010000
END:STANDARD
BEGIN:DAYLIGHT
TZOFFSETFROM:+0100
TZOFFSETTO:+0200
TZNAME:CEST
DTSTART:20260329T010000
END:DAYLIGHT
BEGIN:STANDARD
TZOFFSETFROM:+0200
TZOFFSETTO:+0100
TZNAME:CET
DTSTART:20261025T010000
END:STANDARD
BEGIN:DAYLIGHT
TZOFFSETFROM:+0100
TZOFFSETTO:+0200
TZNAME:CEST
DTSTART:20270328T010000
END:DAYLIGHT
BEGIN:STANDARD
TZOFFSETFROM:+0200
TZOFFSETTO:+0100
TZNAME:CET
DTSTART:20271031T010000
END:STANDARD
END:VTIMEZONE
BEGIN:VEVENT
DTSTART;VALUE=DATE:20260304
DTEND;VALUE=DATE:20260307
DTSTAMP:20260421T002135
CREATED:20260105T175627Z
LAST-MODIFIED:20260107T154212Z
UID:42184-1772582400-1772841599@www.improntaetica.org
SUMMARY:04/03 - 06/03 | KEY: The Energy Transition Expo
DESCRIPTION:La fiera dedicata alla transizione energetica.\nDal 4 al 6 marzo 2025\, presso la Fiera di Rimini si terrà la nuova edizione di KEY – The Energy Transition Expo\, un evento di livello europeo che rappresenta un punto di riferimento in termini di offerta e scoperta di tecnologie\, servizi e soluzioni integrate nel campo dell’efficienza energetica e delle energie rinnovabili\, con una particolare attenzione dedicata all’Italia e al bacino del Mediterraneo. \nQuest’anno la manifestazione esplorerà sette diverse tematiche legate alla transizione energeticai: fotovoltaico\, eolico\, storage\, efficienza energetica\, mobilità elettrica\, città sostenibili e Innovation District. Inoltre sono state confermate le aree HYPE – Hydrogen Power Expo\, focalizzata sull’idrogeno e il suo ruolo nella transizione energetica\, e Su.port – Sustainable Ports for Energy Transition\, dedicato all’efficientamento energetico e riduzione delle emissioni nell’ambito della sostenibilità dei porti. \nInfine ampio  spazio verrà dedicato anche alla progettazione ingegnerestica e al mondo della finanza\, sempre più centrali in questo processo\, confermando la capacità di KEI di proporsi come un evento in grado di mettere in evidenza l’accelerazione delle politiche energetiche e climatiche e le opportunità emergenti nel mercato. \nMaggiori informazioni sono disponibili al seguente link.
URL:https://www.improntaetica.org/evento/04-03-06-03-key-the-energy-transition-expo/
CATEGORIES:Eventi 2026,Eventi 2026
ATTACH;FMTTYPE=image/png:https://www.improntaetica.org/wp-content/uploads/2025/01/logo-key-orizzontale-primario@2x-e1765734954702.png
END:VEVENT
BEGIN:VEVENT
DTSTART;VALUE=DATE:20250305
DTEND;VALUE=DATE:20250308
DTSTAMP:20260421T002135
CREATED:20250110T144749Z
LAST-MODIFIED:20250113T102645Z
UID:40624-1741132800-1741391999@www.improntaetica.org
SUMMARY:05/03 - 07/03 | KEY - The Energy Transition Expo
DESCRIPTION:Un evento tra innovazione e energia.\nDal 5 al 7 marzo 2025\, presso la Fiera di Rimini si terrà la nuova edizione di KEY – The Energy Transition Expo\, un evento di livello europeo che rappresenta un punto di riferimento in termini di offerta e scoperta di tecnologie\, servizi e soluzioni integrate nel campo dell’efficienza energetica e delle energie rinnovabili\, con una particolare attenzione dedicata all’Italia e al bacino del Mediterraneo. \nQuest’anno la manifestazione offre diverse novità rispetto agli spazi espositivi e le iniziative presenti: \n\nHYPE – Hydrogen Power Expo: un’area espositiva focalizzata sull’idrogeno e il suo ruolo nella transizione energetica.\nSu.port – Sustainable Ports for Energy Transition: un focus dedicato all’efficientamento energetico e riduzione delle emissioni nell’ambito della sostenibilità dei porti.\nInnovation District: uno spazio dedicato alla creazione di sinergie tra aziende e start-up per promuovere l’innovazione nel campo dell’efficienza energetica.\nGreen Jobs & Skill: un’iniziativa che intende offrire opportunità di formazione e orientamento per studenti e giovani professionisti e permettere allo stesso tempo alle aziende di individuare talenti promettenti.\n\nKEY 2025 si propone quindi come un evento in grado di mettere in evidenza l’accelerazione delle politiche energetiche e climatiche e le opportunità emergenti nel mercato. \nMaggiori informazioni sono disponibili al seguente link.
URL:https://www.improntaetica.org/evento/05-03-07-03-key-the-energy-transition-expo/
CATEGORIES:Eventi 2025
ATTACH;FMTTYPE=image/png:https://www.improntaetica.org/wp-content/uploads/2025/01/logo-key-orizzontale-primario@2x-e1765734954702.png
END:VEVENT
BEGIN:VEVENT
DTSTART;TZID=Europe/Rome:20230927T000000
DTEND;TZID=Europe/Rome:20230928T000000
DTSTAMP:20260421T002135
CREATED:20230829T151138Z
LAST-MODIFIED:20230908T143923Z
UID:37382-1695772800-1695859200@www.improntaetica.org
SUMMARY:27/09-28/09 | Italian Energy Summit 2023
DESCRIPTION:Transizione energetica ed innovazione per vincere le grandi sfide globali.\nGiunto al traguardo della 23ª edizione\, l’Italian Energy Summit di 24 Ore Eventi è da oltre vent’anni il punto di riferimento per il mercato energetico italiano e internazionale. Ad un anno dall’invasione russa in Ucraina persistono le incertezze sul fronte economico per tutti i Paesi dell’Eurozona\, compresa l’Italia. La guerra ha involontariamente accelerato la transizione energetica. Il panorama energetico appare trasformato e il nuovo piano industriale mira a rafforzare la resilienza e la competitività nella produzione di tecnologie a zero emissioni nell’UE e a rendere il nostro sistema energetico più sicuro e sostenibile. \nQuali sono le strategie messe in atto dai Paesi dell’UE tese a fronteggiare la situazione? In Italia quali sono le nuove disposizioni del decreto PNRR e quale obiettivo hanno i progetti previsti nella missione rivoluzione verde e transizione ecologica? Che ruolo giocano i principali player energetici per rilanciare l’economia del Paese? \nDurante l’Italian Energy Summit 2023\,  verrà data risposta a queste domande alla presenza delle istituzioni politiche e dei principali operatori del settore dell’energia in Italia e all’estero. \nMaggiori informazioni sono disponibili al seguente link.
URL:https://www.improntaetica.org/evento/27-09-28-09-italian-energy-summit-2023/
ATTACH;FMTTYPE=image/jpeg:https://www.improntaetica.org/wp-content/uploads/2023/08/24-ore.jpg
END:VEVENT
BEGIN:VEVENT
DTSTART;TZID=Europe/Rome:20230317T090000
DTEND;TZID=Europe/Rome:20230317T160000
DTSTAMP:20260421T002135
CREATED:20230309T144410Z
LAST-MODIFIED:20230309T144410Z
UID:36587-1679043600-1679068800@www.improntaetica.org
SUMMARY:17/03 | Energy technologies for the mobility revolution
DESCRIPTION:Seminario organizzato dal Politecnico di Milano.\nIl Politecnico di Milano organizza un seminario a partecipazione libera dal titolo “Energy technologies for the mobility revolution”. \nL’evento si terrà in forma ibrida\, tramite diretta streaming YouTube e presso il Campus Bovis\, Carassa Dadda Conference Hall\, Politecnico di Milano.  \nE’ possibile registrarsi al seguente link. \nMaggiori informazioni sono disponibili al seguente link. \nSCARICA IL PROGRAMMA
URL:https://www.improntaetica.org/evento/17-03-energy-technologies-for-the-mobility-revolution/
ATTACH;FMTTYPE=image/jpeg:https://www.improntaetica.org/wp-content/uploads/2023/03/SCARICA-IL-VOLANTINO.jpg
END:VEVENT
BEGIN:VEVENT
DTSTART;TZID=Europe/Rome:20221111T100000
DTEND;TZID=Europe/Rome:20221111T130000
DTSTAMP:20260421T002135
CREATED:20221104T143835Z
LAST-MODIFIED:20221104T143835Z
UID:35777-1668160800-1668171600@www.improntaetica.org
SUMMARY:11/11 | Legacoop Bologna: Cooperare per la transizione energetica
DESCRIPTION:Un convegno sulle comunità energetiche rinnovabili cooperative.\nSi terrà l’11 Novembre dalle ore 10:00 alle ore 13:00\, presso il CUBO Unipol in Piazza Sergio Vieira de Mello\, il convegno “Cooperare per la transizione energetica” organizzato da Legacoop Bologna\, socia di Impronta Etica. \nIn risposta alla crisi energetica che si sta abbattendo sul Paese\, si analizzerà il ruolo delle comunità energetiche rinnovabili cooperative\, sistemi energetici locali capaci di riformare il mercato dell’energia e al contempo promuovere comunità responsabili. \nTra i vari ospiti\, segnaliamo anche la presenza di Coopfond\, socia di Impronta Etica. \nMaggiori informazioni sono disponibili al seguente link. \nSCARICA IL PROGRAMMA
URL:https://www.improntaetica.org/evento/11-11-legacoop-bologna-cooperare-per-la-transizione-energetica/
ATTACH;FMTTYPE=image/png:https://www.improntaetica.org/wp-content/uploads/2021/04/legacoop-e1618575610113.png
END:VEVENT
BEGIN:VEVENT
DTSTART;TZID=Europe/Rome:20220502T170000
DTEND;TZID=Europe/Rome:20220502T190000
DTSTAMP:20260421T002135
CREATED:20220429T152730Z
LAST-MODIFIED:20220429T152730Z
UID:34744-1651510800-1651518000@www.improntaetica.org
SUMMARY:02\05 | Bocconi e Fondazione Enrico Mattei: verso un nuovo mercato dell'energia?
DESCRIPTION:Il webinar sulla futura scena del mercato energetico.\nSi terrà il 2 maggio dalle ore 17.00 alle ore 19.00 il webinar in forma ibrida organizzato dall’Università Bocconi in collaborazione con la Fondazione Enrico Mattei incentrato sul tema del futuro ordire e assetto del mercato energetico e sulle sue prospettive future. \nMaggiori informazioni sono disponibili al seguente link.  \nSCARICA IL PROGRAMMA
URL:https://www.improntaetica.org/evento/0205-bocconi-e-fondazione-enrico-mattei-verso-un-nuovo-mercato-dellenergia/
ATTACH;FMTTYPE=image/png:https://www.improntaetica.org/wp-content/uploads/2022/04/fb.png
END:VEVENT
BEGIN:VEVENT
DTSTART;VALUE=DATE:20160518
DTEND;VALUE=DATE:20160521
DTSTAMP:20260421T002135
CREATED:20160518T061516Z
LAST-MODIFIED:20160518T061516Z
UID:10497-1463529600-1463788799@www.improntaetica.org
SUMMARY:Fare i conti con l’ambiente - Ravenna2016
DESCRIPTION:Al via la 9^ edizione.\nLabelab organizza “Fare i conti con l’ambiente – Ravenna2016”\, un festival su rifiuti\, acqua ed energia declinato in tre giorni di incontri\, formazione e informazione\, di approfondimenti e conoscenza delle nuove tecnologie e sui processi industriali\, coniugando cultura e solidarietà e offrendo eventi d’arte e spettacolo.\nLa manifestazione si svolge interamente nelle principali vie del Centro Storico pedonale di Ravenna e all’interno di 12 sale attrezzate.\nFare i conti con l’ambiente ospita anche: la quarta edizione del Corso Residenziale di Alta Formazione sulla Bonifica dei siti contaminati e la prima edizione della Scuola di Alta Formazione in Gestione dei Rifiuti.\nE’ possibile iscriversi agli eventi e avere maggiori informazioni al seguente link.\nGuida all’evento
URL:https://www.improntaetica.org/evento/ravenna2016/
LOCATION:Centro Storico di Ravenna\, Ravenna
END:VEVENT
END:VCALENDAR